BEGIN:VCALENDAR
VERSION:2.0
PRODID:-//College of Visual and Performing Arts - ECPv6.15.20//NONSGML v1.0//EN
CALSCALE:GREGORIAN
METHOD:PUBLISH
X-WR-CALNAME:College of Visual and Performing Arts
X-ORIGINAL-URL:https://vpa.uncg.edu
X-WR-CALDESC:Events for College of Visual and Performing Arts
REFRESH-INTERVAL;VALUE=DURATION:PT1H
X-Robots-Tag:noindex
X-PUBLISHED-TTL:PT1H
BEGIN:VTIMEZONE
TZID:America/New_York
BEGIN:DAYLIGHT
TZOFFSETFROM:-0500
TZOFFSETTO:-0400
TZNAME:EDT
DTSTART:20250309T070000
END:DAYLIGHT
BEGIN:STANDARD
TZOFFSETFROM:-0400
TZOFFSETTO:-0500
TZNAME:EST
DTSTART:20251102T060000
END:STANDARD
BEGIN:DAYLIGHT
TZOFFSETFROM:-0500
TZOFFSETTO:-0400
TZNAME:EDT
DTSTART:20260308T070000
END:DAYLIGHT
BEGIN:STANDARD
TZOFFSETFROM:-0400
TZOFFSETTO:-0500
TZNAME:EST
DTSTART:20261101T060000
END:STANDARD
BEGIN:DAYLIGHT
TZOFFSETFROM:-0500
TZOFFSETTO:-0400
TZNAME:EDT
DTSTART:20270314T070000
END:DAYLIGHT
BEGIN:STANDARD
TZOFFSETFROM:-0400
TZOFFSETTO:-0500
TZNAME:EST
DTSTART:20271107T060000
END:STANDARD
END:VTIMEZONE
BEGIN:VEVENT
DTSTART;TZID=America/New_York:20260428T193000
DTEND;TZID=America/New_York:20260428T210000
DTSTAMP:20260425T074601
CREATED:20260416T182219Z
LAST-MODIFIED:20260416T182759Z
UID:10003911-1777404600-1777410000@vpa.uncg.edu
SUMMARY:University Choirs
DESCRIPTION:Event Details\n\n\n\n\nDownload Program\n\n\n\n\n\nParking\n\n\n\n\n\n\n\n\nThe importance of philanthropy has never been greater. Please consider a gift to the School of Music to support our mission and ensure the future of music at UNCG. \n\n\n\n\nJoin Our Email List\n\n\n\n\n\n\n\n\n\n\nInstagram\n\nFacebook\n\nX\n\nYouTube\n\n\n\n\n\n\n\n\n\n\n\n\n\n\n\n\nCoro di Belle VociChamber SingersShades of BlueUniversity Chorale \n\n\n\n\nUNCG Choirs\nThe UNCG Choral Program is nationally recognized for its excellence\, artistic innovation\, and dynamic performances. Our ensembles offer students a rich and varied choral experience. Through the study of repertoire spanning diverse time periods\, cultures\, and styles\, students engage deeply with both major choral‑orchestral works and intimate chamber literature. The UNCG Choirs have been featured at state\, regional\, national\, and international conferences. \n\n\n\nThe UNCG Choirs are dedicated to the teaching\, performance\, study\, and cultivation of high‑quality choral music. Our mission embraces not only the Western choral canon but also music from a broad range of cultures and from both historical and contemporary composers. \n\n\n\nWe believe in the power of ensemble singing as a distinctive and meaningful form of artistic expression. Through our work\, we strive to foster a community built on trust\, communication\, and expressive freedom. The UNCG Choirs present exceptional performances throughout the year and contribute to the artistic spirit and identity of the university. \n\n\n\nWe are committed to advancing artistry and understanding within the broader choral profession by modeling excellence\, supporting school choral programs\, and collaborating with organizations that share our musical values. \n\n\n\n\nUNCG Choirs\n\n\n\n\nBack to Program
URL:https://vpa.uncg.edu/single-event/university-choirs/
LOCATION:UNCG Auditorium\, 408 Tate Street\, Greensboro\, NC\, 27412\, United States
CATEGORIES:College of Visual and Performing Arts,School of Music
ATTACH;FMTTYPE=image/jpeg:https://vpa.uncg.edu/wp-content/uploads/2026/04/choir-events-feature.jpg
END:VEVENT
END:VCALENDAR