BEGIN:VCALENDAR
VERSION:2.0
PRODID:-//College of Visual and Performing Arts - ECPv6.15.20//NONSGML v1.0//EN
CALSCALE:GREGORIAN
METHOD:PUBLISH
X-ORIGINAL-URL:https://vpa.uncg.edu
X-WR-CALDESC:Events for College of Visual and Performing Arts
REFRESH-INTERVAL;VALUE=DURATION:PT1H
X-Robots-Tag:noindex
X-PUBLISHED-TTL:PT1H
BEGIN:VTIMEZONE
TZID:America/New_York
BEGIN:DAYLIGHT
TZOFFSETFROM:-0500
TZOFFSETTO:-0400
TZNAME:EDT
DTSTART:20250309T070000
END:DAYLIGHT
BEGIN:STANDARD
TZOFFSETFROM:-0400
TZOFFSETTO:-0500
TZNAME:EST
DTSTART:20251102T060000
END:STANDARD
BEGIN:DAYLIGHT
TZOFFSETFROM:-0500
TZOFFSETTO:-0400
TZNAME:EDT
DTSTART:20260308T070000
END:DAYLIGHT
BEGIN:STANDARD
TZOFFSETFROM:-0400
TZOFFSETTO:-0500
TZNAME:EST
DTSTART:20261101T060000
END:STANDARD
BEGIN:DAYLIGHT
TZOFFSETFROM:-0500
TZOFFSETTO:-0400
TZNAME:EDT
DTSTART:20270314T070000
END:DAYLIGHT
BEGIN:STANDARD
TZOFFSETFROM:-0400
TZOFFSETTO:-0500
TZNAME:EST
DTSTART:20271107T060000
END:STANDARD
END:VTIMEZONE
BEGIN:VEVENT
DTSTART;TZID=America/New_York:20260417T173000
DTEND;TZID=America/New_York:20260417T190000
DTSTAMP:20260422T015007
CREATED:20260323T134430Z
LAST-MODIFIED:20260408T160720Z
UID:10003808-1776447000-1776452400@vpa.uncg.edu
SUMMARY:Abigail Stewart\, piano
DESCRIPTION:Event Details\n\n\n\n\nDownload Program\n\n\n\n\n\nParking\n\n\n\n\n\n\n\n\nThe importance of philanthropy has never been greater. Please consider a gift to the School of Music to support our mission and ensure the future of music at UNCG. \n\n\n\n\n\n\n\n\n\nInstagram\n\nFacebook\n\nX\n\nYouTube
URL:https://vpa.uncg.edu/single-event/abigail-stewart-piano/
LOCATION:Tew Recital Hall\, 100 McIver St\, Greensboro\, 27412\, United States
CATEGORIES:College of Visual and Performing Arts,School of Music
ATTACH;FMTTYPE=image/jpeg:https://vpa.uncg.edu/wp-content/uploads/2025/09/student-recital-feature.jpg
END:VEVENT
BEGIN:VEVENT
DTSTART;TZID=America/New_York:20260416T193000
DTEND;TZID=America/New_York:20260416T210000
DTSTAMP:20260422T015007
CREATED:20251210T212331Z
LAST-MODIFIED:20260408T160541Z
UID:10003626-1776367800-1776373200@vpa.uncg.edu
SUMMARY:Piano Studio Junior\, Senior\, and Graduate Recital
DESCRIPTION:Event Details\n\n\n\n\nDownload Program\n\n\n\n\n\nParking\n\n\n\n\n\n\n\n\nThe importance of philanthropy has never been greater. Please consider a gift to the School of Music to support our mission and ensure the future of music at UNCG. \n\n\n\n\nJoin Our Email List\n\n\n\n\n\n\n\n\n\n\nInstagram\n\nFacebook\n\nX\n\nYouTube
URL:https://vpa.uncg.edu/single-event/piano-studio-junior-senior-and-graduate-recital-2/
LOCATION:Tew Recital Hall\, 100 McIver St\, Greensboro\, 27412\, United States
CATEGORIES:College of Visual and Performing Arts,School of Music
ATTACH;FMTTYPE=image/jpeg:https://vpa.uncg.edu/wp-content/uploads/2025/08/studio-recital-feature.jpeg
END:VEVENT
BEGIN:VEVENT
DTSTART;TZID=America/New_York:20260415T193000
DTEND;TZID=America/New_York:20260415T210000
DTSTAMP:20260422T015007
CREATED:20251210T212017Z
LAST-MODIFIED:20260408T160249Z
UID:10003625-1776281400-1776286800@vpa.uncg.edu
SUMMARY:TubaBand
DESCRIPTION:Event Details\n\n\n\n\nDownload Program\n\n\n\n\n\nParking\n\n\n\n\n\n\n\n\nThe importance of philanthropy has never been greater. Please consider a gift to the School of Music to support our mission and ensure the future of music at UNCG. \n\n\n\n\nJoin Our Email List\n\n\n\n\n\n\n\n\n\n\nInstagram\n\nFacebook\n\nX\n\nYouTube
URL:https://vpa.uncg.edu/single-event/tubaband-5/
LOCATION:Tew Recital Hall\, 100 McIver St\, Greensboro\, 27412\, United States
CATEGORIES:College of Visual and Performing Arts,School of Music
ATTACH;FMTTYPE=image/jpeg:https://vpa.uncg.edu/wp-content/uploads/2025/08/studio-recital-feature.jpeg
END:VEVENT
BEGIN:VEVENT
DTSTART;TZID=America/New_York:20260415T173000
DTEND;TZID=America/New_York:20260415T190000
DTSTAMP:20260422T015007
CREATED:20260325T202010Z
LAST-MODIFIED:20260408T160206Z
UID:10003840-1776274200-1776279600@vpa.uncg.edu
SUMMARY:Sam Uhrlass\, saxophone
DESCRIPTION:Event Details\n\n\n\n\nDownload Program\n\n\n\n\n\nParking\n\n\n\n\n\n\n\n\nThe importance of philanthropy has never been greater. Please consider a gift to the School of Music to support our mission and ensure the future of music at UNCG. \n\n\n\n\n\n\n\n\n\nInstagram\n\nFacebook\n\nX\n\nYouTube
URL:https://vpa.uncg.edu/single-event/sam-uhrlass-saxophone/
LOCATION:Tew Recital Hall\, 100 McIver St\, Greensboro\, 27412\, United States
CATEGORIES:College of Visual and Performing Arts,School of Music
ATTACH;FMTTYPE=image/jpeg:https://vpa.uncg.edu/wp-content/uploads/2025/09/student-recital-feature.jpg
END:VEVENT
BEGIN:VEVENT
DTSTART;TZID=America/New_York:20260414T193000
DTEND;TZID=America/New_York:20260414T210000
DTSTAMP:20260422T015007
CREATED:20251210T211303Z
LAST-MODIFIED:20260408T160038Z
UID:10003624-1776195000-1776200400@vpa.uncg.edu
SUMMARY:Piano Studio First and Second Year Recital
DESCRIPTION:Event Details\n\n\n\n\nDownload Program\n\n\n\n\n\nParking\n\n\n\n\n\n\n\n\nThe importance of philanthropy has never been greater. Please consider a gift to the School of Music to support our mission and ensure the future of music at UNCG. \n\n\n\n\n\n\n\n\n\nInstagram\n\nFacebook\n\nX\n\nYouTube
URL:https://vpa.uncg.edu/single-event/piano-studio-first-and-second-year-recital/
LOCATION:Tew Recital Hall\, 100 McIver St\, Greensboro\, 27412\, United States
CATEGORIES:College of Visual and Performing Arts,School of Music
ATTACH;FMTTYPE=image/jpeg:https://vpa.uncg.edu/wp-content/uploads/2025/08/studio-recital-feature.jpeg
END:VEVENT
BEGIN:VEVENT
DTSTART;TZID=America/New_York:20260414T173000
DTEND;TZID=America/New_York:20260414T190000
DTSTAMP:20260422T015007
CREATED:20260312T202309Z
LAST-MODIFIED:20260408T155935Z
UID:10003775-1776187800-1776193200@vpa.uncg.edu
SUMMARY:Jake Brown\, guitar
DESCRIPTION:Event Details\n\n\n\n\nDownload Program\n\n\n\n\n\nParking\n\n\n\n\n\n\n\n\nThe importance of philanthropy has never been greater. Please consider a gift to the School of Music to support our mission and ensure the future of music at UNCG. \n\n\n\n\n\n\n\n\n\nInstagram\n\nFacebook\n\nX\n\nYouTube
URL:https://vpa.uncg.edu/single-event/jake-brown-guitar/
LOCATION:Tew Recital Hall\, 100 McIver St\, Greensboro\, 27412\, United States
CATEGORIES:College of Visual and Performing Arts,School of Music
ATTACH;FMTTYPE=image/jpeg:https://vpa.uncg.edu/wp-content/uploads/2025/09/student-recital-feature.jpg
END:VEVENT
BEGIN:VEVENT
DTSTART;TZID=America/New_York:20260413T193000
DTEND;TZID=America/New_York:20260413T210000
DTSTAMP:20260422T015007
CREATED:20260323T140528Z
LAST-MODIFIED:20260408T155622Z
UID:10003809-1776108600-1776114000@vpa.uncg.edu
SUMMARY:Clarinet Studio Undergraduate Showcase
DESCRIPTION:Event Details\n\n\n\n\nDownload Program\n\n\n\n\n\nParking\n\n\n\n\n\n\n\n\nThe importance of philanthropy has never been greater. Please consider a gift to the School of Music to support our mission and ensure the future of music at UNCG. \n\n\n\n\n\n\n\n\n\nInstagram\n\nFacebook\n\nX\n\nYouTube
URL:https://vpa.uncg.edu/single-event/clarinet-studio-undergraduate-showcase-3/
LOCATION:Tew Recital Hall\, 100 McIver St\, Greensboro\, 27412\, United States
CATEGORIES:College of Visual and Performing Arts,School of Music
ATTACH;FMTTYPE=image/jpeg:https://vpa.uncg.edu/wp-content/uploads/2025/08/studio-recital-feature.jpeg
END:VEVENT
BEGIN:VEVENT
DTSTART;TZID=America/New_York:20260412T193000
DTEND;TZID=America/New_York:20260412T210000
DTSTAMP:20260422T015007
CREATED:20260401T172549Z
LAST-MODIFIED:20260408T155334Z
UID:10003872-1776022200-1776027600@vpa.uncg.edu
SUMMARY:Calvin Godfrey\, trumpet
DESCRIPTION:Event Details\n\n\n\n\nDownload Program\n\n\n\n\n\nParking\n\n\n\n\n\n\n\n\nThe importance of philanthropy has never been greater. Please consider a gift to the School of Music to support our mission and ensure the future of music at UNCG. \n\n\n\n\n\n\n\n\n\nInstagram\n\nFacebook\n\nX\n\nYouTube
URL:https://vpa.uncg.edu/single-event/calvin-godfrey-trumpet-2/
LOCATION:Tew Recital Hall\, 100 McIver St\, Greensboro\, 27412\, United States
CATEGORIES:College of Visual and Performing Arts,School of Music
ATTACH;FMTTYPE=image/jpeg:https://vpa.uncg.edu/wp-content/uploads/2025/09/student-recital-feature.jpg
END:VEVENT
BEGIN:VEVENT
DTSTART;TZID=America/New_York:20260412T173000
DTEND;TZID=America/New_York:20260412T190000
DTSTAMP:20260422T015007
CREATED:20260330T193337Z
LAST-MODIFIED:20260408T155440Z
UID:10003867-1776015000-1776020400@vpa.uncg.edu
SUMMARY:John Cowger\, euphonium
DESCRIPTION:Event Details\n\n\n\n\nDownload Program\n\n\n\n\n\nParking\n\n\n\n\n\n\n\n\nThe importance of philanthropy has never been greater. Please consider a gift to the School of Music to support our mission and ensure the future of music at UNCG. \n\n\n\n\n\n\n\n\n\nInstagram\n\nFacebook\n\nX\n\nYouTube
URL:https://vpa.uncg.edu/single-event/john-cowger-euphonium/
LOCATION:Tew Recital Hall\, 100 McIver St\, Greensboro\, 27412\, United States
CATEGORIES:College of Visual and Performing Arts,School of Music
ATTACH;FMTTYPE=image/jpeg:https://vpa.uncg.edu/wp-content/uploads/2025/09/student-recital-feature.jpg
END:VEVENT
BEGIN:VEVENT
DTSTART;TZID=America/New_York:20260412T153000
DTEND;TZID=America/New_York:20260412T170000
DTSTAMP:20260422T015007
CREATED:20260320T174716Z
LAST-MODIFIED:20260408T155056Z
UID:10003803-1776007800-1776013200@vpa.uncg.edu
SUMMARY:Colleen McCracken\, flute
DESCRIPTION:Event Details\n\n\n\n\nDownload Program\n\n\n\n\n\nParking\n\n\n\n\n\n\n\n\nThe importance of philanthropy has never been greater. Please consider a gift to the School of Music to support our mission and ensure the future of music at UNCG. \n\n\n\n\n\n\n\n\n\nInstagram\n\nFacebook\n\nX\n\nYouTube
URL:https://vpa.uncg.edu/single-event/colleen-mccracken-flute/
LOCATION:Tew Recital Hall\, 100 McIver St\, Greensboro\, 27412\, United States
CATEGORIES:College of Visual and Performing Arts,School of Music
ATTACH;FMTTYPE=image/jpeg:https://vpa.uncg.edu/wp-content/uploads/2025/09/student-recital-feature.jpg
END:VEVENT
BEGIN:VEVENT
DTSTART;TZID=America/New_York:20260412T133000
DTEND;TZID=America/New_York:20260412T150000
DTSTAMP:20260422T015007
CREATED:20260401T172753Z
LAST-MODIFIED:20260409T134341Z
UID:10003873-1776000600-1776006000@vpa.uncg.edu
SUMMARY:Ziyi Wang\, collaborative piano
DESCRIPTION:Event Details\n\n\n\n\nDownload Program\n\n\n\n\n\nParking\n\n\n\n\n\n\n\n\nThe importance of philanthropy has never been greater. Please consider a gift to the School of Music to support our mission and ensure the future of music at UNCG. \n\n\n\n\n\n\n\n\n\nInstagram\n\nFacebook\n\nX\n\nYouTube
URL:https://vpa.uncg.edu/single-event/ziyi-wang-collaborative-piano-2/
LOCATION:Tew Recital Hall\, 100 McIver St\, Greensboro\, 27412\, United States
CATEGORIES:College of Visual and Performing Arts,School of Music
ATTACH;FMTTYPE=image/jpeg:https://vpa.uncg.edu/wp-content/uploads/2025/09/student-recital-feature.jpg
END:VEVENT
BEGIN:VEVENT
DTSTART;TZID=America/New_York:20260411T193000
DTEND;TZID=America/New_York:20260411T210000
DTSTAMP:20260422T015007
CREATED:20260325T201447Z
LAST-MODIFIED:20260408T154820Z
UID:10003839-1775935800-1775941200@vpa.uncg.edu
SUMMARY:Sam Ely\, percussion
DESCRIPTION:Event Details\n\n\n\n\nDownload Program\n\n\n\n\n\nParking\n\n\n\n\n\n\n\n\nThe importance of philanthropy has never been greater. Please consider a gift to the School of Music to support our mission and ensure the future of music at UNCG. \n\n\n\n\n\n\n\n\n\nInstagram\n\nFacebook\n\nX\n\nYouTube
URL:https://vpa.uncg.edu/single-event/sam-ely-percussion-2/
LOCATION:Tew Recital Hall\, 100 McIver St\, Greensboro\, 27412\, United States
CATEGORIES:College of Visual and Performing Arts,School of Music
ATTACH;FMTTYPE=image/jpeg:https://vpa.uncg.edu/wp-content/uploads/2025/09/student-recital-feature.jpg
END:VEVENT
BEGIN:VEVENT
DTSTART;TZID=America/New_York:20260411T173000
DTEND;TZID=America/New_York:20260411T190000
DTSTAMP:20260422T015007
CREATED:20260316T160416Z
LAST-MODIFIED:20260408T154728Z
UID:10003786-1775928600-1775934000@vpa.uncg.edu
SUMMARY:Justin Johnson\, percussion
DESCRIPTION:Event Details\n\n\n\n\nDownload Program\n\n\n\n\n\nParking\n\n\n\n\n\n\n\n\nThe importance of philanthropy has never been greater. Please consider a gift to the School of Music to support our mission and ensure the future of music at UNCG. \n\n\n\n\n\n\n\n\n\nInstagram\n\nFacebook\n\nX\n\nYouTube
URL:https://vpa.uncg.edu/single-event/justin-johnson-percussion/
LOCATION:Tew Recital Hall\, 100 McIver St\, Greensboro\, 27412\, United States
CATEGORIES:College of Visual and Performing Arts,School of Music
ATTACH;FMTTYPE=image/jpeg:https://vpa.uncg.edu/wp-content/uploads/2025/09/student-recital-feature.jpg
END:VEVENT
BEGIN:VEVENT
DTSTART;TZID=America/New_York:20260411T153000
DTEND;TZID=America/New_York:20260411T170000
DTSTAMP:20260422T015007
CREATED:20260325T195850Z
LAST-MODIFIED:20260408T154648Z
UID:10003838-1775921400-1775926800@vpa.uncg.edu
SUMMARY:Joeli Schilling\, flute
DESCRIPTION:Event Details\n\n\n\n\nDownload Program\n\n\n\n\n\nParking\n\n\n\n\n\n\n\n\nThe importance of philanthropy has never been greater. Please consider a gift to the School of Music to support our mission and ensure the future of music at UNCG. \n\n\n\n\n\n\n\n\n\nInstagram\n\nFacebook\n\nX\n\nYouTube
URL:https://vpa.uncg.edu/single-event/joeli-schilling-flute/
LOCATION:Tew Recital Hall\, 100 McIver St\, Greensboro\, 27412\, United States
CATEGORIES:College of Visual and Performing Arts,School of Music
ATTACH;FMTTYPE=image/jpeg:https://vpa.uncg.edu/wp-content/uploads/2025/09/student-recital-feature.jpg
END:VEVENT
BEGIN:VEVENT
DTSTART;TZID=America/New_York:20260411T133000
DTEND;TZID=America/New_York:20260411T150000
DTSTAMP:20260422T015007
CREATED:20260331T174850Z
LAST-MODIFIED:20260408T154510Z
UID:10003871-1775914200-1775919600@vpa.uncg.edu
SUMMARY:Travis Moffitt\, tuba
DESCRIPTION:Event Details\n\n\n\n\nDownload Program\n\n\n\n\n\nParking\n\n\n\n\n\n\n\n\nThe importance of philanthropy has never been greater. Please consider a gift to the School of Music to support our mission and ensure the future of music at UNCG. \n\n\n\n\n\n\n\n\n\nInstagram\n\nFacebook\n\nX\n\nYouTube
URL:https://vpa.uncg.edu/single-event/travis-moffitt-tuba/
LOCATION:Tew Recital Hall\, 100 McIver St\, Greensboro\, 27412\, United States
CATEGORIES:College of Visual and Performing Arts,School of Music
ATTACH;FMTTYPE=image/jpeg:https://vpa.uncg.edu/wp-content/uploads/2025/09/student-recital-feature.jpg
END:VEVENT
BEGIN:VEVENT
DTSTART;TZID=America/New_York:20260411T113000
DTEND;TZID=America/New_York:20260411T130000
DTSTAMP:20260422T015007
CREATED:20260313T191657Z
LAST-MODIFIED:20260408T154408Z
UID:10003784-1775907000-1775912400@vpa.uncg.edu
SUMMARY:Jacob Siegert\, percussion
DESCRIPTION:Event Details\n\n\n\n\nDownload Program\n\n\n\n\n\nParking\n\n\n\n\n\n\n\n\nThe importance of philanthropy has never been greater. Please consider a gift to the School of Music to support our mission and ensure the future of music at UNCG. \n\n\n\n\n\n\n\n\n\nInstagram\n\nFacebook\n\nX\n\nYouTube
URL:https://vpa.uncg.edu/single-event/jacob-siegert-percussion-2/
LOCATION:Tew Recital Hall\, 100 McIver St\, Greensboro\, 27412\, United States
CATEGORIES:College of Visual and Performing Arts,School of Music
ATTACH;FMTTYPE=image/jpeg:https://vpa.uncg.edu/wp-content/uploads/2025/09/student-recital-feature.jpg
END:VEVENT
BEGIN:VEVENT
DTSTART;TZID=America/New_York:20260410T193000
DTEND;TZID=America/New_York:20260410T210000
DTSTAMP:20260422T015007
CREATED:20260320T153927Z
LAST-MODIFIED:20260408T154120Z
UID:10003802-1775849400-1775854800@vpa.uncg.edu
SUMMARY:Eli Alvarez Lopez\, percussion
DESCRIPTION:Event Details\n\n\n\n\nDownload Program\n\n\n\n\n\nParking\n\n\n\n\n\n\n\n\nThe importance of philanthropy has never been greater. Please consider a gift to the School of Music to support our mission and ensure the future of music at UNCG. \n\n\n\n\n\n\n\n\n\nInstagram\n\nFacebook\n\nX\n\nYouTube
URL:https://vpa.uncg.edu/single-event/eli-alvarez-lopez-percussion/
LOCATION:Tew Recital Hall\, 100 McIver St\, Greensboro\, 27412\, United States
CATEGORIES:College of Visual and Performing Arts,School of Music
ATTACH;FMTTYPE=image/jpeg:https://vpa.uncg.edu/wp-content/uploads/2025/09/student-recital-feature.jpg
END:VEVENT
BEGIN:VEVENT
DTSTART;TZID=America/New_York:20260410T173000
DTEND;TZID=America/New_York:20260410T190000
DTSTAMP:20260422T015007
CREATED:20260330T203911Z
LAST-MODIFIED:20260408T154004Z
UID:10003869-1775842200-1775847600@vpa.uncg.edu
SUMMARY:Clarinet Ensemble
DESCRIPTION:Event Details\n\n\n\n\nDownload Program\n\n\n\n\n\nParking\n\n\n\n\n\n\n\n\nThe importance of philanthropy has never been greater. Please consider a gift to the School of Music to support our mission and ensure the future of music at UNCG. \n\n\n\n\n\n\n\n\n\nInstagram\n\nFacebook\n\nX\n\nYouTube
URL:https://vpa.uncg.edu/single-event/clarinet-ensemble/
LOCATION:Tew Recital Hall\, 100 McIver St\, Greensboro\, 27412\, United States
CATEGORIES:College of Visual and Performing Arts,School of Music
ATTACH;FMTTYPE=image/jpeg:https://vpa.uncg.edu/wp-content/uploads/2026/03/clarinet-ensemble-feature.jpg
END:VEVENT
BEGIN:VEVENT
DTSTART;TZID=America/New_York:20260410T153000
DTEND;TZID=America/New_York:20260410T170000
DTSTAMP:20260422T015007
CREATED:20260330T164606Z
LAST-MODIFIED:20260408T153926Z
UID:10003864-1775835000-1775840400@vpa.uncg.edu
SUMMARY:Kristen Daniel\, oboe
DESCRIPTION:Event Details\n\n\n\n\nDownload Program\n\n\n\n\n\nParking\n\n\n\n\n\n\n\n\nThe importance of philanthropy has never been greater. Please consider a gift to the School of Music to support our mission and ensure the future of music at UNCG. \n\n\n\n\n\n\n\n\n\nInstagram\n\nFacebook\n\nX\n\nYouTube
URL:https://vpa.uncg.edu/single-event/kristen-daniel-oboe-2/
LOCATION:Tew Recital Hall\, 100 McIver St\, Greensboro\, 27412\, United States
CATEGORIES:College of Visual and Performing Arts,School of Music
ATTACH;FMTTYPE=image/jpeg:https://vpa.uncg.edu/wp-content/uploads/2025/09/student-recital-feature.jpg
END:VEVENT
BEGIN:VEVENT
DTSTART;TZID=America/New_York:20260409T173000
DTEND;TZID=America/New_York:20260409T190000
DTSTAMP:20260422T015007
CREATED:20260325T193818Z
LAST-MODIFIED:20260408T153730Z
UID:10003835-1775755800-1775761200@vpa.uncg.edu
SUMMARY:Andy Cico\, tenor
DESCRIPTION:Event Details\n\n\n\n\nDownload Program\n\n\n\n\n\nParking\n\n\n\n\n\n\n\n\nThe importance of philanthropy has never been greater. Please consider a gift to the School of Music to support our mission and ensure the future of music at UNCG. \n\n\n\n\n\n\n\n\n\nInstagram\n\nFacebook\n\nX\n\nYouTube
URL:https://vpa.uncg.edu/single-event/andy-cico-tenor/
LOCATION:Tew Recital Hall\, 100 McIver St\, Greensboro\, 27412\, United States
CATEGORIES:College of Visual and Performing Arts,School of Music
ATTACH;FMTTYPE=image/jpeg:https://vpa.uncg.edu/wp-content/uploads/2025/09/student-recital-feature.jpg
END:VEVENT
BEGIN:VEVENT
DTSTART;TZID=America/New_York:20260408T193000
DTEND;TZID=America/New_York:20260408T210000
DTSTAMP:20260422T015007
CREATED:20251210T204237Z
LAST-MODIFIED:20260408T153626Z
UID:10003620-1775676600-1775682000@vpa.uncg.edu
SUMMARY:Tuba-Euphonium Studio Recital
DESCRIPTION:Event Details\n\n\n\n\nDownload Program\n\n\n\n\n\nParking\n\n\n\n\n\n\n\n\nThe importance of philanthropy has never been greater. Please consider a gift to the School of Music to support our mission and ensure the future of music at UNCG. \n\n\n\n\n\n\n\n\n\nInstagram\n\nFacebook\n\nX\n\nYouTube
URL:https://vpa.uncg.edu/single-event/tuba-euphonium-studio-recital-2/
LOCATION:Tew Recital Hall\, 100 McIver St\, Greensboro\, 27412\, United States
CATEGORIES:College of Visual and Performing Arts,School of Music
ATTACH;FMTTYPE=image/jpeg:https://vpa.uncg.edu/wp-content/uploads/2025/08/studio-recital-feature.jpeg
END:VEVENT
BEGIN:VEVENT
DTSTART;TZID=America/New_York:20260408T173000
DTEND;TZID=America/New_York:20260408T190000
DTSTAMP:20260422T015007
CREATED:20260312T201817Z
LAST-MODIFIED:20260408T153547Z
UID:10003774-1775669400-1775674800@vpa.uncg.edu
SUMMARY:Night Train Ensemble
DESCRIPTION:Event Details\n\n\n\n\nDownload Program\n\n\n\n\n\nParking\n\n\n\n\n\n\n\n\nThe importance of philanthropy has never been greater. Please consider a gift to the School of Music to support our mission and ensure the future of music at UNCG. \n\n\n\n\n\n\n\n\n\nInstagram\n\nFacebook\n\nX\n\nYouTube
URL:https://vpa.uncg.edu/single-event/night-train-ensemble/
LOCATION:Tew Recital Hall\, 100 McIver St\, Greensboro\, 27412\, United States
CATEGORIES:College of Visual and Performing Arts,School of Music
ATTACH;FMTTYPE=image/jpeg:https://vpa.uncg.edu/wp-content/uploads/2025/09/student-recital-feature.jpg
END:VEVENT
BEGIN:VEVENT
DTSTART;TZID=America/New_York:20260407T193000
DTEND;TZID=America/New_York:20260407T210000
DTSTAMP:20260422T015007
CREATED:20251210T203601Z
LAST-MODIFIED:20260408T180620Z
UID:10003619-1775590200-1775595600@vpa.uncg.edu
SUMMARY:Percussion Ensemble
DESCRIPTION:Event Details\n\n\n\n\nDownload Program\n\n\n\n\n\nParking\n\n\n\n\n\n\n\n\nThe importance of philanthropy has never been greater. Please consider a gift to the School of Music to support our mission and ensure the future of music at UNCG. \n\n\n\n\nJoin Our Email List\n\n\n\n\n\n\n\n\n\n\nInstagram\n\nFacebook\n\nX\n\nYouTube\n\n\n\n\n\n\n\nhttps://youtube.com/live/QBe34gVFWAE
URL:https://vpa.uncg.edu/single-event/percussion-ensemble-7/
LOCATION:Tew Recital Hall\, 100 McIver St\, Greensboro\, 27412\, United States
CATEGORIES:College of Visual and Performing Arts,School of Music
ATTACH;FMTTYPE=image/jpeg:https://vpa.uncg.edu/wp-content/uploads/2025/08/studio-recital-feature.jpeg
END:VEVENT
BEGIN:VEVENT
DTSTART;TZID=America/New_York:20260402T193000
DTEND;TZID=America/New_York:20260402T210000
DTSTAMP:20260422T015007
CREATED:20251210T202600Z
LAST-MODIFIED:20260323T134821Z
UID:10003618-1775158200-1775163600@vpa.uncg.edu
SUMMARY:Present Continuous
DESCRIPTION:Event Details\n\n\n\n\nDownload Program\n\n\n\n\n\nParking\n\n\n\n\n\n\n\n\nThe importance of philanthropy has never been greater. Please consider a gift to the School of Music to support our mission and ensure the future of music at UNCG. \n\n\n\n\nJoin Our Email List\n\n\n\n\n\n\n\n\n\n\nInstagram\n\nFacebook\n\nX\n\nYouTube\n\n\n\n\n\n\n\n\n\n\n\n\n\n\n\n\nAnnie Jeng and Luke Ellard\, directorsMichaela Kelly\, soprano
URL:https://vpa.uncg.edu/single-event/present-continuous-3/
LOCATION:Tew Recital Hall\, 100 McIver St\, Greensboro\, 27412\, United States
CATEGORIES:College of Visual and Performing Arts,School of Music
ATTACH;FMTTYPE=image/jpeg:https://vpa.uncg.edu/wp-content/uploads/2025/08/Tew-Recital-Hall-Stage.jpg
END:VEVENT
BEGIN:VEVENT
DTSTART;TZID=America/New_York:20260402T173000
DTEND;TZID=America/New_York:20260402T190000
DTSTAMP:20260422T015007
CREATED:20260313T172505Z
LAST-MODIFIED:20260316T194652Z
UID:10003780-1775151000-1775156400@vpa.uncg.edu
SUMMARY:Emma Grace Homoky\, oboe
DESCRIPTION:Event Details\n\n\n\n\nDownload Program\n\n\n\n\n\nParking\n\n\n\n\n\n\n\n\nThe importance of philanthropy has never been greater. Please consider a gift to the School of Music to support our mission and ensure the future of music at UNCG. \n\n\n\n\n\n\n\n\n\nInstagram\n\nFacebook\n\nX\n\nYouTube
URL:https://vpa.uncg.edu/single-event/emma-grace-homoky-oboe-2/
LOCATION:Tew Recital Hall\, 100 McIver St\, Greensboro\, 27412\, United States
CATEGORIES:College of Visual and Performing Arts,School of Music
ATTACH;FMTTYPE=image/jpeg:https://vpa.uncg.edu/wp-content/uploads/2025/09/student-recital-feature.jpg
END:VEVENT
BEGIN:VEVENT
DTSTART;TZID=America/New_York:20260401T193000
DTEND;TZID=America/New_York:20260401T210000
DTSTAMP:20260422T015007
CREATED:20251210T202209Z
LAST-MODIFIED:20260316T194059Z
UID:10003617-1775071800-1775077200@vpa.uncg.edu
SUMMARY:Horn Choir
DESCRIPTION:Event Details\n\n\n\n\nDownload Program\n\n\n\n\n\nParking\n\n\n\n\n\n\n\n\nThe importance of philanthropy has never been greater. Please consider a gift to the School of Music to support our mission and ensure the future of music at UNCG. \n\n\n\n\nJoin Our Email List\n\n\n\n\n\n\n\n\n\n\nInstagram\n\nFacebook\n\nX\n\nYouTube
URL:https://vpa.uncg.edu/single-event/horn-choir-7/
LOCATION:Tew Recital Hall\, 100 McIver St\, Greensboro\, 27412\, United States
CATEGORIES:College of Visual and Performing Arts,School of Music
ATTACH;FMTTYPE=image/jpeg:https://vpa.uncg.edu/wp-content/uploads/2025/08/studio-recital-feature.jpeg
END:VEVENT
BEGIN:VEVENT
DTSTART;TZID=America/New_York:20260401T173000
DTEND;TZID=America/New_York:20260401T190000
DTSTAMP:20260422T015007
CREATED:20260313T200522Z
LAST-MODIFIED:20260316T193631Z
UID:10003785-1775064600-1775070000@vpa.uncg.edu
SUMMARY:Khaleigha Holdip\, mezzo-soprano
DESCRIPTION:Event Details\n\n\n\n\nDownload Program\n\n\n\n\n\nParking\n\n\n\n\n\n\n\n\nThe importance of philanthropy has never been greater. Please consider a gift to the School of Music to support our mission and ensure the future of music at UNCG. \n\n\n\n\n\n\n\n\n\nInstagram\n\nFacebook\n\nX\n\nYouTube
URL:https://vpa.uncg.edu/single-event/khaleigha-holdip-mezzo-soprano/
LOCATION:Tew Recital Hall\, 100 McIver St\, Greensboro\, 27412\, United States
CATEGORIES:College of Visual and Performing Arts,School of Music
ATTACH;FMTTYPE=image/jpeg:https://vpa.uncg.edu/wp-content/uploads/2025/09/student-recital-feature.jpg
END:VEVENT
BEGIN:VEVENT
DTSTART;TZID=America/New_York:20260331T193000
DTEND;TZID=America/New_York:20260331T210000
DTSTAMP:20260422T015007
CREATED:20260316T161836Z
LAST-MODIFIED:20260316T193237Z
UID:10003788-1774985400-1774990800@vpa.uncg.edu
SUMMARY:Hayley Jensen\, clarinet
DESCRIPTION:Event Details\n\n\n\n\nDownload Program\n\n\n\n\n\nParking\n\n\n\n\n\n\n\n\nThe importance of philanthropy has never been greater. Please consider a gift to the School of Music to support our mission and ensure the future of music at UNCG. \n\n\n\n\n\n\n\n\n\nInstagram\n\nFacebook\n\nX\n\nYouTube
URL:https://vpa.uncg.edu/single-event/hayley-jensen-clarinet-2/
LOCATION:Tew Recital Hall\, 100 McIver St\, Greensboro\, 27412\, United States
CATEGORIES:College of Visual and Performing Arts,School of Music
ATTACH;FMTTYPE=image/jpeg:https://vpa.uncg.edu/wp-content/uploads/2025/09/student-recital-feature.jpg
END:VEVENT
BEGIN:VEVENT
DTSTART;TZID=America/New_York:20260330T193000
DTEND;TZID=America/New_York:20260330T210000
DTSTAMP:20260422T015007
CREATED:20260304T163635Z
LAST-MODIFIED:20260316T193015Z
UID:10003757-1774899000-1774904400@vpa.uncg.edu
SUMMARY:Allyson C. Harvel\, composer
DESCRIPTION:Event Details\n\n\n\n\nDownload Program\n\n\n\n\n\nParking\n\n\n\n\n\n\n\n\nThe importance of philanthropy has never been greater. Please consider a gift to the School of Music to support our mission and ensure the future of music at UNCG. \n\n\n\n\n\n\n\n\n\nInstagram\n\nFacebook\n\nX\n\nYouTube
URL:https://vpa.uncg.edu/single-event/allyson-c-harvel-composer/
LOCATION:Tew Recital Hall\, 100 McIver St\, Greensboro\, 27412\, United States
CATEGORIES:College of Visual and Performing Arts,School of Music
ATTACH;FMTTYPE=image/jpeg:https://vpa.uncg.edu/wp-content/uploads/2025/09/student-recital-feature.jpg
END:VEVENT
BEGIN:VEVENT
DTSTART;TZID=America/New_York:20260330T173000
DTEND;TZID=America/New_York:20260330T190000
DTSTAMP:20260422T015007
CREATED:20260304T164609Z
LAST-MODIFIED:20260316T192832Z
UID:10003759-1774891800-1774897200@vpa.uncg.edu
SUMMARY:Graham Marvell\, clarinet
DESCRIPTION:Event Details\n\n\n\n\nDownload Program\n\n\n\n\n\nParking\n\n\n\n\n\n\n\n\nThe importance of philanthropy has never been greater. Please consider a gift to the School of Music to support our mission and ensure the future of music at UNCG. \n\n\n\n\n\n\n\n\n\nInstagram\n\nFacebook\n\nX\n\nYouTube
URL:https://vpa.uncg.edu/single-event/graham-marvell-clarinet/
LOCATION:Tew Recital Hall\, 100 McIver St\, Greensboro\, 27412\, United States
CATEGORIES:College of Visual and Performing Arts,School of Music
ATTACH;FMTTYPE=image/jpeg:https://vpa.uncg.edu/wp-content/uploads/2025/09/student-recital-feature.jpg
END:VEVENT
END:VCALENDAR