BEGIN:VCALENDAR
VERSION:2.0
PRODID:-//College of Visual and Performing Arts - ECPv6.15.20//NONSGML v1.0//EN
CALSCALE:GREGORIAN
METHOD:PUBLISH
X-WR-CALNAME:College of Visual and Performing Arts
X-ORIGINAL-URL:https://vpa.uncg.edu
X-WR-CALDESC:Events for College of Visual and Performing Arts
REFRESH-INTERVAL;VALUE=DURATION:PT1H
X-Robots-Tag:noindex
X-PUBLISHED-TTL:PT1H
BEGIN:VTIMEZONE
TZID:America/New_York
BEGIN:DAYLIGHT
TZOFFSETFROM:-0500
TZOFFSETTO:-0400
TZNAME:EDT
DTSTART:20250309T070000
END:DAYLIGHT
BEGIN:STANDARD
TZOFFSETFROM:-0400
TZOFFSETTO:-0500
TZNAME:EST
DTSTART:20251102T060000
END:STANDARD
BEGIN:DAYLIGHT
TZOFFSETFROM:-0500
TZOFFSETTO:-0400
TZNAME:EDT
DTSTART:20260308T070000
END:DAYLIGHT
BEGIN:STANDARD
TZOFFSETFROM:-0400
TZOFFSETTO:-0500
TZNAME:EST
DTSTART:20261101T060000
END:STANDARD
BEGIN:DAYLIGHT
TZOFFSETFROM:-0500
TZOFFSETTO:-0400
TZNAME:EDT
DTSTART:20270314T070000
END:DAYLIGHT
BEGIN:STANDARD
TZOFFSETFROM:-0400
TZOFFSETTO:-0500
TZNAME:EST
DTSTART:20271107T060000
END:STANDARD
END:VTIMEZONE
BEGIN:VEVENT
DTSTART;TZID=America/New_York:20260427T173000
DTEND;TZID=America/New_York:20260427T190000
DTSTAMP:20260422T002433
CREATED:20251210T213650Z
LAST-MODIFIED:20260221T145551Z
UID:10003629-1777311000-1777316400@vpa.uncg.edu
SUMMARY:Old Time Ensemble
DESCRIPTION:Event Details\n\n\n\n\nDownload Program\n\n\n\n\n\nParking\n\n\n\n\n\n\n\n\nThe importance of philanthropy has never been greater. Please consider a gift to the School of Music to support our mission and ensure the future of music at UNCG. \n\n\n\n\nJoin Our Email List\n\n\n\n\n\n\n\n\n\n\nInstagram\n\nFacebook\n\nX\n\nYouTube
URL:https://vpa.uncg.edu/single-event/old-time-ensemble-7/
LOCATION:Organ Hall\, 100 McIver St\, Greensboro\, 27412\, United States
CATEGORIES:College of Visual and Performing Arts,School of Music
ATTACH;FMTTYPE=image/jpeg:https://vpa.uncg.edu/wp-content/uploads/2025/08/organ-hall.jpg
END:VEVENT
BEGIN:VEVENT
DTSTART;TZID=America/New_York:20260507T193000
DTEND;TZID=America/New_York:20260507T213000
DTSTAMP:20260422T002433
CREATED:20260129T170006Z
LAST-MODIFIED:20260221T140523Z
UID:10003681-1778182200-1778189400@vpa.uncg.edu
SUMMARY:Spartan Jazz Collective ∙ Milestones: A Miles Davis Centennial Concert
DESCRIPTION:The Spartan Jazz Collective\, a collaborative faculty/student septet\, closes out our semester-long celebration of Miles Davis’ centennial year with 9 all-new arrangements of Davis’ most compelling original music. \n\n\n\n\n\n\n\nThe Miles Davis Jazz Studies Program at UNCG is a unique and innovative undergraduate jazz program designed to emulate the traditional process of learning jazz\, through a combination of mentorship\, real-world playing experiences\, and a communal approach to learning. Although the program is housed in one of the largest music schools in the Southeast\, it is kept intentionally small\, resulting in an intensive and highly personalized learning environment. \n\n\n\n UNCG offers the following degree programs for students interested in studying Jazz: \n\n\n\n\nBachelor of Music (B.M.) – Performance\n\n\n\nPost-Baccalaureate Certificate in Jazz Studies\n\n\n\n\n\n\nTicketPriceAdult$16.20Seniors$10.20Military$10.20Students$10.20Ticket prices include a $3.00 processing fee and applicable sales tax.\n\n\n\n\nPurchase Tickets\n\n\n\n\n\nJoin Our Email List
URL:https://vpa.uncg.edu/single-event/spartan-jazz-collective-%e2%88%99-milestones-a-miles-davis-centennial-concert/
LOCATION:The Crown at the Carolina Theatre\, 310 S Greene St\, Greensboro\, 27401\, United States
CATEGORIES:College of Visual and Performing Arts,School of Music
ATTACH;FMTTYPE=image/jpeg:https://vpa.uncg.edu/wp-content/uploads/2026/01/spartan-jazz-collective-davis-feature.jpg
END:VEVENT
END:VCALENDAR