BEGIN:VCALENDAR
VERSION:2.0
PRODID:-//College of Visual and Performing Arts - ECPv6.15.20//NONSGML v1.0//EN
CALSCALE:GREGORIAN
METHOD:PUBLISH
X-WR-CALNAME:College of Visual and Performing Arts
X-ORIGINAL-URL:https://vpa.uncg.edu
X-WR-CALDESC:Events for College of Visual and Performing Arts
REFRESH-INTERVAL;VALUE=DURATION:PT1H
X-Robots-Tag:noindex
X-PUBLISHED-TTL:PT1H
BEGIN:VTIMEZONE
TZID:America/New_York
BEGIN:DAYLIGHT
TZOFFSETFROM:-0500
TZOFFSETTO:-0400
TZNAME:EDT
DTSTART:20240310T070000
END:DAYLIGHT
BEGIN:STANDARD
TZOFFSETFROM:-0400
TZOFFSETTO:-0500
TZNAME:EST
DTSTART:20241103T060000
END:STANDARD
BEGIN:DAYLIGHT
TZOFFSETFROM:-0500
TZOFFSETTO:-0400
TZNAME:EDT
DTSTART:20250309T070000
END:DAYLIGHT
BEGIN:STANDARD
TZOFFSETFROM:-0400
TZOFFSETTO:-0500
TZNAME:EST
DTSTART:20251102T060000
END:STANDARD
BEGIN:DAYLIGHT
TZOFFSETFROM:-0500
TZOFFSETTO:-0400
TZNAME:EDT
DTSTART:20260308T070000
END:DAYLIGHT
BEGIN:STANDARD
TZOFFSETFROM:-0400
TZOFFSETTO:-0500
TZNAME:EST
DTSTART:20261101T060000
END:STANDARD
END:VTIMEZONE
BEGIN:VEVENT
DTSTART;TZID=America/New_York:20250929T193000
DTEND;TZID=America/New_York:20250929T210000
DTSTAMP:20260423T002627
CREATED:20250910T193321Z
LAST-MODIFIED:20250926T210953Z
UID:10003395-1759174200-1759179600@vpa.uncg.edu
SUMMARY:mOthertongue: Lived Experience in Asian America
DESCRIPTION:https://youtube.com/live/W5r6deD2y7k?feature=share\n\n\n\n\nmOthertongue: Lived Experience in Asian America\n\n\n\nJennifer Lien\, sopranoAnnie Jeng\, piano \n\n\n\n\n\n\n\nExotic landscapes. Virtuous\, submissive\, sexualized women. Ineffective\, emasculated\, villainous men. These images of Asia have long been a staple of the European imagination\, whether in colonial-era art song\, grand Italian opera\, film\, or television. Here\, in the 21st century\, these stereotypes about Americans of Asian descent persist (see: pandemic-era anti-Asian hate).   \n\n\n\nI believe that the way to challenge outdated cultural ideas is by sharing new art with fresh cultural ideas. I wanted to perform songs that assert the Asian American lived experience\, from the perspective of those of us who live it. But when I went looking for songs by Asian American composers set to contemporary Asian American texts\, I came up empty. So I reached out to Chen\, Dunphy\, and Sankaram\, three Asian American women composers in their prime who also write beautifully for the voice. To my surprise\, all three readily agreed to my proposal.   \n\n\n\nThe new songs on today’s program express the joys\, pains\, contradictions\, and pride we experience as Asians living in this land we call home. I am struck by the recurring themes that resonate across the three song cycles: colonization; cultural shame; living in between cultures; culture loss; microaggression; pride. To sing these truths is to find and reclaim power that has been lost somewhere along the way.  \n\n\n\nMy deepest gratitude goes to Justine\, Melissa\, Kamala\, and the poet Ophelia Hu Kinney; to Sam Martin of Cincinnati Song Initiative for recognizing the importance of this project and co-commissioning these songs with me; to the Minnesota State Arts Board for awarding me a Creative Individuals grant in 2024; to all my Asian American pianist partners on this project\, in particular Annie Jeng here in North Carolina; and to all the host institutions welcoming this project to their concert stages.  \n\n\n\nMy wish for this project is that these songs feed the hunger of singers for repertoire that expresses their lived experience\, and inspire marginalized composers to create works that assert their truths\, take up space\, and shift the cultural needle in the right direction. Our stories are all American stories. To answer the question in Chen’s second song: All of us belong here.  \n\n\n\n— Jennifer Lien  \n\n\n\n\n\n\nEvent Details\n\n\n\n\nDownload Program\n\n\n\n\n\nParking\n\n\n\n\n\n\n\n\nThe importance of philanthropy has never been greater. Please consider a gift to the School of Music to support our mission and ensure the future of music at UNCG. \n\n\n\n\n\n\nmusic\, old time music\n\n\nInstagram\n\nFacebook\n\nX\n\nYouTube
URL:https://vpa.uncg.edu/single-event/mothertongue-lived-experience-in-asian-america/
LOCATION:Tew Recital Hall\, 100 McIver St\, Greensboro\, 27412\, United States
CATEGORIES:College of Visual and Performing Arts,School of Music
ATTACH;FMTTYPE=image/jpeg:https://vpa.uncg.edu/wp-content/uploads/2025/09/jeng-lien-feature.jpg
END:VEVENT
BEGIN:VEVENT
DTSTART;TZID=America/New_York:20250930T173000
DTEND;TZID=America/New_York:20250930T190000
DTSTAMP:20260423T002627
CREATED:20250915T165735Z
LAST-MODIFIED:20250926T211046Z
UID:10003445-1759253400-1759258800@vpa.uncg.edu
SUMMARY:Garrett Klein\, Abigail Pack\, and Marya Fancey
DESCRIPTION:Trumpet artist Garrett Klein has garnered an international reputation for his varied performing career and dedicated teaching. He is currently serving as Associate Professor of Trumpet at UNC Greensboro where he leads the Trumpet Studio\, directs the Trumpet Ensemble\, and serves as Brass Area Chair.   Aside from his teaching\, Garrett is the Principal Trumpet of the Greensboro Symphony Orchestra and Principal Solo Cornet with North Carolina Brass Band. He is a former member of the world-renowned Dallas Brass and toured the nation with that ensemble for five years. He has also appeared as a guest musician with Charlotte Symphony\, The Phoenix Symphony\, the Tucson Symphony Orchestra\, the New World Symphony\, the Singapore Symphony Orchestra\, and the Malaysian Philharmonic Orchestra. A new music advocate\, Garrett has worked with composers to commission several new works for trumpet\, presenting newly composed works at three International Trumpet Guild Conferences.  Garrett earned his DMA and MM degrees at Arizona State University\, along with a Certificate in Music Theory Pedagogy. Prior to ASU\, he studied at the prestigious Yong Siew Toh Conservatory of Music in Singapore and St. Olaf College in Minnesota. Garrett Klein is an endorsing artist for Conn-Selmer and proudly performs on Vincent Bach trumpets.  \n\n\n\n\n\n\n\n\n\n\n\nDr. Abigail Pack\, Professor of Horn at UNCG and a native of Roanoke\, Virginia\, received her training from East Carolina University (BMA)\, University of Iowa (MM)\, and University of Wisconsin-Madison (DMA) where she was a Bolz Teaching Fellow.  Before assuming her current position at UNCG she was horn faculty at James Madison University from 2001 to 2008.  She has also been on faculty at Knox College in Galesburg\, Il\, Western State College in Gunnison\, CO and in the Gunnison Watershed School District.  An avid symphony player Dr. Pack has held positions with the Barton Symphony Orchestra\, Quad Cities Symphony Orchestra\, Des Moines Symphony Orchestra\, Cedar Rapids Symphony Orchestra\, Green-Bay Symphony Orchestra\, the Wisconsin Chamber Orchestra and currently has a position with the Roanoke Symphony Orchestra\, the Southwest Chamber Orchestra\, the Greensboro Opera\, Amici Musicorum (chamber orchestra)\,  and the Opera Roanoke Orchestra.  Other orchestral subbing engagements include the Greensboro Symphony\, Winston Salem Symphony\, and the Charlotte Symphony. Other venues have included performances with the Western Piedmont Wind Symphony\, North Carolina Brass Band\, the Iowa Brass Quintet\, Western Slope Brass Band\, and Massanutten Brass Band.  Performance and presentation highlights include the National Flute Association (Washington DC with the Montpelier Winds)\, the International Horn Symposium (University of Cape Town\, South Africa\, Ithaca\, NY\, Montreal\, Canada)\, the International Midwest Band and Orchestra Conference (Chicago 2009\, 2022)\, International Double Reed Society (Athens\, GA)\, Western International Band Clinic (2022)\, the American Band College (2017\, 2021\, 2024) and The Kennedy Center of the Performing Arts (Washington).  She is a founding member of System 5 Brass Quintet and CORalina Horn Quartet and can be heard on the Centaur label. \n\n\n\n\n\n\n\n\n\n\n\nScholar-performer Marya Fancey uses her research to bridge temporal and cultural gaps in music for students and audiences. She received a 2017–2018 Fulbright Student Research Award to Poland for Historical Music Performance. This grant supported her dissertation research on organ masses from the Tablature of Johannes of Lublin (ca. 1540)\, culminating in a performance of its three mass cycles with vocal ensemble Flores Rosarum at the fifteenth-century Church of the Holy Cross in Krakow. She has presented at meetings of the Historical Keyboard Society of North America and the SE chapter of the American Musicological Society. \n\n\n\nHer concert programs frequently incorporate works by underappreciated composers. In 2016 Marya Fancey introduced Polish audiences to the music of Florence Price and David Hurd at the Podlaskie Organ Festival and the 18th International Festival of Organ Music at Pelplin Cathedral. She gave the 2015 world premiere of Passacaglia and Triple Fugue (organ) by Louise Talma. In 2011 she performed Sonata No. 2 (piano) by Grażyna Bacewicz at the 15th Annual Festival of Women Composers (Gainesville\, FL). \n\n\n\nIn studio and classroom teaching she augments the traditional classical canon with lesser-known compositions as well as works from a variety of other musical styles. She has taught music studies courses at UNCG\, Guilford College\, and the University of Florida. Her past professional activities include apprentice organ builder\, church organist and choir director\, private music teacher\, and assistant music editor. \n\n\n\nMarya Fancey holds the DMA degree in Organ Performance from UNC-Greensboro\, where she studied with André Lash (organ) and Andrew Willis (harpsichord and fortepiano)\, with a Post-Master’s certificate in Music Theory Pedagogy and a Post-Baccalaureate certificate in Historical Keyboard Performance. Her interest in the scholar-performer model arose from masterclasses with Marie-Claire Alain\, Olivier Latry\, John Grew\, William Porter\, Hank Knox\, and Edoardo Bellotti at multiple McGill Summer Organ Academies between 2005 and 2015. \n\n\n\n\n\n\nEvent Details\n\n\n\n\nDownload Program\n\n\n\n\n\nParking\n\n\n\n\n\n\n\n\nThe importance of philanthropy has never been greater. Please consider a gift to the School of Music to support our mission and ensure the future of music at UNCG. \n\n\n\n\n\n\nmusic\, old time music\n\n\nInstagram\n\nFacebook\n\nX\n\nYouTube
URL:https://vpa.uncg.edu/single-event/garrett-klein-abigail-pack-and-marya-fancey/
LOCATION:Organ Hall\, 100 McIver St\, Greensboro\, 27412\, United States
CATEGORIES:College of Visual and Performing Arts,School of Music
ATTACH;FMTTYPE=image/jpeg:https://vpa.uncg.edu/wp-content/uploads/2025/08/organ-hall.jpg
END:VEVENT
BEGIN:VEVENT
DTSTART;TZID=America/New_York:20250930T193000
DTEND;TZID=America/New_York:20250930T210000
DTSTAMP:20260423T002627
CREATED:20250529T194701Z
LAST-MODIFIED:20250926T211419Z
UID:10003288-1759260600-1759266000@vpa.uncg.edu
SUMMARY:Sinfonia
DESCRIPTION:https://youtube.com/live/PjFvnxPyjbs?feature=share\n\n\n\n\nScott Glasser\, conductor \n\n\n\nProgram\n\n\n\n \n\n\n\n\nAbout the Program\n \n\n\n\n\nAbout the Artists\n \n\n\n\n\nUNCG Orchestras\nThe vibrant UNCG Orchestra program has long been recognized for performance excellence\, adventurous programming\, and high artistic standards. A diversity of offerings allow students the opportunity to perform repertoire for ensembles ranging from the largest cornerstone and contemporary works for full orchestra\, to intimate pieces for chamber orchestra\, to string orchestra. \n\n\n\nStudents in the UNCG Orchestra program are dedicated to the performance\, study and cultivation of orchestral music of the highest quality. The UNCG Orchestras offer outstanding performances throughout the year and enhance the institutional spirit and community of UNCG. We seek to promote music education in the state of North Carolina and in our region by supporting secondary school orchestra programs and other organizations through our outreach activities and other annual events on campus. \n\n\n\n\n\n\n\n\nEvent Details\n\n\n\n\nDownload Program\n\n\n\n\n\nParking\n\n\n\n\n\n\n\n\nThe importance of philanthropy has never been greater. Please consider a gift to the School of Music to support our mission and ensure the future of music at UNCG. \n\n\n\n\n\n\nmusic\, old time music\n\n\nInstagram\n\nFacebook\n\nX\n\nYouTube
URL:https://vpa.uncg.edu/single-event/sinfonia-12/
LOCATION:Tew Recital Hall\, 100 McIver St\, Greensboro\, 27412\, United States
CATEGORIES:College of Visual and Performing Arts,School of Music
ATTACH;FMTTYPE=image/jpeg:https://vpa.uncg.edu/wp-content/uploads/2024/09/orchestas-pic13905.jpg
END:VEVENT
BEGIN:VEVENT
DTSTART;TZID=America/New_York:20251002T193000
DTEND;TZID=America/New_York:20251002T210000
DTSTAMP:20260423T002627
CREATED:20250825T135208Z
LAST-MODIFIED:20250926T213222Z
UID:10003377-1759433400-1759438800@vpa.uncg.edu
SUMMARY:Coro di Belle Voci
DESCRIPTION:https://youtube.com/live/w4LFFoy2M-g?feature=share\n\n\n\n\nLindsay Kesselman\, conductor \n\n\n\n\nAbout the Program\n \n\n\n\n\nAbout the Artists\n \n\n\n\n\nUNCG Choirs\nThe mission of the UNCG Choirs is dedicated to the teaching\, performance\, study and cultivation of choral music of the highest quality representing not just the western choral canon but also choral music of other cultures by a diverse body of historical and new composers. We believe that the UNCG Choirs are a serious and distinctive medium of musical expression\, of vital service and importance to its members and to UNCG. Through ensemble performance\, we strive to create an environment of trust\, communication\, and expressive freedom\, to present outstanding performances throughout the year\, and to enhance the institutional sprit and character of UNCG. To music as an art and a profession\, the UNCG Choirs seek to bring increasing artistry\, understanding\, and respect by efforts within our own immediate sphere and by providing leadership and sponsorship to school choral programs and through cooperation with all other agencies pursuing similar musical goals. \n\n\n\n\nUNCG Choirs\n\n\n\n\n\n\n\n\n\nEvent Details\n\n\n\n\nDownload Program\n\n\n\n\n\nParking\n\n\n\n\n\n\n\n\nThe importance of philanthropy has never been greater. Please consider a gift to the School of Music to support our mission and ensure the future of music at UNCG. \n\n\n\n\n\n\nmusic\, old time music\n\n\nInstagram\n\nFacebook\n\nX\n\nYouTube
URL:https://vpa.uncg.edu/single-event/coro-di-belle-voci-3/
LOCATION:Tew Recital Hall\, 100 McIver St\, Greensboro\, 27412\, United States
CATEGORIES:College of Visual and Performing Arts,School of Music
ATTACH;FMTTYPE=image/jpeg:https://vpa.uncg.edu/wp-content/uploads/2024/08/choir-event-feature.jpg
END:VEVENT
BEGIN:VEVENT
DTSTART;TZID=America/New_York:20251003T193000
DTEND;TZID=America/New_York:20251003T210000
DTSTAMP:20260423T002627
CREATED:20250825T145351Z
LAST-MODIFIED:20250926T213148Z
UID:10003378-1759519800-1759525200@vpa.uncg.edu
SUMMARY:University Chorale
DESCRIPTION:https://youtube.com/live/ZMgLbcvDFMg?feature=share\n\n\n\n\nCarole Ott\, conductorKari Adams\, guest conductor \n\n\n\nProgram\n\n\n\nKATERINA GIMONElements (2014) \n\n\n\n\nAbout the Program\nElements\n\n\n\nElements is set of choral works that abstractly depict the four classical elements and explores the wide range of capabilities of the human voice – from overtone singing\, to vocal percussion\, to colourful vocal timbres. Elements features no ‘text’ (at least not in the traditional sense)\, rather a series of syllables generated through improvisation meant to evoke the sound and energy of each element. \n\n\n\nElements was premiered in March 2014 by Laurier Singers under Lee Willingham. This set of works is a 2016 SOCAN Young Composers Competition winner\, a 2015 Vancouver Chamber Choir’ Young Composers’ Competition winner\, and a 2014 IAWM Search For New Music winner. \n\n\n\nEarth is a beautiful\, texturally-driven work depicting the simple yet unexplainable beauty of the earth. The work features harmonic overtone singing by a group of soloists; an accessible introduction to overtone singing in a choral setting. \n\n\n\nAir traces the movement from calm breath to thick violent winds. Together singers gradually introduce new sounds and pitches\, building an intricate texture with ever-shifting emphasis. \n\n\n\nFire is a fun\, lively\, and energetic work incorporating vocal percussion\, body percussion\, nasal singing\, calls\, nonsense syllables\, as well as optional percussion. \n\n\n\nWater presents powerful soaring textures and lilting melodies that grow and decay like waves in the ocean. \n\n\n\n\nAbout the Artists\n \n\n\n\n\nUNCG Choirs\nThe mission of the UNCG Choirs is dedicated to the teaching\, performance\, study and cultivation of choral music of the highest quality representing not just the western choral canon but also choral music of other cultures by a diverse body of historical and new composers. We believe that the UNCG Choirs are a serious and distinctive medium of musical expression\, of vital service and importance to its members and to UNCG. Through ensemble performance\, we strive to create an environment of trust\, communication\, and expressive freedom\, to present outstanding performances throughout the year\, and to enhance the institutional sprit and character of UNCG. To music as an art and a profession\, the UNCG Choirs seek to bring increasing artistry\, understanding\, and respect by efforts within our own immediate sphere and by providing leadership and sponsorship to school choral programs and through cooperation with all other agencies pursuing similar musical goals. \n\n\n\n\nUNCG Choirs\n\n\n\n\n\n\n\n\n\nEvent Details\n\n\n\n\nDownload Program\n\n\n\n\n\nParking\n\n\n\n\n\n\n\n\nThe importance of philanthropy has never been greater. Please consider a gift to the School of Music to support our mission and ensure the future of music at UNCG. \n\n\n\n\n\n\nmusic\, old time music\n\n\nInstagram\n\nFacebook\n\nX\n\nYouTube
URL:https://vpa.uncg.edu/single-event/university-chorale-4/
LOCATION:Tew Recital Hall\, 100 McIver St\, Greensboro\, 27412\, United States
CATEGORIES:College of Visual and Performing Arts,School of Music
ATTACH;FMTTYPE=image/jpeg:https://vpa.uncg.edu/wp-content/uploads/2024/08/choir-event-feature.jpg
END:VEVENT
BEGIN:VEVENT
DTSTART;TZID=America/New_York:20251004T173000
DTEND;TZID=America/New_York:20251004T190000
DTSTAMP:20260423T002627
CREATED:20250903T191202Z
LAST-MODIFIED:20250926T213331Z
UID:10003391-1759599000-1759604400@vpa.uncg.edu
SUMMARY:Student Composers Concert
DESCRIPTION:https://youtube.com/live/ZH57JkDx0u8?feature=share\n\n\n\n\n\n\n\nEvent Details\n\n\n\n\nDownload Program\n\n\n\n\n\nParking\n\n\n\n\n\n\n\n\nThe importance of philanthropy has never been greater. Please consider a gift to the School of Music to support our mission and ensure the future of music at UNCG. \n\n\n\n\n\n\nmusic\, old time music\n\n\nInstagram\n\nFacebook\n\nX\n\nYouTube
URL:https://vpa.uncg.edu/single-event/student-composers-concert-2/
LOCATION:Tew Recital Hall\, 100 McIver St\, Greensboro\, 27412\, United States
CATEGORIES:College of Visual and Performing Arts,School of Music
ATTACH;FMTTYPE=image/jpeg:https://vpa.uncg.edu/wp-content/uploads/2025/08/studio-recital-feature.jpeg
END:VEVENT
END:VCALENDAR