BEGIN:VCALENDAR
VERSION:2.0
PRODID:-//College of Visual and Performing Arts - ECPv6.15.20//NONSGML v1.0//EN
CALSCALE:GREGORIAN
METHOD:PUBLISH
X-WR-CALNAME:College of Visual and Performing Arts
X-ORIGINAL-URL:https://vpa.uncg.edu
X-WR-CALDESC:Events for College of Visual and Performing Arts
REFRESH-INTERVAL;VALUE=DURATION:PT1H
X-Robots-Tag:noindex
X-PUBLISHED-TTL:PT1H
BEGIN:VTIMEZONE
TZID:America/New_York
BEGIN:DAYLIGHT
TZOFFSETFROM:-0500
TZOFFSETTO:-0400
TZNAME:EDT
DTSTART:20240310T070000
END:DAYLIGHT
BEGIN:STANDARD
TZOFFSETFROM:-0400
TZOFFSETTO:-0500
TZNAME:EST
DTSTART:20241103T060000
END:STANDARD
BEGIN:DAYLIGHT
TZOFFSETFROM:-0500
TZOFFSETTO:-0400
TZNAME:EDT
DTSTART:20250309T070000
END:DAYLIGHT
BEGIN:STANDARD
TZOFFSETFROM:-0400
TZOFFSETTO:-0500
TZNAME:EST
DTSTART:20251102T060000
END:STANDARD
BEGIN:DAYLIGHT
TZOFFSETFROM:-0500
TZOFFSETTO:-0400
TZNAME:EDT
DTSTART:20260308T070000
END:DAYLIGHT
BEGIN:STANDARD
TZOFFSETFROM:-0400
TZOFFSETTO:-0500
TZNAME:EST
DTSTART:20261101T060000
END:STANDARD
END:VTIMEZONE
BEGIN:VEVENT
DTSTART;TZID=America/New_York:20250914T140000
DTEND;TZID=America/New_York:20250914T153000
DTSTAMP:20260422T202254
CREATED:20250731T181825Z
LAST-MODIFIED:20250825T161814Z
UID:10003305-1757858400-1757863800@vpa.uncg.edu
SUMMARY:ReformEd
DESCRIPTION:By Peter Duffy Directed by Joshua Purvis \n\n\n\nDates:Sept. 12 at 7:30 p.m.Sept. 13 at 2:00 p.m. & 7:30 p.m.Sept. 14 at 2:00 p.m. & 7:30 p.m. \n\n\n\nTickets: Call the UNCG Theatre Box Office at 336-334-4392 or click the button below to purchase tickets online. \n\n\n\nPurchase Tickets \n\n\n\nAge Rating: PG-13Run Time: Approx. 90 min.Production Location: Pam and David Sprinkle Theatre (Brown Building)\, 402 Tate St\, Greensboro\, NC 27412Frame/Works Discussion via Teams and In Person: Sept. 15 at 7:00 p.m.To attend Frame/Works in person\, please visit room 130 in the Moore Nursing Building located at 318 McIver St. \n\n\n\nSummary: \n\n\n\nWhy are so many teachers walking away from the classroom—and what would it take to make them stay? After seven years of in-depth research\, South Carolina theater professor Peter Duffy transforms real educators’ voices into a powerful theatrical experience. ReformED dives headfirst into the emotional\, often heartbreaking realities behind the teacher exodus\, weaving true stories into a compelling narrative that has sparked conversations from local stages to international audiences in Australia. More than just a play\, ReformED is a catalyst for change—one that dares us to imagine a future where teachers don’t just survive the system\, but thrive within it.
URL:https://vpa.uncg.edu/single-event/reformed/2025-09-14/1/
LOCATION:Pam and David Sprinkle Theatre\, 402 Tate Street\, Greensboro\, NC\, 27403\, United States
CATEGORIES:School of Theatre
ATTACH;FMTTYPE=image/jpeg:https://vpa.uncg.edu/wp-content/uploads/2025/07/reformed5.5x8.5.titleonly.jpg
END:VEVENT
BEGIN:VEVENT
DTSTART;TZID=America/New_York:20250914T193000
DTEND;TZID=America/New_York:20250914T210000
DTSTAMP:20260422T202254
CREATED:20250731T181825Z
LAST-MODIFIED:20250825T161814Z
UID:10003306-1757878200-1757883600@vpa.uncg.edu
SUMMARY:ReformEd
DESCRIPTION:By Peter Duffy Directed by Joshua Purvis \n\n\n\nDates:Sept. 12 at 7:30 p.m.Sept. 13 at 2:00 p.m. & 7:30 p.m.Sept. 14 at 2:00 p.m. & 7:30 p.m. \n\n\n\nTickets: Call the UNCG Theatre Box Office at 336-334-4392 or click the button below to purchase tickets online. \n\n\n\nPurchase Tickets \n\n\n\nAge Rating: PG-13Run Time: Approx. 90 min.Production Location: Pam and David Sprinkle Theatre (Brown Building)\, 402 Tate St\, Greensboro\, NC 27412Frame/Works Discussion via Teams and In Person: Sept. 15 at 7:00 p.m.To attend Frame/Works in person\, please visit room 130 in the Moore Nursing Building located at 318 McIver St. \n\n\n\nSummary: \n\n\n\nWhy are so many teachers walking away from the classroom—and what would it take to make them stay? After seven years of in-depth research\, South Carolina theater professor Peter Duffy transforms real educators’ voices into a powerful theatrical experience. ReformED dives headfirst into the emotional\, often heartbreaking realities behind the teacher exodus\, weaving true stories into a compelling narrative that has sparked conversations from local stages to international audiences in Australia. More than just a play\, ReformED is a catalyst for change—one that dares us to imagine a future where teachers don’t just survive the system\, but thrive within it.
URL:https://vpa.uncg.edu/single-event/reformed/2025-09-14/2/
LOCATION:Pam and David Sprinkle Theatre\, 402 Tate Street\, Greensboro\, NC\, 27403\, United States
CATEGORIES:School of Theatre
ATTACH;FMTTYPE=image/jpeg:https://vpa.uncg.edu/wp-content/uploads/2025/07/reformed5.5x8.5.titleonly.jpg
END:VEVENT
BEGIN:VEVENT
DTSTART;TZID=America/New_York:20250915T033000
DTEND;TZID=America/New_York:20250915T160000
DTSTAMP:20260422T202254
CREATED:20250911T181844Z
LAST-MODIFIED:20250911T181848Z
UID:10003425-1757907000-1757952000@vpa.uncg.edu
SUMMARY:A Decade of Darkness
DESCRIPTION:Photographer MJ Sharp is a documentary artist based in Durham\, North Carolina. She was a visiting Fulbright Scholar at the University of Exeter\, UK\, for the 2021/2022 academic year pursuing the art/science collaboration Our Disappearing Darkness and Recreating True Night  with nocturnal ecologist Dr. Kevin Gaston.  \n\n\n\nTo learn more about MJ Sharp visit: https://mjsharp.com/
URL:https://vpa.uncg.edu/single-event/a-decade-of-darkness/2025-09-15/
LOCATION:Gatewood Studio Arts Center\, 527 Highland Ave\, Greensboro\, NC 27412\, USA\, 527 Highland Ave\, Greensboro\, 27412\, United States
CATEGORIES:College of Visual and Performing Arts,School of Art
END:VEVENT
BEGIN:VEVENT
DTSTART;TZID=America/New_York:20250916T033000
DTEND;TZID=America/New_York:20250916T160000
DTSTAMP:20260422T202254
CREATED:20250911T181844Z
LAST-MODIFIED:20250911T181848Z
UID:10003426-1757993400-1758038400@vpa.uncg.edu
SUMMARY:A Decade of Darkness
DESCRIPTION:Photographer MJ Sharp is a documentary artist based in Durham\, North Carolina. She was a visiting Fulbright Scholar at the University of Exeter\, UK\, for the 2021/2022 academic year pursuing the art/science collaboration Our Disappearing Darkness and Recreating True Night  with nocturnal ecologist Dr. Kevin Gaston.  \n\n\n\nTo learn more about MJ Sharp visit: https://mjsharp.com/
URL:https://vpa.uncg.edu/single-event/a-decade-of-darkness/2025-09-16/
LOCATION:Gatewood Studio Arts Center\, 527 Highland Ave\, Greensboro\, NC 27412\, USA\, 527 Highland Ave\, Greensboro\, 27412\, United States
CATEGORIES:College of Visual and Performing Arts,School of Art
END:VEVENT
BEGIN:VEVENT
DTSTART;TZID=America/New_York:20250916T120000
DTEND;TZID=America/New_York:20250927T170000
DTSTAMP:20260422T202254
CREATED:20250817T202949Z
LAST-MODIFIED:20250817T202952Z
UID:10003359-1758024000-1758992400@vpa.uncg.edu
SUMMARY:that which remains art exhibition
DESCRIPTION:That Which Remains\n\n\n\nExhibition by Leigh Ann Hallberg and Paul Bright\n\n\n\nSeptember 16 – 27\, 2025\n\n\n\n*Reception: Friday\, Sept 19th | 6-8P\n\n\n\n*Gallery walk-through with artists\, 6:30p\n\n\n\n\n\n\n\n\n\n\n\nMore About That Which Remains  \n\n\n\nBeginning with our hominin ancestors\, artists have always made use of found materials\, recovered objects\, and their specific qualities to create art. But increasingly\, materials for art became subsumed mostly as vehicles for depiction and expression; as a means to an end. The singular qualities of the materials of art begin to reassert themselves in the late 19th C\, not merely coincidentally with the rise of photography. The photograph\, so successful in recording the specificity of surfaces\, the lighting and chiaroscuro of forms\, the “facts” of appearances\, allowed a medium like paint to more freely exhibit its inherent qualities\, even when used in the service of depiction. (Much of Impressionism was structured and animated by this interplay of the physicality of evident paint and the expression it facilitated.) The introduction of collage in Cubism and the conceptual deployment of found objects in the work of Duchamp et al\, brought intense focus on the materials of art as well as the proposition that art no longer needed be as created as it had been. It could be composed of preexisting things\, found and repurposed objects\, in a new\, industrialized world of burgeoning objects of all kinds. The artist’s role in this context was largely that of selector – not unlike a photographer taking a picture – finding or stumbling across the right object to convey an intended meaning\, a meaning which very often arose in part from the found object itself\, which carried a history of past use and significance that intertwined with its new role as art object. Improvisatory\, aleatory or chance methodologies often guided selection of the objects and the creation of these works. Our work in That Which Remains acknowledges this lineage and these approaches in varying degrees. \n\n\n\nOur respective work is diverse in the forms it assumes\, in its intentions\, and in its stylistic permutations. But in That Which Remains\, we are presenting works that share  \n\n\n\na focus on traces\, palimpsests\, residue\, and remnants. With the commonality of being made from detritus\, from the Found\, of discarded parts and fragments\, the works evince improvisation\, construction\, and accretion as compositional methods. The work is varied but coheres through conceptual\, aesthetic\, and visual overlaps. Our interventions on our chosen objects can be minimal or subtle\, but they are significant. \n\n\n\nLeigh Ann’s work evinces a preoccupation with lineage\, phenomena of “nature\,” and scales of time and experience\, in both the outer and inner worlds of human experience and the related proportionality of abstraction and figuration. It incorporates manipulated and reconfigured heirlooms; a woman’s dress gloves (Chirality); a sectioned and reconfigured Murray Bay wool blanket (Murray Bay: Standing Wave; a broken plate with inscribed figures of a seemingly runic numerology (3:2); re-embroidered linens (Leighs\, Nana’s Helix); and durational paintings called Accretions. She also presents an elegant metaphor for our toxic\, over-consumptive present\, Core Sample\, a totem holding layered and compressed plastic waste\, reminiscent of glacial ice samples containing the stratified atmospheric history of eons.  \n\n\n\nPaul’s are fundamentally abstract works\, even when they are composed of figurative or recognizable elements. They eschew or disrupt narrative. They traffic in advertising imagery – the “de/collages” of found materials and removed posters\, the serendipitous Tear Sheets – and the found materials that pervade our lives (Just Like A Box). He is interested in how the physical degradation of their components mirrors their materialist and often retrograde messages. However\, when these elements and ambiguous images are recontextualized in collaged compositions\, they reveal an unexpected poetry. This is also elicited from the “aural quotidian” in his sound collages’ arrangement of found and recorded sounds (Wet in Dry)\, while the direct\, minimal contrasts of topical printed matter (of Minor Interventions) opportunistically reveals the unintended irony or ready-made satire of their sources. \n\n\n\n \n\n\n\nGreensboro Project Space Weekly Hours: \n\n\n\nTuesday-Friday\, 12-5p \n\n\n\nSaturday\, 2-5p
URL:https://vpa.uncg.edu/single-event/that-which-remains-art-exhibition/
LOCATION:Greensboro Project Space\, 111 E February 1 Pl\, Greensboro\, NC 27406\, USA
CATEGORIES:College of Visual and Performing Arts,Greensboro Project Space,School of Art
ATTACH;FMTTYPE=image/png:https://vpa.uncg.edu/wp-content/uploads/2025/08/hallberg-bright-8.5_11-scaled.png
ORGANIZER;CN="Greensboro Project Space":MAILTO:greensboroprojectspace@gmail.com
END:VEVENT
BEGIN:VEVENT
DTSTART;TZID=America/New_York:20250916T193000
DTEND;TZID=America/New_York:20250916T210000
DTSTAMP:20260422T202254
CREATED:20250822T135532Z
LAST-MODIFIED:20250913T132323Z
UID:10003376-1758051000-1758056400@vpa.uncg.edu
SUMMARY:Graduate Clarinet Showcase
DESCRIPTION:https://youtube.com/live/ubrrIzOq7lM?feature=share\n\n\n\n\n\n\n\nDownload Program\n\n\n\n\n\nParking\n\n\n\n\n\n\n\n\nThe importance of philanthropy has never been greater. Please consider a gift to the School of Music to support our mission and ensure the future of music at UNCG. \n\n\n\n\n\nInstagram\n\nFacebook\n\nX\n\nYouTube
URL:https://vpa.uncg.edu/single-event/graduate-clarinet-showcase-2/
LOCATION:Tew Recital Hall\, 100 McIver St\, Greensboro\, 27412\, United States
CATEGORIES:College of Visual and Performing Arts,School of Music
ATTACH;FMTTYPE=image/jpeg:https://vpa.uncg.edu/wp-content/uploads/2025/08/studio-recital-feature.jpeg
END:VEVENT
BEGIN:VEVENT
DTSTART;TZID=America/New_York:20250917T033000
DTEND;TZID=America/New_York:20250917T160000
DTSTAMP:20260422T202254
CREATED:20250911T181844Z
LAST-MODIFIED:20250911T181848Z
UID:10003427-1758079800-1758124800@vpa.uncg.edu
SUMMARY:A Decade of Darkness
DESCRIPTION:Photographer MJ Sharp is a documentary artist based in Durham\, North Carolina. She was a visiting Fulbright Scholar at the University of Exeter\, UK\, for the 2021/2022 academic year pursuing the art/science collaboration Our Disappearing Darkness and Recreating True Night  with nocturnal ecologist Dr. Kevin Gaston.  \n\n\n\nTo learn more about MJ Sharp visit: https://mjsharp.com/
URL:https://vpa.uncg.edu/single-event/a-decade-of-darkness/2025-09-17/
LOCATION:Gatewood Studio Arts Center\, 527 Highland Ave\, Greensboro\, NC 27412\, USA\, 527 Highland Ave\, Greensboro\, 27412\, United States
CATEGORIES:College of Visual and Performing Arts,School of Art
END:VEVENT
BEGIN:VEVENT
DTSTART;TZID=America/New_York:20250918T033000
DTEND;TZID=America/New_York:20250918T160000
DTSTAMP:20260422T202254
CREATED:20250911T181844Z
LAST-MODIFIED:20250911T181848Z
UID:10003428-1758166200-1758211200@vpa.uncg.edu
SUMMARY:A Decade of Darkness
DESCRIPTION:Photographer MJ Sharp is a documentary artist based in Durham\, North Carolina. She was a visiting Fulbright Scholar at the University of Exeter\, UK\, for the 2021/2022 academic year pursuing the art/science collaboration Our Disappearing Darkness and Recreating True Night  with nocturnal ecologist Dr. Kevin Gaston.  \n\n\n\nTo learn more about MJ Sharp visit: https://mjsharp.com/
URL:https://vpa.uncg.edu/single-event/a-decade-of-darkness/2025-09-18/
LOCATION:Gatewood Studio Arts Center\, 527 Highland Ave\, Greensboro\, NC 27412\, USA\, 527 Highland Ave\, Greensboro\, 27412\, United States
CATEGORIES:College of Visual and Performing Arts,School of Art
END:VEVENT
BEGIN:VEVENT
DTSTART;TZID=America/New_York:20250919T033000
DTEND;TZID=America/New_York:20250919T160000
DTSTAMP:20260422T202254
CREATED:20250911T181844Z
LAST-MODIFIED:20250911T181848Z
UID:10003429-1758252600-1758297600@vpa.uncg.edu
SUMMARY:A Decade of Darkness
DESCRIPTION:Photographer MJ Sharp is a documentary artist based in Durham\, North Carolina. She was a visiting Fulbright Scholar at the University of Exeter\, UK\, for the 2021/2022 academic year pursuing the art/science collaboration Our Disappearing Darkness and Recreating True Night  with nocturnal ecologist Dr. Kevin Gaston.  \n\n\n\nTo learn more about MJ Sharp visit: https://mjsharp.com/
URL:https://vpa.uncg.edu/single-event/a-decade-of-darkness/2025-09-19/
LOCATION:Gatewood Studio Arts Center\, 527 Highland Ave\, Greensboro\, NC 27412\, USA\, 527 Highland Ave\, Greensboro\, 27412\, United States
CATEGORIES:College of Visual and Performing Arts,School of Art
END:VEVENT
BEGIN:VEVENT
DTSTART;TZID=America/New_York:20250919T193000
DTEND;TZID=America/New_York:20250919T213000
DTSTAMP:20260422T202254
CREATED:20250813T143313Z
LAST-MODIFIED:20250822T133017Z
UID:10003347-1758310200-1758317400@vpa.uncg.edu
SUMMARY:Rahsaan Barber Quintet
DESCRIPTION:Since earning a Master’s Degree in Jazz Performance from the Manhattan School of Music in 2005\, Rahsaan Barber has set out on a singular path of musical excellence in performance\, composition\, education\, and entrepreneurship. Rahsaan enjoys a career that encompasses an ever-expanding range of musical styles\, including jazz\, blues\, funk\, classical\, fusion\, soul\, Latin\, and world music. \n\n\n\nRahsaan’s passionate\, sincere\, and studious approach to music-making has garnered professional appearances onstage alongside such heavyweights as Christian McBride\, Brian Blade\, the Temptations\, Delfeayo Marsalis\, the Spanish Harlem Orchestra\, Duffy Jackson\, Winard Harper\, Kirk Franklin\, Meghan Trainor and the Wooten Brothers. The saxophonist has performed on many of the world’s most prestigious stages for music including The Ryman\, The Village Vanguard\, Birdland\, Lincoln Center\, the Kennedy Center\, the Montreux Jazz Festival\, and the Smithsonian’s National Museum of African American History and Culture. Rahsaan joined the ranks of the nation’s rising jazz stars as the leader of his own quintet\, Everyday Magic\, and co-leader of the groundbreaking Nashville-based Latin-jazz septet El Movimiento. Rahsaan has entered the ranks of the nation’s premier jazz artists following several celebrated releases\, most recently including “Mosaic\,” a double-disc collection of original works released in April of 2021\, featuring trumpeter Nathan Warner and trombonist Roland Barber\, Rahsaan’s twin brother. Prior to the release of “Mosaic\,” Barber received critical acclaim for “The Music In The Night” (2017) and “Everyday Magic\,” (2011) both released on the saxophonist’s record label\, Jazz Music City\, which he founded to showcase his hometown’s (Nashville\, TN) diverse and impressive musical talent. In addition to his own jazz outfits\, the saxophonist founded The Nashville Salsa Machine in 2016\, a twelve-member ensemble featuring Music City’s most celebrated Latin-music performers. Barber is also an in-demand saxophonist for recording sessions and touring work\, most recently completing a year-long tour with pop icon Kelly Clarkson and multiple tours with Lauren Daigle. \n\n\n\nRahsaan currently serves as Assistant Professor of Jazz Studies and Saxophone at the University of North Carolina at Chapel Hill. Barber has taught extensively at the collegiate level for over a decade\, including six years of instruction at Belmont University\, where he began his collegiate teaching career as instructor jazz and classical saxophone\, jazz ensembles\, and commercial music styles at the impressive age of twenty-five. Barber has given masterclasses and concerts at multiple Jazz Education Network conferences and at numerous colleges and universities\, including the University of Tennessee at Knoxville\, the University of Memphis\, Lipscomb University\, UNC-Pembroke\, UNC-Wilmington\, Indiana University\, The University of Wisconsin (OshKosh)\, the University of Evansville\, and many more. In addition\, Rahsaan has served as Vice-President of the Tennessee Jazz and Blues Society and as a board member for the Nashville Jazz Workshop’s Diversity\, Equity and Inclusion panel. \n\n\n\n\n\n\n\nThe Miles Davis Jazz Studies Program at UNCG is a unique and innovative undergraduate jazz program designed to emulate the traditional process of learning jazz\, through a combination of mentorship\, real-world playing experiences\, and a communal approach to learning. Although the program is housed in one of the largest music schools in the Southeast\, it is kept intentionally small\, resulting in an intensive and highly personalized learning environment. \n\n\n\n UNCG offers the following degree programs for students interested in studying Jazz: \n\n\n\n\nBachelor of Music (B.M.) – Performance\n\n\n\nPost-Baccalaureate Certificate in Jazz Studies\n\n\n\n\n\n\n\n\nAdditional Event\nMasterclass3:00 pm\, Organ Hall \n\n\n\n\n\nParking\n\n\n\n\n\n\n\n\nThe importance of philanthropy has never been greater. Please consider a gift to the School of Music to support our mission and ensure the future of music at UNCG. \n\n\n\n\n\nInstagram\n\nFacebook\n\nX\n\nYouTube
URL:https://vpa.uncg.edu/single-event/rahsaan-barber-quintet/
LOCATION:Organ Hall\, 100 McIver St\, Greensboro\, 27412\, United States
CATEGORIES:College of Visual and Performing Arts,School of Music
ATTACH;FMTTYPE=image/jpeg:https://vpa.uncg.edu/wp-content/uploads/2025/08/rahsaan-barber-jazz-feature.jpg
END:VEVENT
END:VCALENDAR