BEGIN:VCALENDAR
VERSION:2.0
PRODID:-//College of Visual and Performing Arts - ECPv6.15.20//NONSGML v1.0//EN
CALSCALE:GREGORIAN
METHOD:PUBLISH
X-ORIGINAL-URL:https://vpa.uncg.edu
X-WR-CALDESC:Events for College of Visual and Performing Arts
REFRESH-INTERVAL;VALUE=DURATION:PT1H
X-Robots-Tag:noindex
X-PUBLISHED-TTL:PT1H
BEGIN:VTIMEZONE
TZID:America/New_York
BEGIN:DAYLIGHT
TZOFFSETFROM:-0500
TZOFFSETTO:-0400
TZNAME:EDT
DTSTART:20240310T070000
END:DAYLIGHT
BEGIN:STANDARD
TZOFFSETFROM:-0400
TZOFFSETTO:-0500
TZNAME:EST
DTSTART:20241103T060000
END:STANDARD
BEGIN:DAYLIGHT
TZOFFSETFROM:-0500
TZOFFSETTO:-0400
TZNAME:EDT
DTSTART:20250309T070000
END:DAYLIGHT
BEGIN:STANDARD
TZOFFSETFROM:-0400
TZOFFSETTO:-0500
TZNAME:EST
DTSTART:20251102T060000
END:STANDARD
BEGIN:DAYLIGHT
TZOFFSETFROM:-0500
TZOFFSETTO:-0400
TZNAME:EDT
DTSTART:20260308T070000
END:DAYLIGHT
BEGIN:STANDARD
TZOFFSETFROM:-0400
TZOFFSETTO:-0500
TZNAME:EST
DTSTART:20261101T060000
END:STANDARD
END:VTIMEZONE
BEGIN:VEVENT
DTSTART;TZID=America/New_York:20250819T123000
DTEND;TZID=America/New_York:20250823T170000
DTSTAMP:20260419T205655
CREATED:20250801T020503Z
LAST-MODIFIED:20250801T020507Z
UID:10003333-1755606600-1755968400@vpa.uncg.edu
SUMMARY:This black feeling Art exhibition
DESCRIPTION:This Black Feeling\n\n\n\nSolo Exhibition by Zaire Miles-MoultriE \n\n\n\n August 19 – August 23\, 2025\n\n\n\nReception: Friday\, August 22nd | 6-8P\n\n\n\n\n\n\n\nMore About This Black Feeling \n\n\n\nThis Black Feeling is a culmination of my artistic evolution thus far\, bringing together works from ongoing and completed projects\, individual pieces\, and exploratory sketches. Serving as a window into my visual world\, it reveals the techniques\, narratives\, and emotions that define my practice. \n\n\n\nMoving between the surreal and the real\, my work is imbued with a recurring sensation of black\, but not bleak. A duality of darkness that is rich\, not empty\, a space of possibility rather than absence. For me black and Blackness (both as a color and a social construct) carries a profound complexity: it is a lived reality\, rich with depth\, emotion\, beauty\, a timeless resonance\, and so much more. Through this collection of works\, I invite viewers to engage with their layered meaning and the enduring power of black both as an aesthetic and a conceptual force. \n\n\n\nMore About Zaire  \n\n\n\nRooted in my Southern upbringing\, my work explores Blackness—both a social construct and a lived reality—alongside spirituality and otherness\, transforming the familiar into the mystical. Using biblical iconography\, antique Black figures\, and flora and fauna\, I depict the surreal duality of Southern Black existence. My practice lives at the intersection of heritage and imagination\, where history meets possibility. \n\n\n\nMy collages become portals to examine identity and collective memory. Each piece begins with meticulous research into historical figures\, objects\, and events. I then employ various printmaking techniques to create imagery that I cut\, stitch\, and layer in a deliberate act of storytelling. Using both analog and digital collage methods\, I construct intricate compositions guided by a simple philosophy: If I can’t find it\, I’ll make it; if I can’t make it\, I’ll find it. The work comes to life through traditional printmaking processes like screen-printing and lithography. \n\n\n\nUltimately\, my practice celebrates resilience and the enduring power of printmaking and collage to provoke thought\, stir emotion\, and ignite change. By embracing their transformative potential\, I affirm that every piece carries the power to rewrite history\, reclaim agency\, and reimagine the world anew—for my nieces and nephews\, and for all of us. \n\n\n\nTo learn more follow Zaire on instagram @that_zaire \n\n\n\n \n\n\n\nGreensboro Project Space Weekly Hours \n\n\n\nTuesday-Friday\, 12-5p \n\n\n\nSaturday\, 2-5p
URL:https://vpa.uncg.edu/single-event/this-black-feeling-art-exhibition/
LOCATION:Greensboro Project Space\, 111 E February 1 Pl\, Greensboro\, NC 27406\, USA
CATEGORIES:College of Visual and Performing Arts,Greensboro Project Space,School of Art
ATTACH;FMTTYPE=image/jpeg:https://vpa.uncg.edu/wp-content/uploads/2025/07/This-plack-feeling-poster-1-8.5x11-scaled.jpg
ORGANIZER;CN="Greensboro Project Space":MAILTO:greensboroprojectspace@gmail.com
END:VEVENT
END:VCALENDAR