BEGIN:VCALENDAR
VERSION:2.0
PRODID:-//College of Visual and Performing Arts - ECPv6.15.20//NONSGML v1.0//EN
CALSCALE:GREGORIAN
METHOD:PUBLISH
X-ORIGINAL-URL:https://vpa.uncg.edu
X-WR-CALDESC:Events for College of Visual and Performing Arts
REFRESH-INTERVAL;VALUE=DURATION:PT1H
X-Robots-Tag:noindex
X-PUBLISHED-TTL:PT1H
BEGIN:VTIMEZONE
TZID:America/New_York
BEGIN:DAYLIGHT
TZOFFSETFROM:-0500
TZOFFSETTO:-0400
TZNAME:EDT
DTSTART:20230312T070000
END:DAYLIGHT
BEGIN:STANDARD
TZOFFSETFROM:-0400
TZOFFSETTO:-0500
TZNAME:EST
DTSTART:20231105T060000
END:STANDARD
BEGIN:DAYLIGHT
TZOFFSETFROM:-0500
TZOFFSETTO:-0400
TZNAME:EDT
DTSTART:20240310T070000
END:DAYLIGHT
BEGIN:STANDARD
TZOFFSETFROM:-0400
TZOFFSETTO:-0500
TZNAME:EST
DTSTART:20241103T060000
END:STANDARD
BEGIN:DAYLIGHT
TZOFFSETFROM:-0500
TZOFFSETTO:-0400
TZNAME:EDT
DTSTART:20250309T070000
END:DAYLIGHT
BEGIN:STANDARD
TZOFFSETFROM:-0400
TZOFFSETTO:-0500
TZNAME:EST
DTSTART:20251102T060000
END:STANDARD
END:VTIMEZONE
BEGIN:VEVENT
DTSTART;TZID=America/New_York:20240225T173000
DTEND;TZID=America/New_York:20240225T190000
DTSTAMP:20260420T045551
CREATED:20240130T164901Z
LAST-MODIFIED:20240130T164901Z
UID:10000974-1708882200-1708887600@vpa.uncg.edu
SUMMARY:Joseph Gascho\, harpsichord • Guest Artist Recital
DESCRIPTION:DOWNLOAD PROGRAM\n  \n \n\nThe importance of philanthropy has never been greater. Please consider a gift to the School of Music to support our mission and ensure the future of music at UNCG.
URL:https://vpa.uncg.edu/single-event/joseph-gascho-harpsichord-guest-artist-recital/
LOCATION:Organ Hall\, 100 McIver St\, Greensboro\, 27412\, United States
CATEGORIES:College of Visual and Performing Arts,School of Music
ORGANIZER;CN="Music Bldg-2-CVPA &#8211%3B Organ Hall (125)":MAILTO:uncg.edu_3735333130333732353136@resource.calendar.google.com
END:VEVENT
BEGIN:VEVENT
DTSTART;TZID=America/New_York:20240225T193000
DTEND;TZID=America/New_York:20240225T210000
DTSTAMP:20260420T045551
CREATED:20240130T164913Z
LAST-MODIFIED:20240130T164913Z
UID:10000964-1708889400-1708894800@vpa.uncg.edu
SUMMARY:Susan Fancher and Branford Marsalis\, saxophones • Guest Artist Recital
DESCRIPTION:DOWNLOAD PROGRAM\nSusan Fancher\, soprano and alto saxophones\nBranford Marsalis\, alto saxophone\nInara Zandmane\, piano \n\nROGERS\nLessons of the Sky \nPOLAK\nLargo et Allegro \nSTEINKE\nStrange Lights \nENGEBRETSON\nDuo Concertante \n  \n \n\nThe importance of philanthropy has never been greater. Please consider a gift to the School of Music to support our mission and ensure the future of music at UNCG. \n\n \n   \n\n\n\n\n\nSusan Fancher is an internationally recognized classical saxophonist known for her expressive tone and poetic musical interpretations. She has inspired and premiered over 100 new compositions and continues to collaborate with composers both young and more established to create new\, vibrant repertoire for the saxophone. Audiences and critics praise her ability to fill even the most complex notation with life\, a trademark of her work as a champion of new music. Susan Fancher is an active performer appearing in concerts as a concerto soloist\, with pianist Ināra Zandmane\, with the Red Clay Saxophone Quartet\, performing music with electronics\, in sacred settings\, and with the band The Difficulties. She is the former soprano saxophonist of the Amherst\, Vienna\, and Rollin’ Phones saxophone quartets.  \nRecent and upcoming performances of new compositions include Scott Lindroth’s Schley Road together with the Ciompi String Quartet\, Glory by Harriet Steinke with the Women’s Wind Ensemble\, Men’s Culture by Stuart Saunders Smith with percussionist Joseph Van Hassel\, Hedera by James Paul Sain\, and Mending Time by Martin Bresnick with the Red Clay Saxophone Quartet\, Enveloped by Jenni Watson for solo saxophone\, new music by Shar Joyner\, Indiria Everett\, and Suzanne Polak for saxophone and piano\, and Not The End and other new music created and performed by The Difficulties.  \n\nContinue reading about Susan Fancher\nAs a concerto soloist\, Susan Fancher has championed concertos for soprano saxophone by Mark Engebretson\, David Kirkland Garner\, Hilary Tann\, and Michael Torke. Susan Fancher’s discography lists over twenty CDs on Arizona University Records\, Philips\, New World\, Lotus Records Salzburg\, Parma\, Mark Records\, Extraplatte\, and Innova Records. Her CD release “Of Erthe and Air: Susan Fancher and friends play music of Hilary Tann” on Arizona University Records features a live performance of Tann’s soprano saxophone concerto Shakkei with the Thailand Philharmonic Orchestra\, performed at the World Saxophone Congress in Bangkok. \nShe has performed in many of the world’s leading venues including Sala São Paulo\, Carnegie Hall’s Weill Recital Hall\, London’s Queen Elizabeth Hall\, Vienna’s Konzerthaus\, Filharmonia Hall in Warsaw\, and the Krannert Center for the Performing Arts\, and has appeared in concert in Albania\, Austria\, Brazil\, Bulgaria\, Canada\, China\, Finland\, France\, Germany\, Ireland\, Italy\, Lithuania\, Luxembourg\, Norway\, Spain\, Sweden\, Thailand\, and throughout the US. \nBorn and raised in Albion\, New York\, Susan Fancher earned undergraduate degrees in both saxophone performance and mathematics\, as well as her Doctor of Music\, from Northwestern University\, where she was a student of Dr. Frederick Hemke. She was awarded the Médaille d’Or (Gold Medal) from the conservatory in Bordeaux\, France\, where she studied with Monsieur Jean-Marie Londeix. Susan Fancher is a Lecturing Fellow at Duke University where she teaches saxophone and entrepreneurship\, and coaches chamber music.  She is an artist clinician for the Vandoren/DANSR and Selmer companies. \n\n\nGrowing up in the rich environment of New Orleans as the oldest son of pianist and educator Ellis Marsalis\, Branford Marsalis was drawn to music along with siblings Wynton\, Delfeayo\, and Jason.  His first instrument\, the clarinet\, gave way to the alto and then the tenor and soprano saxophones when the teenage Branford began working in local bands.  A growing fascination with jazz as he entered college gave him the basic tools to obtain his first major jobs\, with trumpet legend Clark Terry and alongside Wynton in Art Blakey’s legendary Jazz Messengers.  When the brothers left to form the Wynton Marsalis Quintet\, the world of uncompromising acoustic jazz was invigorated.  Branford formed his own quartet in 1986 and\, with a few minor interruptions in the early years\, has sustained the unit as his primary means of expression.  Known for the telepathic communication among its uncommonly consistent personnel\, its deep book of original music replete with expressive melodies and provocative forms\, and an unrivaled spirit in both live and recorded performances\, the Branford Marsalis Quartet has long been recognized as the standard to which other ensembles of its kind must be measured.  \nClassical music inhabits a growing portion of Branford’s musical universe. A frequent soloist with classical ensembles\, Branford has become increasingly sought after as a featured soloist with such acclaimed orchestras as the Chicago\, Detroit\, Düsseldorf\, and North Carolina Symphonies and the Boston Pops\, with a growing repertoire that includes compositions by Debussy\, Glazunov\, Ibert\, Mahler\, Milhaud\, Rorem and Vaughn Williams.   \n\nContinue reading about Branford Marsalis\nUnder the direction of conductor Gil Jardim\, Branford Marsalis and members of the Philharmonia Brasileira toured the United States in the Fall of 2008\, performing works by Brazilian composer Heitor Villa-Lobos in commemoration of the 50th Anniversary of the revered Brazilian composer’s death. Making his first appearance with the New York Philharmonic in the summer of 2010\, Marsalis was invited to join them again as soloist in their 2010‐2011 concert series\, where he demonstrated his versatility and prowess\, bringing “a gracious poise and supple tone… and an insouciant swagger” (New York Times) to the repertoire. In 2013\, Branford served as Creative Director for the Ascent Series of the Cincinnati Symphony Orchestra\, which included two week-long residencies as well as several concerts with the CSO.   \nIn Fall of 2014\, Branford joined the highly-celebrated Chamber Orchestra of Philadelphia in Marsalis “Well-Tempered” on a 20-city US tour\, performing Baroque masterpieces by Albinoni\, Bach\, Handel\, Vivaldi\, and others. In October 2015\, Branford took on the challenging Saxophone Concerto by composer John Adams\, performing the piece with the Tokyo Metropolitan Symphony Orchestra. In 2016\, he traveled to Germany for a concert with the Bayerische Staatsoper at the National Theatre in Munich\, performing an array of selections including Jacob Ter Veldhuis’ Tallahatchie Concerto\, and then returned to Asia twice more that year\, first for his debut collaboration with the City Chamber Orchestra of Hong Kong\, followed by a trip to Kuala Lumpur where he performed two concerts with the Malaysian Philharmonic Orchestra at the Petronas Twin Towers. In Fall 2016\, he returned to his home state of Louisiana where he was invited to be a guest soloist with the Baton Rouge Symphony Orchestra\, presenting works by John Williams and Heitor Villa Lobos. \nAs for other public stages\, Branford spent a period touring with Sting\, collaborated with the Grateful Dead and Bruce Hornsby\, served as Musical Director of The Tonight Show Starring Jay Leno\, and hosted National Public Radio’s widely syndicated Jazz Set.  The range and quality of these diverse activities established Branford Marsalis as a familiar presence beyond the worlds of jazz and classical music\, while his efforts to help heal and rebuild New Orleans in the wake of Hurricane Katrina mark him as an artist with an uncommonly effective social vision.  Together with Harry Connick\, Jr. and New Orleans Habitat for Humanity\, Branford conceived and helped to realize The Musicians’ Village\, a community in the Upper Ninth Ward that provides homes to the displaced families of musicians and other local residents.  At the heart of The Musicians’ Village stands the Ellis Marsalis Center for Music\, a community center dedicated to preserving the rich New Orleans musical legacy containing state-of-the art spaces for performance\, instruction\, and recording.  \nSome might gauge Branford Marsalis’s success by his numerous awards\, including three Grammys and his citation as a Jazz Master by the National Endowment for the Arts.  To Branford\, however\, these are only way stations along what continues to be one of the most fascinating and rewarding journeys in the world of music.\n\n\nInāra Zandmane is one of the leading collaborative pianists of North Carolina. She has performed with such artists as Dmitry Sitkovetsky\, Augustin Hadelich\, Ray Chen\, Sergei Antonov\, Yura Lee\, Martin Storey\, Paul Coletti\, Ian Clarke\, and Branford Marsalis\, in addition to regularly performing with Blue Mountain Ensemble and in duos with saxophonist Susan Fancher and violinist Fabián López. In 2008\, Ināra teamed up with Latvian violinist Vineta Sareika on a tour leading them to Boston\, Cleveland\, and Toronto\, before culminating in an invitation-only performance at the Kennedy Center arranged by the Latvian Embassy in the United States. In 2012\, Ināra stepped in on a short notice to perform with violinist Ray Chen at the Aspen Music Festival\, followed by a recital in Lima\, Peru. In 2014\, she was invited to the International Saxophone Symposium and Competition in Columbus\, Georgia to present a recital with Vincent David.  \nMs. Zandmane is frequently invited to serve as an official accompanist at national conferences and competitions\, among them the North American Saxophone Alliance conference and MTNA National competition since 2005. She is the accompanist in residence for the Southeastern Piano Festival that takes place in Columbia\, SC every June. Ināra Zandmane is the staff accompanist at the University of North Carolina at Greensboro where she performs with students and faculty more than fifty different programs per year.  \nInāra Zandmane’s solo recordings include the piano works by Maurice Ravel\, recorded together with her husband Vincent van Gelder\, and the complete piano sonatas by Alexander Scriabin. Ināra Zandmane has collaborated with leading Latvian composer Pēteris Vasks\, giving Latvian premieres of his piano works The Spring Music and Landscapes of the Burnt-out Earth and recording the latter one on the Conifer Classics label. She also can be heard in various chamber music collaborations on Navona Records and Centaur Records. 
URL:https://vpa.uncg.edu/single-event/susan-fancher-and-branford-marsalis-saxophones-guest-artist-recital/
LOCATION:Tew Recital Hall\, 100 McIver St\, Greensboro\, 27412\, United States
CATEGORIES:College of Visual and Performing Arts,School of Music
ORGANIZER;CN="Music Bldg-1-CVPA &#8211%3B Recital Hall (350)":MAILTO:uncg.edu_38393931303333362d313837@resource.calendar.google.com
END:VEVENT
BEGIN:VEVENT
DTSTART;TZID=America/New_York:20240226T090000
DTEND;TZID=America/New_York:20240226T160000
DTSTAMP:20260420T045551
CREATED:20240130T164901Z
LAST-MODIFIED:20240130T164901Z
UID:10000975-1708938000-1708963200@vpa.uncg.edu
SUMMARY:The Gatewood Gallery Presents: Elizabeth Stone – I Remember
DESCRIPTION:February 7 – March 15\, 2024\nElizabeth Stone: I Remember\nA multi-generational community based project.\nOpening Reception Feb. 7 @ 4pm with Artist Talk
URL:https://vpa.uncg.edu/single-event/the-gatewood-gallery-presents-elizabeth-stone-i-remember-14/
LOCATION:Gatewood Studio Arts Center\, 527 Highland Ave\, Greensboro\, NC 27412\, USA\, 527 Highland Ave\, Greensboro\, 27412\, United States
CATEGORIES:College of Visual and Performing Arts,School of Art
END:VEVENT
BEGIN:VEVENT
DTSTART;TZID=America/New_York:20240227T090000
DTEND;TZID=America/New_York:20240227T160000
DTSTAMP:20260420T045551
CREATED:20240130T164902Z
LAST-MODIFIED:20240130T164902Z
UID:10000976-1709024400-1709049600@vpa.uncg.edu
SUMMARY:The Gatewood Gallery Presents: Elizabeth Stone – I Remember
DESCRIPTION:February 7 – March 15\, 2024\nElizabeth Stone: I Remember\nA multi-generational community based project.\nOpening Reception Feb. 7 @ 4pm with Artist Talk
URL:https://vpa.uncg.edu/single-event/the-gatewood-gallery-presents-elizabeth-stone-i-remember-15/
LOCATION:Gatewood Studio Arts Center\, 527 Highland Ave\, Greensboro\, NC 27412\, USA\, 527 Highland Ave\, Greensboro\, 27412\, United States
CATEGORIES:College of Visual and Performing Arts,School of Art
END:VEVENT
BEGIN:VEVENT
DTSTART;TZID=America/New_York:20240227T193000
DTEND;TZID=America/New_York:20240227T210000
DTSTAMP:20260420T045551
CREATED:20240130T164913Z
LAST-MODIFIED:20240130T164913Z
UID:10000967-1709062200-1709067600@vpa.uncg.edu
SUMMARY:Symphonic Band • Eric Willie\, percussion
DESCRIPTION:DOWNLOAD PROGRAMPROGRAM NOTES AND BIOS\nJonathan Caldwell\, conductor\nEric Willie\, percussion\nEric Laprade\, guest conductor\nKristin Arp\, graduate conductor \n\nRAUM\n100 Years of Fanfares \nCOPLEY\nIn Living Color \nBALLARD\nScenes from Indian Life \nJACOB\nWilliam Byrd Suite \nSÉJOURNÉ\nConcerto for Marimba and Wind Orchestra \nTICHELI\nBlue Shades \n  \n \n\nThe importance of philanthropy has never been greater. Please consider a gift to the School of Music to support our mission and ensure the future of music at UNCG. \n\n \n   \n  \n\n\n\n\n\n \nDescribed as a “true musical talent and professional” Eric Willie has a varied career as a percussion soloist\, chamber musician\, orchestral player\, and teacher. \nHaving performed on three continents\, Eric has presented solo performances throughout the United States\, Russia\, Brasil\, and Colombia. Most recently\, Eric performed as soloist with the Tamborimba Ensamble in Cali\, Colombia\, and conducted Edgard Varese’s “Ionisation” at the III Encontro Percussivo in Recife\, Pernambuco Brasil. In the United States\, Eric has performed or conducted at ten Percussive Arts Society’s International Conventions (PASIC)\, presented at the Midwest Clinic\, as well as several state days of percussion and music educator conventions. \nAs a chamber musician\, Eric performs with the Nief-Norf Project and the Legal Wood Project. As well\, as an avid promoter of new music for percussion\, Eric has commissioned and/or premiered works by Christopher Adler\, Michael Burritt\, Doug Bristol\, Eric Cha-Beach\, Elliott Cole\, Greg Danner\, Christopher Deane\, Paul Lansky\, Anna Meadors\, Marc Mellits\, Leroy Osmon\, John Psathas\, Josh Quillen\, Baljinder Sekhon\, Adam Silverman\, D.J. Sparr\, Jason Treuting\, Blake Tyson\, Alejandro Viñao\, Matt Walker\, Jamie Whitmarsh\, and James Wood. \nActive within the Percussive Arts Society (PAS)\, Eric previously served as Chair of the International Percussion Ensemble Committee\, President of the Tennessee Chapter\, as a New Literature and Recordings Reviewer for Percussive Notes journal\, and now serves as Vice President for the North Carolina Chapter of the Society. His percussion ensembles have been named winners of the 2015 and 2020 PAS International Percussion Ensemble Competition. \nIn addition to his talents as a classical percussionist\, Eric is known for his marching percussion arranging and teaching experience. He has served on staff with the Cavaliers Drum and Bugle Corps\, served as a Percussion Consultant with the Phantom Regiment Drum and Bugle Corps (2012-2013)\, and instructor and/or arranger for the Spirit\, Southwind\, Carolina Crown\, and the Madison Scouts drum and bugle corps. He has also instructed for the University of North Texas “A” Line\, Music City Mystique\, and as Faculty for the Music for All World Percussion Symposium. \nAs an author and composer\, his books and solo have been published by Innovative Percussion\, TapSpace\, and Row-Loff. The latter\, his coauthored “All-Inclusive Audition Etudes” book\, has been adopted for use by the North Carolina and Tennessee Music Educator’s Associations. \nCurrently\, Eric serves as Professor of Percussion Studies at the University of North Carolina at Greensboro\, where he directs a comprehensive percussion program. In addition to his teaching opportunities\, Eric has served as Chair of the School of Music Faculty\, as Chair of the Brass and Percussion Area\, as well as a member of the Strategic Planning Committee. \nEric and his wife\, Rebecca (Executive Director\, Music for a Great Space)\, reside in Greensboro\, NC\, with their children Aiden and Elina. \n\nThe renowned UNCG Bands are dedicated to the performance\, study\, and cultivation of wind band music of the highest quality\, and are a serious and distinctive medium of musical expression. The UNCG Bands are considered to be among the very finest collegiate band programs in America based upon our active profile of excellence in our performances\, recordings\, tours and convention performances. \nThrough exemplary practices in organization\, training\, and presentation\, the UNCG Bands provide exceptional experiences for our members\, sharing outstanding performances throughout the year and enhancing the institutional spirit and character of UNCG. \nThe UNCG Bands seek to support music education in the state of North Carolina and in our region by providing leadership and sponsorship to secondary school band programs and other organizations.
URL:https://vpa.uncg.edu/single-event/symphonic-band-eric-willie-percussion/
LOCATION:UNCG Auditorium\, 408 Tate Street\, Greensboro\, NC\, 27412\, United States
CATEGORIES:CVPA Live!,School of Music
ATTACH;FMTTYPE=image/jpeg:https://vpa.uncg.edu/wp-content/uploads/2024/01/bands-header-3FOXQV.tmp_.jpg
ORGANIZER;CN="UNCG Auditorium-1-CVPA &#8211%3B Master (2000)":MAILTO:uncg.edu_3736303334383835333332@resource.calendar.google.com
END:VEVENT
BEGIN:VEVENT
DTSTART;TZID=America/New_York:20240228T090000
DTEND;TZID=America/New_York:20240228T160000
DTSTAMP:20260420T045551
CREATED:20240130T164902Z
LAST-MODIFIED:20240130T164902Z
UID:10000977-1709110800-1709136000@vpa.uncg.edu
SUMMARY:The Gatewood Gallery Presents: Elizabeth Stone – I Remember
DESCRIPTION:February 7 – March 15\, 2024\nElizabeth Stone: I Remember\nA multi-generational community based project.\nOpening Reception Feb. 7 @ 4pm with Artist Talk
URL:https://vpa.uncg.edu/single-event/the-gatewood-gallery-presents-elizabeth-stone-i-remember-16/
LOCATION:Gatewood Studio Arts Center\, 527 Highland Ave\, Greensboro\, NC 27412\, USA\, 527 Highland Ave\, Greensboro\, 27412\, United States
CATEGORIES:College of Visual and Performing Arts,School of Art
END:VEVENT
BEGIN:VEVENT
DTSTART;TZID=America/New_York:20240228T193000
DTEND;TZID=America/New_York:20240228T210000
DTSTAMP:20260420T045551
CREATED:20240130T164913Z
LAST-MODIFIED:20240130T164913Z
UID:10000968-1709148600-1709154000@vpa.uncg.edu
SUMMARY:Concert Band
DESCRIPTION:DOWNLOAD PROGRAMPROGRAM NOTES AND BIOS\nKristin Arp\, conductor\nMichael Burns\, bassoon\nCatherine Keen Hock\, clarinet \n\nFUČIK\nThe Florentiner \nNORRIS\nScarborough Fair \nVANHALL\nfrom Concerto in C Major for Bassoon and Wind Ensemble  \nDAUGHTERY\nTwitch \nPIUNNO\nBeauty Broken \nSAUCEDO\nAmerican Barndance \n  \n \n\nThe importance of philanthropy has never been greater. Please consider a gift to the School of Music to support our mission and ensure the future of music at UNCG. \n\n \n   \n  \n\n\n\n\n\nThe renowned UNCG Bands are dedicated to the performance\, study\, and cultivation of wind band music of the highest quality\, and are a serious and distinctive medium of musical expression. The UNCG Bands are considered to be among the very finest collegiate band programs in America based upon our active profile of excellence in our performances\, recordings\, tours and convention performances. \nThrough exemplary practices in organization\, training\, and presentation\, the UNCG Bands provide exceptional experiences for our members\, sharing outstanding performances throughout the year and enhancing the institutional spirit and character of UNCG. \nThe UNCG Bands seek to support music education in the state of North Carolina and in our region by providing leadership and sponsorship to secondary school band programs and other organizations.
URL:https://vpa.uncg.edu/single-event/concert-band-2/
LOCATION:UNCG Auditorium\, 408 Tate Street\, Greensboro\, NC\, 27412\, United States
CATEGORIES:College of Visual and Performing Arts,CVPA Live!,School of Music
ATTACH;FMTTYPE=image/jpeg:https://vpa.uncg.edu/wp-content/uploads/2024/01/bands-header-3FOXQV.tmp_.jpg
ORGANIZER;CN="UNCG Auditorium-1-CVPA &#8211%3B Master (2000)":MAILTO:uncg.edu_3736303334383835333332@resource.calendar.google.com
END:VEVENT
BEGIN:VEVENT
DTSTART;TZID=America/New_York:20240229T090000
DTEND;TZID=America/New_York:20240229T160000
DTSTAMP:20260420T045551
CREATED:20240130T164903Z
LAST-MODIFIED:20240130T164903Z
UID:10000978-1709197200-1709222400@vpa.uncg.edu
SUMMARY:The Gatewood Gallery Presents: Elizabeth Stone – I Remember
DESCRIPTION:February 7 – March 15\, 2024\nElizabeth Stone: I Remember\nA multi-generational community based project.\nOpening Reception Feb. 7 @ 4pm with Artist Talk
URL:https://vpa.uncg.edu/single-event/the-gatewood-gallery-presents-elizabeth-stone-i-remember-17/
LOCATION:Gatewood Studio Arts Center\, 527 Highland Ave\, Greensboro\, NC 27412\, USA\, 527 Highland Ave\, Greensboro\, 27412\, United States
CATEGORIES:College of Visual and Performing Arts,School of Art
END:VEVENT
BEGIN:VEVENT
DTSTART;TZID=America/New_York:20240229T193000
DTEND;TZID=America/New_York:20240229T210000
DTSTAMP:20260420T045551
CREATED:20240130T164913Z
LAST-MODIFIED:20240130T164913Z
UID:10000972-1709235000-1709240400@vpa.uncg.edu
SUMMARY:Sinfonia
DESCRIPTION:DOWNLOAD PROGRAMPROGRAM NOTES AND BIOS\nRebecca MacLeod\, conductor \n\nELGAR\nSerenade for Strings \nWILLIAMS\nPrayer for Peace \nDUCASSE\nLakay (Home) \nGETZ\nI Remember When\nNight Rider \n  \n \n\nThe importance of philanthropy has never been greater. Please consider a gift to the School of Music to support our mission and ensure the future of music at UNCG. \n\n \n   \n  \n\n\n\n\n\nThe vibrant UNCG Orchestra program has long been recognized for performance excellence\, adventurous programming\, and high artistic standards. A diversity of offerings allow students the opportunity to perform repertoire for ensembles ranging from the largest cornerstone and contemporary works for full orchestra\, to intimate pieces for chamber orchestra\, to string orchestra. \nStudents in the UNCG Orchestra program are dedicated to the performance\, study and cultivation of orchestral music of the highest quality. The UNCG Orchestras offer outstanding performances throughout the year and enhance the institutional spirit and community of UNCG. We seek to promote music education in the state of North Carolina and in our region by supporting secondary school orchestra programs and other organizations through our outreach activities and other annual events on campus.
URL:https://vpa.uncg.edu/single-event/sinfonia-6/
LOCATION:Tew Recital Hall\, 100 McIver St\, Greensboro\, 27412\, United States
CATEGORIES:College of Visual and Performing Arts,CVPA Live!,School of Music
ATTACH;FMTTYPE=image/jpeg:https://vpa.uncg.edu/wp-content/uploads/2024/01/sinfonia-feature-lDG6QG.tmp_.jpg
ORGANIZER;CN="Music Bldg-1-CVPA &#8211%3B Recital Hall (350)":MAILTO:uncg.edu_38393931303333362d313837@resource.calendar.google.com
END:VEVENT
BEGIN:VEVENT
DTSTART;TZID=America/New_York:20240301T090000
DTEND;TZID=America/New_York:20240301T160000
DTSTAMP:20260420T045551
CREATED:20240130T164903Z
LAST-MODIFIED:20240130T164921Z
UID:10000979-1709283600-1709308800@vpa.uncg.edu
SUMMARY:The Gatewood Gallery Presents: Elizabeth Stone – I Remember
DESCRIPTION:February 7 – March 15\, 2024\nElizabeth Stone: I Remember\nA multi-generational community based project.\nOpening Reception Feb. 7 @ 4pm with Artist Talk
URL:https://vpa.uncg.edu/single-event/the-gatewood-gallery-presents-elizabeth-stone-i-remember-18/
LOCATION:Gatewood Studio Arts Center\, 527 Highland Ave\, Greensboro\, NC 27412\, USA\, 527 Highland Ave\, Greensboro\, 27412\, United States
CATEGORIES:College of Visual and Performing Arts,School of Art
END:VEVENT
END:VCALENDAR