BEGIN:VCALENDAR
VERSION:2.0
PRODID:-//College of Visual and Performing Arts - ECPv6.15.20//NONSGML v1.0//EN
CALSCALE:GREGORIAN
METHOD:PUBLISH
X-WR-CALNAME:College of Visual and Performing Arts
X-ORIGINAL-URL:https://vpa.uncg.edu
X-WR-CALDESC:Events for College of Visual and Performing Arts
REFRESH-INTERVAL;VALUE=DURATION:PT1H
X-Robots-Tag:noindex
X-PUBLISHED-TTL:PT1H
BEGIN:VTIMEZONE
TZID:America/New_York
BEGIN:DAYLIGHT
TZOFFSETFROM:-0500
TZOFFSETTO:-0400
TZNAME:EDT
DTSTART:20230312T070000
END:DAYLIGHT
BEGIN:STANDARD
TZOFFSETFROM:-0400
TZOFFSETTO:-0500
TZNAME:EST
DTSTART:20231105T060000
END:STANDARD
BEGIN:DAYLIGHT
TZOFFSETFROM:-0500
TZOFFSETTO:-0400
TZNAME:EDT
DTSTART:20240310T070000
END:DAYLIGHT
BEGIN:STANDARD
TZOFFSETFROM:-0400
TZOFFSETTO:-0500
TZNAME:EST
DTSTART:20241103T060000
END:STANDARD
BEGIN:DAYLIGHT
TZOFFSETFROM:-0500
TZOFFSETTO:-0400
TZNAME:EDT
DTSTART:20250309T070000
END:DAYLIGHT
BEGIN:STANDARD
TZOFFSETFROM:-0400
TZOFFSETTO:-0500
TZNAME:EST
DTSTART:20251102T060000
END:STANDARD
END:VTIMEZONE
BEGIN:VEVENT
DTSTART;TZID=America/New_York:20240218T140000
DTEND;TZID=America/New_York:20240218T160000
DTSTAMP:20260423T053946
CREATED:20240130T164909Z
LAST-MODIFIED:20240130T164909Z
UID:10000999-1708264800-1708272000@vpa.uncg.edu
SUMMARY:Tartuffe (Wilbur)
DESCRIPTION:By Molière\, translated into English verse by Richard Wilbur\nDirected by: John Gulley \nDates: \nFeb. 16 at 7:30 p.m.\nFeb. 17 at 2:00 p.m. & 7:30 p.m.\nFeb. 18 at 2:00 p.m. \nTickets: Call the UNCG Theatre Box Office at 336-334-4392 or click the link below to purchase tickets online. \nAge Rating: PG-13\nRun Time: Approx. 2 hrs.\nFrame/Works Discussion via Zoom: Feb. 19 at 7:00 p.m.\nLocation: UNCG Auditorium\, 408 Tate St\, Greensboro\, NC 27403 \nSummary: \nThe story takes place in the home of the wealthy Orgon\, where Tartuffe—a fraud and a pious imposter—has insinuated himself. He succeeds magnificently in winning the respect and devotion of the head of the house\, and then tries to marry his daughter and seduce his wife and scrounge the deed to the property. He nearly gets away with it\, but an emissary from King Louis XIV arrives in time to recover the property\, free Monsieur Orgon\, and haul Tartuffe off to jail. And so his duplicity is finally exposed and punished. But not before the author has mercilessly examined the evil that men can commit in the guise of religious fervor and the dangers that imperil those who would believe only what they choose to believe despite a mountain of evidence to the contrary. –Dramatist Play Service \n“…an astonishingly delightful romp…” –New York Post. \n“Stylish\, bright\, saucy.” –New York Journal-American. \n“…a rollicking evening of grace and fun.” –Newsday (NY). \nTARTUFFE (WILBUR) is presented by special arrangement with Broadway Licensing\, LLC\, servicing the Dramatists Play Service collection. (www.dramatists.com(opens in new window))
URL:https://vpa.uncg.edu/single-event/tartuffe-wilbur-4/
LOCATION:UNCG Auditorium\, 408 Tate St\, Greensboro\, NC 27403\, USA\, 408 Tate St\, NC\, United States
CATEGORIES:College of Visual and Performing Arts,School of Theatre
END:VEVENT
BEGIN:VEVENT
DTSTART;TZID=America/New_York:20240218T173000
DTEND;TZID=America/New_York:20240218T190000
DTSTAMP:20260423T053946
CREATED:20240130T164909Z
LAST-MODIFIED:20240130T164909Z
UID:10001000-1708277400-1708282800@vpa.uncg.edu
SUMMARY:Matthew Cates\, fortepiano • Graduate Recital
DESCRIPTION:DOWNLOAD PROGRAM\n  \n \n\nThe importance of philanthropy has never been greater. Please consider a gift to the School of Music to support our mission and ensure the future of music at UNCG.
URL:https://vpa.uncg.edu/single-event/matthew-cates-fortepiano-graduate-recital/
LOCATION:Tew Recital Hall\, 100 McIver St\, Greensboro\, 27412\, United States
CATEGORIES:School of Music
ORGANIZER;CN="Music Bldg-1-CVPA &#8211%3B Recital Hall (350)":MAILTO:uncg.edu_38393931303333362d313837@resource.calendar.google.com
END:VEVENT
BEGIN:VEVENT
DTSTART;TZID=America/New_York:20240218T193000
DTEND;TZID=America/New_York:20240218T210000
DTSTAMP:20260423T053946
CREATED:20240130T164910Z
LAST-MODIFIED:20240130T164910Z
UID:10001001-1708284600-1708290000@vpa.uncg.edu
SUMMARY:Hannah Markun\, trumpet • Graduate Recital
DESCRIPTION:DOWNLOAD PROGRAM\n  \n \n\nThe importance of philanthropy has never been greater. Please consider a gift to the School of Music to support our mission and ensure the future of music at UNCG.
URL:https://vpa.uncg.edu/single-event/hannah-markun-trumpet-graduate-recital/
LOCATION:Tew Recital Hall\, 100 McIver St\, Greensboro\, 27412\, United States
CATEGORIES:School of Music
ORGANIZER;CN="Music Bldg-1-CVPA &#8211%3B Recital Hall (350)":MAILTO:uncg.edu_38393931303333362d313837@resource.calendar.google.com
END:VEVENT
BEGIN:VEVENT
DTSTART;TZID=America/New_York:20240219T090000
DTEND;TZID=America/New_York:20240219T160000
DTSTAMP:20260423T053946
CREATED:20240130T164858Z
LAST-MODIFIED:20240130T164858Z
UID:10000961-1708333200-1708358400@vpa.uncg.edu
SUMMARY:The Gatewood Gallery Presents: Elizabeth Stone – I Remember
DESCRIPTION:February 7 – March 15\, 2024\nElizabeth Stone: I Remember\nA multi-generational community based project.\nOpening Reception Feb. 7 @ 4pm with Artist Talk
URL:https://vpa.uncg.edu/single-event/the-gatewood-gallery-presents-elizabeth-stone-i-remember-9/
LOCATION:Gatewood Studio Arts Center\, 527 Highland Ave\, Greensboro\, NC 27412\, USA\, 527 Highland Ave\, Greensboro\, 27412\, United States
CATEGORIES:College of Visual and Performing Arts,School of Art
END:VEVENT
BEGIN:VEVENT
DTSTART;TZID=America/New_York:20240220T090000
DTEND;TZID=America/New_York:20240220T160000
DTSTAMP:20260423T053946
CREATED:20240130T164858Z
LAST-MODIFIED:20240130T164858Z
UID:10000962-1708419600-1708444800@vpa.uncg.edu
SUMMARY:The Gatewood Gallery Presents: Elizabeth Stone – I Remember
DESCRIPTION:February 7 – March 15\, 2024\nElizabeth Stone: I Remember\nA multi-generational community based project.\nOpening Reception Feb. 7 @ 4pm with Artist Talk
URL:https://vpa.uncg.edu/single-event/the-gatewood-gallery-presents-elizabeth-stone-i-remember-10/
LOCATION:Gatewood Studio Arts Center\, 527 Highland Ave\, Greensboro\, NC 27412\, USA\, 527 Highland Ave\, Greensboro\, 27412\, United States
CATEGORIES:College of Visual and Performing Arts,School of Art
END:VEVENT
BEGIN:VEVENT
DTSTART;TZID=America/New_York:20240220T193000
DTEND;TZID=America/New_York:20240220T210000
DTSTAMP:20260423T053946
CREATED:20240130T164910Z
LAST-MODIFIED:20240130T164910Z
UID:10001002-1708457400-1708462800@vpa.uncg.edu
SUMMARY:James Hall\, flute • Guest Artist Recital
DESCRIPTION:DOWNLOAD PROGRAM\n  \n \n\nThe importance of philanthropy has never been greater. Please consider a gift to the School of Music to support our mission and ensure the future of music at UNCG.
URL:https://vpa.uncg.edu/single-event/james-hall-flute-guest-artist-recital/
LOCATION:Tew Recital Hall\, 100 McIver St\, Greensboro\, 27412\, United States
CATEGORIES:College of Visual and Performing Arts,School of Music
ORGANIZER;CN="Music Bldg-1-CVPA &#8211%3B Recital Hall (350)":MAILTO:uncg.edu_38393931303333362d313837@resource.calendar.google.com
END:VEVENT
BEGIN:VEVENT
DTSTART;TZID=America/New_York:20240220T193000
DTEND;TZID=America/New_York:20240220T213000
DTSTAMP:20260423T053946
CREATED:20240130T164858Z
LAST-MODIFIED:20240130T164858Z
UID:10000963-1708457400-1708464600@vpa.uncg.edu
SUMMARY:Chamber Singers and University Chorale
DESCRIPTION:DOWNLOAD PROGRAM\nWelborn Young\, conductor\nCarole Ott Coelho\, conductor \n  \n \n\nThe importance of philanthropy has never been greater. Please consider a gift to the School of Music to support our mission and ensure the future of music at UNCG. \n\n \n   \n\n\n\n\n\nThe mission of the UNCG Choirs is dedicated to the teaching\, performance\, study and cultivation of choral music of the highest quality representing not just the western choral canon but also choral music of other cultures by a diverse body of historical and new composers. We believe that the UNCG Choirs are a serious and distinctive medium of musical expression\, of vital service and importance to its members and to UNCG. Through ensemble performance\, we strive to create an environment of trust\, communication\, and expressive freedom\, to present outstanding performances throughout the year\, and to enhance the institutional sprit and character of UNCG. To music as an art and a profession\, the UNCG Choirs seek to bring increasing artistry\, understanding\, and respect by efforts within our own immediate sphere and by providing leadership and sponsorship to school choral programs and through cooperation with all other agencies pursuing similar musical goals.
URL:https://vpa.uncg.edu/single-event/chamber-singers-and-university-chorale/
LOCATION:First Presbyterian Church\, 617 N Elm St\, Greensboro\, 27401\, United States
CATEGORIES:College of Visual and Performing Arts,School of Music
ATTACH;FMTTYPE=image/jpeg:https://vpa.uncg.edu/wp-content/uploads/2024/01/first-pres-header-2zICLe.tmp_.jpg
END:VEVENT
BEGIN:VEVENT
DTSTART;TZID=America/New_York:20240221T090000
DTEND;TZID=America/New_York:20240221T160000
DTSTAMP:20260423T053946
CREATED:20240130T164859Z
LAST-MODIFIED:20240130T164859Z
UID:10000965-1708506000-1708531200@vpa.uncg.edu
SUMMARY:The Gatewood Gallery Presents: Elizabeth Stone – I Remember
DESCRIPTION:February 7 – March 15\, 2024\nElizabeth Stone: I Remember\nA multi-generational community based project.\nOpening Reception Feb. 7 @ 4pm with Artist Talk
URL:https://vpa.uncg.edu/single-event/the-gatewood-gallery-presents-elizabeth-stone-i-remember-11/
LOCATION:Gatewood Studio Arts Center\, 527 Highland Ave\, Greensboro\, NC 27412\, USA\, 527 Highland Ave\, Greensboro\, 27412\, United States
CATEGORIES:College of Visual and Performing Arts,School of Art
END:VEVENT
BEGIN:VEVENT
DTSTART;TZID=America/New_York:20240221T193000
DTEND;TZID=America/New_York:20240221T210000
DTSTAMP:20260423T053946
CREATED:20240130T164911Z
LAST-MODIFIED:20240130T164911Z
UID:10001003-1708543800-1708549200@vpa.uncg.edu
SUMMARY:New Music Quartet • Guest Artist Recital
DESCRIPTION:DOWNLOAD PROGRAM\n  \n \n\nThe importance of philanthropy has never been greater. Please consider a gift to the School of Music to support our mission and ensure the future of music at UNCG.
URL:https://vpa.uncg.edu/single-event/new-music-quartet-guest-artist-recital/
LOCATION:Tew Recital Hall\, 100 McIver St\, Greensboro\, 27412\, United States
CATEGORIES:College of Visual and Performing Arts,School of Music
ORGANIZER;CN="Music Bldg-1-CVPA &#8211%3B Recital Hall (350)":MAILTO:uncg.edu_38393931303333362d313837@resource.calendar.google.com
END:VEVENT
BEGIN:VEVENT
DTSTART;TZID=America/New_York:20240222T090000
DTEND;TZID=America/New_York:20240222T160000
DTSTAMP:20260423T053946
CREATED:20240130T164859Z
LAST-MODIFIED:20240130T164859Z
UID:10000966-1708592400-1708617600@vpa.uncg.edu
SUMMARY:The Gatewood Gallery Presents: Elizabeth Stone – I Remember
DESCRIPTION:February 7 – March 15\, 2024\nElizabeth Stone: I Remember\nA multi-generational community based project.\nOpening Reception Feb. 7 @ 4pm with Artist Talk
URL:https://vpa.uncg.edu/single-event/the-gatewood-gallery-presents-elizabeth-stone-i-remember-12/
LOCATION:Gatewood Studio Arts Center\, 527 Highland Ave\, Greensboro\, NC 27412\, USA\, 527 Highland Ave\, Greensboro\, 27412\, United States
CATEGORIES:College of Visual and Performing Arts,School of Art
END:VEVENT
BEGIN:VEVENT
DTSTART;TZID=America/New_York:20240223T090000
DTEND;TZID=America/New_York:20240223T160000
DTSTAMP:20260423T053946
CREATED:20240130T164859Z
LAST-MODIFIED:20240130T164859Z
UID:10000969-1708678800-1708704000@vpa.uncg.edu
SUMMARY:The Gatewood Gallery Presents: Elizabeth Stone – I Remember
DESCRIPTION:February 7 – March 15\, 2024\nElizabeth Stone: I Remember\nA multi-generational community based project.\nOpening Reception Feb. 7 @ 4pm with Artist Talk
URL:https://vpa.uncg.edu/single-event/the-gatewood-gallery-presents-elizabeth-stone-i-remember-13/
LOCATION:Gatewood Studio Arts Center\, 527 Highland Ave\, Greensboro\, NC 27412\, USA\, 527 Highland Ave\, Greensboro\, 27412\, United States
CATEGORIES:College of Visual and Performing Arts,School of Art
END:VEVENT
BEGIN:VEVENT
DTSTART;TZID=America/New_York:20240223T183000
DTEND;TZID=America/New_York:20240223T200000
DTSTAMP:20260423T053946
CREATED:20240130T164859Z
LAST-MODIFIED:20240130T164859Z
UID:10000970-1708713000-1708718400@vpa.uncg.edu
SUMMARY:Greensboro Dance Film Festival Opening Reception
DESCRIPTION:Greensboro Dance Film Festival\, the first of its kind to reside in Greensboro\, features dance films from 23 countries in both student and professional categories. An opening reception will be hosted at Oden Brewery on Friday\, February 23rd. A full screening and live dance and music performances take place on Saturday\, February 24th at Transform GSO. The programs will also feature works that specifically address issues of race\, place\, and identity in a modern and ever-changing world and will be designed for and unique to the space.
URL:https://vpa.uncg.edu/single-event/greensboro-dance-film-festival-opening-reception/
LOCATION:Oden Brewing Company\, 804 W Gate City Blvd\, Greensboro\, 27403\, United States
CATEGORIES:College of Visual and Performing Arts,Community Engagement,School of Dance
ATTACH;FMTTYPE=image/jpeg:https://vpa.uncg.edu/wp-content/uploads/2024/01/gdff-lN76BG.tmp_.jpg
ORGANIZER;CN="School of Dance":MAILTO:dance@uncg.edu
END:VEVENT
BEGIN:VEVENT
DTSTART;TZID=America/New_York:20240223T193000
DTEND;TZID=America/New_York:20240223T210000
DTSTAMP:20260423T053946
CREATED:20240130T164901Z
LAST-MODIFIED:20240130T164901Z
UID:10000971-1708716600-1708722000@vpa.uncg.edu
SUMMARY:Wind Ensemble • Stephanie Ycaza\, tuba
DESCRIPTION:DOWNLOAD PROGRAMPROGRAM NOTES AND BIOS\n34th Annual\nCarolina Band Festival\nand Conductors Conference \n\nJonathan Caldwell\, conductor\nStephanie Ycaza\, tuba\nLaToya Webb\, guest conductor\nCourtney Snyder\, guest conductor\nKevin Sedatole\, guest conductor \n\nBOULANGER\nD’un matin de printemps \nETEZADY\nAgainst the Rain \nBROUWER\nPulse \nZIEK\nConcerto for Tuba and Wind Ensemble \nPEGRAM\nL.A.tudes (consortium premiere) \n  \n \n\nThe importance of philanthropy has never been greater. Please consider a gift to the School of Music to support our mission and ensure the future of music at UNCG. \n\n \n   \n\n\n\n\n \nDr. Stephanie Ycaza is Professor of Tuba and Euphonium at the UNC Greensboro School of Music. Prior to her appointment at UNCG\, Dr. Ycaza served as Instructor of Tuba and Euphonium at the University of Northern Iowa. She has also served on the music faculties of Virginia Commonwealth University\, Virginia State University\, Longwood University\, and the University of Richmond. \nDr. Ycaza is a founding member of Calypsus Brass\, a brass quintet dedicated to performing new works and providing recordings for composers. Calypsus is committed to promoting the works of composers from historically marginalized groups and serves as an Ensemble-in-Residence for Rising Tide Music Press. Dr. Ycaza is active as an orchestral musician and currently serves as Principal Tuba of the Waterloo-Cedar Falls Symphony. Her recent solo performances have focused on music for low brass with electronic accompaniment\, music by women composers\, and her own transcriptions and arrangements for tuba and euphonium. She has performed as a soloist\, offered masterclasses\, and presented on the topic of mindfulness in music around the United States and in South America. \nDr. Ycaza holds a Doctor of Musical Arts degree from Shenandoah University\, a Master of Music degree and Artist Diploma from Yale University\, and a Bachelor of Music degree from Virginia Commonwealth University. She has studied with Ross Walter\, Toby Hanks\, Mike Roylance\, Andrew Hitz\, and Michael Bunn. Dr. Ycaza is a Miraphone Tuba Artist. \n\nThe UNCG Wind Ensemble is a highly select concert band of fifty performers majoring in music at the UNCG School of Music. Performers in the current Wind Ensemble are drawn from sixteen states\, Slovenia\, and Hong Kong. The ensemble has enjoyed a distinguished record of performance throughout its history. In January 1992\, the UNCG Wind Ensemble performed “A Tribute to John Philip Sousa” to a capacity crowd of 2\,700 at the Concert Hall of the John F. Kennedy Center for the Performing Arts in Washington\, D.C. Twice\, the Wind Ensemble earned critical acclaim from The Washington Post following concerts in the nation’s capital. The Wind Ensemble has performed throughout the eastern United States in recent years including the first-ever performance\, in 1987\, by a North Carolina collegiate ensemble in Lincoln Center\, New York City. The Wind Ensemble performed that same year in West Virginia\, Virginia\, Pennsylvania\, and Washington\, D.C. The Wind Ensemble has recorded nineteen commercially-available albums which have received widespread praise. \nIn 1985\, the Wind Ensemble performed a series of concerts with Pulitzer Prize-winning composer-conductor Karel Husa. In 1988\, the UNCG Wind Ensemble performed in New Orleans\, Louisiana by invitation of the College Band Directors National Association for the Southern Division convention. On a number of occasions\, the Wind Ensemble has commissioned and premiered works from leading band composers. In November of 1990\, the Wind Ensemble performed for the Southern Division of MENC convention. In February 1994\, the UNCG Wind Ensemble performed for a convention of the CBDNA and NBA in Williamsburg\, Virginia. In March 1999\, the Wind Ensemble performed for the national convention of the American Bandmasters Association in Melbourne\, Florida. In February 2000\, the Wind Ensemble performed for the CBDNA Southern Division Convention hosted at UNCG. In 2006\, the Wind Ensemble performed in The Music Center at Strathmore in Bethesda\, Maryland\, shared a concert with the United States Army Band “Pershing’s Own” in Arlington\, Virginia\, and collaborated with Karel Husa\, David Dzubay\, and Carter Pann in the performaces of their music\, including two commissions. In 2009\, the Wind Ensemble performed at the CBDNA National Convention at the University of Texas at Austin and performed additional concerts in Georgia\, Alabama\, Louisiana\, and Texas as part of a week-long tour. The Wind Ensemble performed at the 2011 National Convention of the American Bandmasters Association and the 2013 National Conference of the College Band Directors National Association hosted in Greensboro. Most recently\, the UNCG took a twelve day concert tour through the Czech Republic\, Austria\, and Italy\, the highlight of which was a concert in Prague’s famed Dvořák Hall.
URL:https://vpa.uncg.edu/single-event/wind-ensemble-stephanie-ycaza-tuba/
LOCATION:UNCG Auditorium\, 408 Tate Street\, Greensboro\, NC\, 27412\, United States
CATEGORIES:College of Visual and Performing Arts,CVPA Live!,School of Music
ATTACH;FMTTYPE=image/jpeg:https://vpa.uncg.edu/wp-content/uploads/2024/01/wind-ensemble-header-1lZH0v.tmp_.jpg
ORGANIZER;CN="UNCG Auditorium-1-CVPA &#8211%3B Master (2000)":MAILTO:uncg.edu_3736303334383835333332@resource.calendar.google.com
END:VEVENT
BEGIN:VEVENT
DTSTART;TZID=America/New_York:20240224T100000
DTEND;TZID=America/New_York:20240224T110000
DTSTAMP:20260423T053946
CREATED:20240130T164911Z
LAST-MODIFIED:20240130T164911Z
UID:10001004-1708768800-1708772400@vpa.uncg.edu
SUMMARY:Last Stop on Market Street
DESCRIPTION:By Matt de la Pena\, Illustrated by Christian Robinson\nAdapted for the stage by Cheryl L. West\nMusic and Lyrics by Lamont Dozier and Paris Ray Dozier\nDigital Recording and Underscoring by Paris Ray Dozier\nOriginally co-commissioned and produced by Chicago Children’s Theatre and the Children’s Theatre Company\nDirected by Natalie Sowell \nDates: \nFeb. 3 at 10:00 a.m. & 2:30 p.m.\nFeb. 10 at 10:00 a.m. & 2:30 p.m.\nFeb. 17 at 10:00 a.m. & 2:30 p.m.\nFeb. 24 at 10:00 a.m. & 2:30 p.m. \nTickets: Call the UNCG Theatre Box Office at 336-334-4392 or click the link below to purchase tickets online. \nAge Rating: Ages 3 and up\nRun Time: Approx. 1 hr.\nFrame/Works Discussion via Zoom: TBA\nLocation: Pam and David Sprinkle Theatre (Brown Building)\, 402 Tate St\, Greensboro\, NC 27412 \nTouring Performances: NCTYP will bring the magic of live theatre to your school or organization! This production is touring every Tuesday and Thursday\, Feb. 27 to Apr. 18\, 2024. For information about bringing the touring version of this show to your school or organization\, please contact the School of Theatre Box Office at 336-334-4392 or email them at grpsales@uncg.edu. \nSummary: \nSeven-year-old CJ is staying with his Nana\, in a world considerably different from the one he’s used to. CJ goes on his first bus ride – it’s loud and gritty and NEW! Guided by Nana\, CJ travels a little closer to his roots and sees that things are not always what they seem. This is one hip-hop\, eclectic\, heart-thumpin’\, toe-tappin’ joy ride! \n“Last Stop on Market Street is what a children’s theater should be. It does not talk down to its audience. It is burgeoning with wonder. If you are a kid\, you’ll giggle yourself silly. If you were once a kid\, you just might remember what that felt like.” –Chicago Sun Times \nProduced by special arrangement with Plays for New Audiences.
URL:https://vpa.uncg.edu/single-event/last-stop-on-market-street-7/
LOCATION:Pam and David Sprinkle Theatre\, 402 Tate Street\, Greensboro\, NC\, 27403\, United States
CATEGORIES:College of Visual and Performing Arts,Community Engagement,School of Theatre
END:VEVENT
BEGIN:VEVENT
DTSTART;TZID=America/New_York:20240224T143000
DTEND;TZID=America/New_York:20240224T153000
DTSTAMP:20260423T053946
CREATED:20240130T164911Z
LAST-MODIFIED:20240130T164911Z
UID:10001005-1708785000-1708788600@vpa.uncg.edu
SUMMARY:Last Stop on Market Street
DESCRIPTION:By Matt de la Pena\, Illustrated by Christian Robinson\nAdapted for the stage by Cheryl L. West\nMusic and Lyrics by Lamont Dozier and Paris Ray Dozier\nDigital Recording and Underscoring by Paris Ray Dozier\nOriginally co-commissioned and produced by Chicago Children’s Theatre and the Children’s Theatre Company\nDirected by Natalie Sowell \nDates: \nFeb. 3 at 10:00 a.m. & 2:30 p.m.\nFeb. 10 at 10:00 a.m. & 2:30 p.m.\nFeb. 17 at 10:00 a.m. & 2:30 p.m.\nFeb. 24 at 10:00 a.m. & 2:30 p.m. \nTickets: Call the UNCG Theatre Box Office at 336-334-4392 or click the link below to purchase tickets online. \nAge Rating: Ages 3 and up\nRun Time: Approx. 1 hr.\nFrame/Works Discussion via Zoom: TBA\nLocation: Pam and David Sprinkle Theatre (Brown Building)\, 402 Tate St\, Greensboro\, NC 27412 \nTouring Performances: NCTYP will bring the magic of live theatre to your school or organization! This production is touring every Tuesday and Thursday\, Feb. 27 to Apr. 18\, 2024. For information about bringing the touring version of this show to your school or organization\, please contact the School of Theatre Box Office at 336-334-4392 or email them at grpsales@uncg.edu. \nSummary: \nSeven-year-old CJ is staying with his Nana\, in a world considerably different from the one he’s used to. CJ goes on his first bus ride – it’s loud and gritty and NEW! Guided by Nana\, CJ travels a little closer to his roots and sees that things are not always what they seem. This is one hip-hop\, eclectic\, heart-thumpin’\, toe-tappin’ joy ride! \n“Last Stop on Market Street is what a children’s theater should be. It does not talk down to its audience. It is burgeoning with wonder. If you are a kid\, you’ll giggle yourself silly. If you were once a kid\, you just might remember what that felt like.” –Chicago Sun Times \nProduced by special arrangement with Plays for New Audiences.
URL:https://vpa.uncg.edu/single-event/last-stop-on-market-street-8/
LOCATION:Pam and David Sprinkle Theatre\, 402 Tate Street\, Greensboro\, NC\, 27403\, United States
CATEGORIES:College of Visual and Performing Arts,Community Engagement,School of Theatre
END:VEVENT
BEGIN:VEVENT
DTSTART;TZID=America/New_York:20240224T190000
DTEND;TZID=America/New_York:20240224T210000
DTSTAMP:20260423T053946
CREATED:20240130T164901Z
LAST-MODIFIED:20240130T164901Z
UID:10000973-1708801200-1708808400@vpa.uncg.edu
SUMMARY:Greensboro Dance Film Festival
DESCRIPTION:Greensboro Dance Film Festival\, the first of its kind to reside in Greensboro\, features dance films from 23 countries in both student and professional categories. An opening reception will be hosted at Oden Brewery on Friday February 23rd. A full screening and live dance and music performances take place on Saturday\, February 24th at Transform GSO. The programs will also feature works that specifically address issues of race\, place\, and identity in a modern and ever-changing world and will be designed for and unique to the space. \nThe event is free and open to the public.
URL:https://vpa.uncg.edu/single-event/greensboro-dance-film-festival-2/
LOCATION:transform GSO\, 111 W Lewis St\, Greensboro\, NC 27406\, USA\, 111 W Lewis St\, Greensboro\, NC\, 27406\, United States
CATEGORIES:College of Visual and Performing Arts,Community Engagement,School of Dance
ATTACH;FMTTYPE=image/jpeg:https://vpa.uncg.edu/wp-content/uploads/2024/01/gdff-lN76BG.tmp_.jpg
ORGANIZER;CN="School of Dance":MAILTO:dance@uncg.edu
END:VEVENT
BEGIN:VEVENT
DTSTART;TZID=America/New_York:20240224T193000
DTEND;TZID=America/New_York:20240224T210000
DTSTAMP:20260423T053946
CREATED:20240130T164911Z
LAST-MODIFIED:20240130T164911Z
UID:10001006-1708803000-1708808400@vpa.uncg.edu
SUMMARY:Jazz Ensembles I and II
DESCRIPTION:Tickets\n\n \n\n\n\nAdults\n$12.00\n\n\nSeniors\n$9.00\n\n\nStudents\n$6.00\n\n\n\n\n\nPURCHASE TICKETSDOWNLOAD PROGRAM\nChad Eby\, director\nThomas Heflin\, director \n  \n \n\nThe importance of philanthropy has never been greater. Please consider a gift to the School of Music to support our mission and ensure the future of music at UNCG. \n\n \n   \n\n\n\n\n\nThe Miles Davis Jazz Studies Program at UNCG is a unique and innovative undergraduate jazz program designed to emulate the traditional process of learning jazz\, through a combination of mentorship\, real-world playing experiences\, and a communal approach to learning. Although the program is housed in one of the largest music schools in the Southeast\, it is kept intentionally small\, resulting in an intensive and highly personalized learning environment.
URL:https://vpa.uncg.edu/single-event/jazz-ensembles-i-and-ii-3/
LOCATION:Tew Recital Hall\, 100 McIver St\, Greensboro\, 27412\, United States
CATEGORIES:College of Visual and Performing Arts,CVPA Live!,School of Music
ATTACH;FMTTYPE=image/jpeg:https://vpa.uncg.edu/wp-content/uploads/2024/01/jazz-header-events-OAN93w.tmp_.jpg
ORGANIZER;CN="Music Bldg-1-CVPA &#8211%3B Recital Hall (350)":MAILTO:uncg.edu_38393931303333362d313837@resource.calendar.google.com
END:VEVENT
END:VCALENDAR