BEGIN:VCALENDAR
VERSION:2.0
PRODID:-//College of Visual and Performing Arts - ECPv6.15.20//NONSGML v1.0//EN
CALSCALE:GREGORIAN
METHOD:PUBLISH
X-WR-CALNAME:College of Visual and Performing Arts
X-ORIGINAL-URL:https://vpa.uncg.edu
X-WR-CALDESC:Events for College of Visual and Performing Arts
REFRESH-INTERVAL;VALUE=DURATION:PT1H
X-Robots-Tag:noindex
X-PUBLISHED-TTL:PT1H
BEGIN:VTIMEZONE
TZID:America/New_York
BEGIN:DAYLIGHT
TZOFFSETFROM:-0500
TZOFFSETTO:-0400
TZNAME:EDT
DTSTART:20250309T070000
END:DAYLIGHT
BEGIN:STANDARD
TZOFFSETFROM:-0400
TZOFFSETTO:-0500
TZNAME:EST
DTSTART:20251102T060000
END:STANDARD
BEGIN:DAYLIGHT
TZOFFSETFROM:-0500
TZOFFSETTO:-0400
TZNAME:EDT
DTSTART:20260308T070000
END:DAYLIGHT
BEGIN:STANDARD
TZOFFSETFROM:-0400
TZOFFSETTO:-0500
TZNAME:EST
DTSTART:20261101T060000
END:STANDARD
BEGIN:DAYLIGHT
TZOFFSETFROM:-0500
TZOFFSETTO:-0400
TZNAME:EDT
DTSTART:20270314T070000
END:DAYLIGHT
BEGIN:STANDARD
TZOFFSETFROM:-0400
TZOFFSETTO:-0500
TZNAME:EST
DTSTART:20271107T060000
END:STANDARD
END:VTIMEZONE
BEGIN:VEVENT
DTSTART;TZID=America/New_York:20260428T120000
DTEND;TZID=America/New_York:20260502T170000
DTSTAMP:20260419T132522
CREATED:20260330T173243Z
LAST-MODIFIED:20260330T173248Z
UID:10003865-1777377600-1777741200@vpa.uncg.edu
SUMMARY:MFA Thesis Art exhibition: kathryn hood
DESCRIPTION:Homebody\n\n\n\nMFA Thesis Exhibition\n\n\n\nby Kathryn Hood\n\n\n\n \n\n\n\n\n\n\n\nExhibition: April 28 – May 2\, 2026\n\n\n\nReception: Friday\, May 1st\, 6-8p\n\n\n\nHomebody is an exhibition of collages and sculptures in which Kathryn Hood carves her perceptions of tense muscles into paper and upholstery foam. She embraces the body-mind connection\, an essential tool for self-understanding\, as she houses ungrounded avatars within handmade paper and muscular furnishings outside of formal traditions. Hood composes the interior feelings of ideas & emotions with the exterior feeling of tension. This duality of perception reflects the disparate nature of themes explored\, such as femininity\, domesticity\, and the performance of identity. \n\n\n\nHomebody is the residence of textured perceptions. This space is an act of resensitization. \n\n\n\nMore About Kathryn \n\n\n\nKathryn Hood (b. 1996) is a collagist\, sculptor\, and creative doer who carves tense muscles into paper and foam then furnishes them in acts of resensitization. She investigates the thresholds of perception & of living with/as a sense of self. Hood’s 3-dimensional work evolved from a fascination with her maternal grandmother’s porcelain dinnerware. Evaluating its character and its politics\, she applies its label of domesticity to bodily sensations and identity performance. Hood lives and works in North Carolina.  \n\n\n\nLearn more www.kathryn-hood.com | IG: @kathrynhoodart
URL:https://vpa.uncg.edu/single-event/mfa-thesis-art-exhibition-kathryn-hood/
LOCATION:Greensboro Project Space\, 111 E February 1 Pl\, Greensboro\, NC 27406\, USA
CATEGORIES:College of Visual and Performing Arts,Greensboro Project Space,School of Art
ATTACH;FMTTYPE=image/jpeg:https://vpa.uncg.edu/wp-content/uploads/2026/03/poster-flyer-8.5x11-scaled.jpg
ORGANIZER;CN="Greensboro Project Space":MAILTO:greensboroprojectspace@gmail.com
END:VEVENT
BEGIN:VEVENT
DTSTART;TZID=America/New_York:20260430T173000
DTEND;TZID=America/New_York:20260430T190000
DTSTAMP:20260419T132522
CREATED:20260408T203754Z
LAST-MODIFIED:20260408T203759Z
UID:10003900-1777570200-1777575600@vpa.uncg.edu
SUMMARY:Quan Cheng\, collaborative piano
DESCRIPTION:Event Details\n\n\n\n\nDownload Program\n\n\n\n\n\nParking\n\n\n\n\n\n\n\n\nThe importance of philanthropy has never been greater. Please consider a gift to the School of Music to support our mission and ensure the future of music at UNCG. \n\n\n\n\n\n\nbassoon\, music\, student recital\, studio recital\n\n\nInstagram\n\nFacebook\n\nX\n\nYouTube
URL:https://vpa.uncg.edu/single-event/quan-cheng-collaborative-piano-4/
LOCATION:Tew Recital Hall\, 100 McIver St\, Greensboro\, 27412\, United States
CATEGORIES:College of Visual and Performing Arts,School of Music
ATTACH;FMTTYPE=image/jpeg:https://vpa.uncg.edu/wp-content/uploads/2025/09/student-recital-feature.jpg
END:VEVENT
BEGIN:VEVENT
DTSTART;TZID=America/New_York:20260430T173000
DTEND;TZID=America/New_York:20260430T190000
DTSTAMP:20260419T132522
CREATED:20260413T130441Z
LAST-MODIFIED:20260413T130443Z
UID:10003902-1777570200-1777575600@vpa.uncg.edu
SUMMARY:Yi-Ju Shih\, violin
DESCRIPTION:Event Details\n\n\n\n\nDownload Program\n\n\n\n\n\nParking\n\n\n\n\n\n\n\n\nThe importance of philanthropy has never been greater. Please consider a gift to the School of Music to support our mission and ensure the future of music at UNCG. \n\n\n\n\n\n\nbassoon\, music\, student recital\, studio recital\n\n\nInstagram\n\nFacebook\n\nX\n\nYouTube
URL:https://vpa.uncg.edu/single-event/yi-ju-shih-violin-3/
LOCATION:Organ Hall\, 100 McIver St\, Greensboro\, 27412\, United States
CATEGORIES:College of Visual and Performing Arts,School of Music
ATTACH;FMTTYPE=image/jpeg:https://vpa.uncg.edu/wp-content/uploads/2025/09/student-recital-feature.jpg
END:VEVENT
BEGIN:VEVENT
DTSTART;TZID=America/New_York:20260430T193000
DTEND;TZID=America/New_York:20260430T210000
DTSTAMP:20260419T132522
CREATED:20260403T195950Z
LAST-MODIFIED:20260403T195953Z
UID:10003886-1777577400-1777582800@vpa.uncg.edu
SUMMARY:Fjoralba Zguro\, piano
DESCRIPTION:Event Details\n\n\n\n\nDownload Program\n\n\n\n\n\nParking\n\n\n\n\n\n\n\n\nThe importance of philanthropy has never been greater. Please consider a gift to the School of Music to support our mission and ensure the future of music at UNCG. \n\n\n\n\n\n\nbassoon\, music\, student recital\, studio recital\n\n\nInstagram\n\nFacebook\n\nX\n\nYouTube
URL:https://vpa.uncg.edu/single-event/fjoralba-zguro-piano/
LOCATION:Tew Recital Hall\, 100 McIver St\, Greensboro\, 27412\, United States
CATEGORIES:College of Visual and Performing Arts,School of Music
ATTACH;FMTTYPE=image/jpeg:https://vpa.uncg.edu/wp-content/uploads/2025/09/student-recital-feature.jpg
END:VEVENT
END:VCALENDAR