BEGIN:VCALENDAR
VERSION:2.0
PRODID:-//College of Visual and Performing Arts - ECPv6.15.20//NONSGML v1.0//EN
CALSCALE:GREGORIAN
METHOD:PUBLISH
X-WR-CALNAME:College of Visual and Performing Arts
X-ORIGINAL-URL:https://vpa.uncg.edu
X-WR-CALDESC:Events for College of Visual and Performing Arts
REFRESH-INTERVAL;VALUE=DURATION:PT1H
X-Robots-Tag:noindex
X-PUBLISHED-TTL:PT1H
BEGIN:VTIMEZONE
TZID:America/New_York
BEGIN:DAYLIGHT
TZOFFSETFROM:-0500
TZOFFSETTO:-0400
TZNAME:EDT
DTSTART:20250309T070000
END:DAYLIGHT
BEGIN:STANDARD
TZOFFSETFROM:-0400
TZOFFSETTO:-0500
TZNAME:EST
DTSTART:20251102T060000
END:STANDARD
BEGIN:DAYLIGHT
TZOFFSETFROM:-0500
TZOFFSETTO:-0400
TZNAME:EDT
DTSTART:20260308T070000
END:DAYLIGHT
BEGIN:STANDARD
TZOFFSETFROM:-0400
TZOFFSETTO:-0500
TZNAME:EST
DTSTART:20261101T060000
END:STANDARD
BEGIN:DAYLIGHT
TZOFFSETFROM:-0500
TZOFFSETTO:-0400
TZNAME:EDT
DTSTART:20270314T070000
END:DAYLIGHT
BEGIN:STANDARD
TZOFFSETFROM:-0400
TZOFFSETTO:-0500
TZNAME:EST
DTSTART:20271107T060000
END:STANDARD
END:VTIMEZONE
BEGIN:VEVENT
DTSTART;TZID=America/New_York:20260421T120000
DTEND;TZID=America/New_York:20260425T170000
DTSTAMP:20260423T120707
CREATED:20260323T124915Z
LAST-MODIFIED:20260323T124920Z
UID:10003804-1776772800-1777136400@vpa.uncg.edu
SUMMARY:MFA Thesis art exhibition: victoria mercado-lues
DESCRIPTION:Garden of Corporeal Fantasy\n\n\n\nMFA Thesis Exhibition\n\n\n\nby Victoria Mercado-Lues \n\n\n\n\n\n\n\nExhibition: April 21 – 25\, 2026\n\n\n\nReception: Friday\, April 24th\, 6-8p\n\n\n\nBrightly saturated and fantastical\, Garden of Corporeal Fantasy explores the meeting of nature and flesh in oil paintings and ceramics. With invented creatures and visceral biological imagery\, the works reframe the gaze towards the bodily through a lens of wonder — a less punitive lens than the centuries-long and still recurring traditions of bodies as commodified\, objectified\, or sinful.  \n\n\n\nThis exhibition addresses our discomfort surrounding the body by combining it with the godly imposing presence of the landscape\, like waterfalls and billowing clouds. In this combination\, the work is imbued with a devotional\, almost sacred quality\, borrowing visuals of the holy and filling it with the biological. The sticky\, hairy\, fleshy becomes something worth staring at with open fascination\, the same way we are in awe of exotic plants\, or deep-sea creatures\, illuminating the sublime inherent in the corporeal.  \n\n\n\nBy zooming in on the glistening\, wet thresholds\, the work blurs the boundary between interior and exterior anatomy. Tendrils and drips converge to give birth to strange life forms and new worlds that explore sensuality\, womanhood\, and the fantastic.  \n\n\n\nDocumenting a coming of age\, Garden of Corporeal Fantasy acknowledges the fullness of becoming a woman: the awareness of feeling both precious and strange\, once intimately known\, yet foreign to yourself. In creating these fantastical ecologies\, the work insists on its own terms for beauty\, redefined through tender curiosity.  \n\n\n\nMore About Victoria  \n\n\n\nVictoria Mercado-Lues (b. 2003) is a Mexican-American artist whose oil paintings\, ceramics\, and collage conjure vivid ecologies of invented creatures and fantastical flesh. Her work merges the biological with the devotional\, reframing the body as a site of wonder rather than shame. \n\n\n\nMercado-Lues received her BFA from the University of South Florida and her MFA from the University of North Carolina Greensboro\, where she was awarded a residency through GROW in partnership with Creative Greensboro. Her work has been exhibited nationally at the Carolyn M. Wilson Gallery\, International Museum of Surgical Science\, Proxy Design Gallery\, and the Sechrest Gallery\, among others.  \n\n\n\nLearn more at victoriamercadolues.wixsite.com/arts  | IG: @victoriamercadolues
URL:https://vpa.uncg.edu/single-event/mfa-thesis-art-exhibition-victoria-mercado-lues/
LOCATION:Greensboro Project Space\, 111 E February 1 Pl\, Greensboro\, NC 27406\, USA
CATEGORIES:College of Visual and Performing Arts,Greensboro Project Space,School of Art
ATTACH;FMTTYPE=image/png:https://vpa.uncg.edu/wp-content/uploads/2026/03/8.5-x-11.png
ORGANIZER;CN="Greensboro Project Space":MAILTO:greensboroprojectspace@gmail.com
END:VEVENT
BEGIN:VEVENT
DTSTART;TZID=America/New_York:20260424T090000
DTEND;TZID=America/New_York:20260424T160000
DTSTAMP:20260423T120707
CREATED:20260324T124752Z
LAST-MODIFIED:20260324T140224Z
UID:10003832-1777021200-1777046400@vpa.uncg.edu
SUMMARY:New Frequencies
DESCRIPTION:New Frequencies presents a selection of works by Sandra Andrade\, Rodgers Dameron\, Blas Isasi\, Kasia Ozga\, Varun Saxena\, and Leilei Xia. Over the past three years the UNCG School of Art has welcomed these six artists as new members of its Studio Art faculty. This group exhibition highlights a dynamic range of practices across sculpture\, new media and design\, animation\, and interdisciplinary media\, offering insight into the creative research and artistic inquiry shaping the work of these recently appointed faculty members.This exhibition opens March 26 and runs weekdays until April 24. The opening reception is March 26 from 4-6pm. \n\n\n\nFaculty will give talks on their process and practice from 1-2pm in the Gatewood GalleryApril 1 – Rodgers Dameron\, Varun Saxena\, and Leilei XiaApril 2 – Sandra Andrade\, Blas Isasi\, and Kasia Ozga
URL:https://vpa.uncg.edu/single-event/new-frequencies/2026-04-24/
LOCATION:Gatewood Studio Arts Center\, 527 Highland Ave\, Greensboro\, NC 27412\, USA\, 527 Highland Ave\, Greensboro\, 27412\, United States
CATEGORIES:College of Visual and Performing Arts,College of Visual and Performing Arts,School of Art
ATTACH;FMTTYPE=image/png:https://vpa.uncg.edu/wp-content/uploads/2026/03/NF_1080x1350-1.png
ORGANIZER;CN="School of Art":MAILTO:uncgarts@uncg.edu
END:VEVENT
BEGIN:VEVENT
DTSTART;TZID=America/New_York:20260424T130000
DTEND;TZID=America/New_York:20260424T143000
DTSTAMP:20260423T120707
CREATED:20260420T180322Z
LAST-MODIFIED:20260420T180326Z
UID:10003915-1777035600-1777041000@vpa.uncg.edu
SUMMARY:McKenzie Lofgren\, violin
DESCRIPTION:Event Details\n\n\n\n\nDownload Program\n\n\n\n\n\nParking\n\n\n\n\n\n\n\n\nThe importance of philanthropy has never been greater. Please consider a gift to the School of Music to support our mission and ensure the future of music at UNCG. \n\n\n\n\n\n\n\n\n\nInstagram\n\nFacebook\n\nX\n\nYouTube
URL:https://vpa.uncg.edu/single-event/mckenzie-lofgren-violin-3/
LOCATION:First Baptist Church\, 1000 W Friendly Ave\, Greensboro\, North Carolina\, 27401\, United States
CATEGORIES:College of Visual and Performing Arts,School of Music
ATTACH;FMTTYPE=image/jpeg:https://vpa.uncg.edu/wp-content/uploads/2025/09/student-recital-feature.jpg
END:VEVENT
BEGIN:VEVENT
DTSTART;TZID=America/New_York:20260424T173000
DTEND;TZID=America/New_York:20260424T190000
DTSTAMP:20260423T120707
CREATED:20260326T205614Z
LAST-MODIFIED:20260408T172240Z
UID:10003857-1777051800-1777057200@vpa.uncg.edu
SUMMARY:Olivia Kesler\, soprano
DESCRIPTION:Event Details\n\n\n\n\nDownload Program\n\n\n\n\n\nParking\n\n\n\n\n\n\n\n\nThe importance of philanthropy has never been greater. Please consider a gift to the School of Music to support our mission and ensure the future of music at UNCG. \n\n\n\n\n\n\n\n\n\nInstagram\n\nFacebook\n\nX\n\nYouTube
URL:https://vpa.uncg.edu/single-event/olivia-kesler-soprano/
LOCATION:Tew Recital Hall\, 100 McIver St\, Greensboro\, 27412\, United States
CATEGORIES:College of Visual and Performing Arts,School of Music
ATTACH;FMTTYPE=image/jpeg:https://vpa.uncg.edu/wp-content/uploads/2025/09/student-recital-feature.jpg
END:VEVENT
BEGIN:VEVENT
DTSTART;TZID=America/New_York:20260424T173000
DTEND;TZID=America/New_York:20260424T190000
DTSTAMP:20260423T120707
CREATED:20260406T144713Z
LAST-MODIFIED:20260406T144718Z
UID:10003891-1777051800-1777057200@vpa.uncg.edu
SUMMARY:Gabriela Ramos\, saxophone
DESCRIPTION:Event Details\n\n\n\n\nDownload Program\n\n\n\n\n\nParking\n\n\n\n\n\n\n\n\nThe importance of philanthropy has never been greater. Please consider a gift to the School of Music to support our mission and ensure the future of music at UNCG. \n\n\n\n\n\n\n\n\n\nInstagram\n\nFacebook\n\nX\n\nYouTube
URL:https://vpa.uncg.edu/single-event/gabriela-ramos-saxophone/
LOCATION:Organ Hall\, 100 McIver St\, Greensboro\, 27412\, United States
CATEGORIES:College of Visual and Performing Arts,School of Music
ATTACH;FMTTYPE=image/jpeg:https://vpa.uncg.edu/wp-content/uploads/2025/09/student-recital-feature.jpg
END:VEVENT
BEGIN:VEVENT
DTSTART;TZID=America/New_York:20260424T193000
DTEND;TZID=America/New_York:20260424T193000
DTSTAMP:20260423T120707
CREATED:20250512T155128Z
LAST-MODIFIED:20250813T130602Z
UID:10003268-1777059000-1777059000@vpa.uncg.edu
SUMMARY:John Clayton
DESCRIPTION:John Clayton | Double Bassist\, performance with UNCG Jazz Ensemble I\n\n\n\nBassist\, Composer\, Arranger and Producer\, John Clayton is a busy man. He is a Grammy© winner with nine additional nominations and has written and/or recorded with artists such as Milt Jackson\, Diana Krall\, Paul McCartney\, Regina Carter\, Dee Dee Bridgewater\, Gladys Knight\, Queen Latifah\, McCoy Tyner\, YoYo Ma and Charles Aznavour\, to name only a few \n\n\n\nJohn was the principal bassist in the Amsterdam Philharmonic Orchestra (The Netherlands) from 1980-1984. In 1986\, John co-founded the Clayton-Hamilton Jazz Orchestra and rekindled The Clayton Brothers Quintet. In addition to his individual clinics and workshops\, he also directs the educational components of Centrum\, The Port Townsend Jazz Festival\, and the Vail Jazz Workshop. \n\n\n\n\n\n\n\nOrchestra/MezzStudents$6.00Adults$12.00Seniors$9.00\n\n\n\n\nPURCHASE TICKETS\n\n\n\n\n* Tickets to CVPA and UCLS events are sold exclusively through our box office locations and ETix website\, and nowhere else. Tickets purchased through third-party vendors cannot be honored. \n\n\n\n\n\n\nIt is John’s arrangement of the “Star Spangled Banner” that helped propel Whitney Houston in her 1990 performance at the Super Bowl (the recording went platinum). His recordings with the Clayton Brothers\, the Clayton-Hamilton Jazz Orchestra\, Milt Jackson\, Monty Alexander\, Count Basie and others are plentiful. John feels “I’ve been guided by a village of musicians who helped me understand the humility that goes along with playing music at the highest level you can. Ray Brown used to tell me to ‘Learn how to play the bass!!’ Just take care of the music and it will take care of you. \n\n\n\n\n\n\n\nRobinson Family Visiting Jazz Artists\n\n\n\nA residency made possible by the Robinson Family Fund\, established by Ward Robinson (’19 PBC Jazz\, ’10 MPH) and Pamela Pittman\, is bringing two jazz luminaries to UNCG’s School of Music this year. Pianist Christian Sands and bassist John Clayton will come to Greensboro for residencies with students and concerts which will be open to the public.
URL:https://vpa.uncg.edu/single-event/john-clayton/
LOCATION:UNCG Auditorium\, 408 Tate Street\, Greensboro\, NC\, 27412\, United States
CATEGORIES:College of Visual and Performing Arts,UCLS
ATTACH;FMTTYPE=image/png:https://vpa.uncg.edu/wp-content/uploads/2025/04/JohnClayton5.png
END:VEVENT
BEGIN:VEVENT
DTSTART;TZID=America/New_York:20260424T193000
DTEND;TZID=America/New_York:20260424T210000
DTSTAMP:20260423T120707
CREATED:20260325T205417Z
LAST-MODIFIED:20260325T205424Z
UID:10003851-1777059000-1777064400@vpa.uncg.edu
SUMMARY:Siana Wong\, violin
DESCRIPTION:Event Details\n\n\n\n\nDownload Program\n\n\n\n\n\nParking\n\n\n\n\n\n\n\n\nThe importance of philanthropy has never been greater. Please consider a gift to the School of Music to support our mission and ensure the future of music at UNCG. \n\n\n\n\n\n\n\n\n\nInstagram\n\nFacebook\n\nX\n\nYouTube
URL:https://vpa.uncg.edu/single-event/siana-wong-violin-3/
LOCATION:Tew Recital Hall\, 100 McIver St\, Greensboro\, 27412\, United States
CATEGORIES:College of Visual and Performing Arts,School of Music
ATTACH;FMTTYPE=image/jpeg:https://vpa.uncg.edu/wp-content/uploads/2025/09/student-recital-feature.jpg
END:VEVENT
BEGIN:VEVENT
DTSTART;TZID=America/New_York:20260424T193000
DTEND;TZID=America/New_York:20260424T213000
DTSTAMP:20260423T120707
CREATED:20250813T133044Z
LAST-MODIFIED:20260221T140415Z
UID:10003346-1777059000-1777066200@vpa.uncg.edu
SUMMARY:John Clayton and Jazz Ensemble I
DESCRIPTION:Bassist\, Composer\, Arranger and Producer\, John Clayton is a busy man. He is a Grammy© winner with nine additional nominations and has written and/or recorded with artists such as Milt Jackson\, Diana Krall\, Paul McCartney\, Regina Carter\, Dee Dee Bridgewater\, Gladys Knight\, Queen Latifah\, McCoy Tyner\, YoYo Ma\, and Charles Aznavour\, to name only a few. \n\n\n\nJohn was the principal bassist in the Amsterdam Philharmonic Orchestra (The Netherlands) from 1980-1984. In 1986\, John co-founded the Clayton-Hamilton Jazz Orchestra and rekindled The Clayton Brothers Quintet. In addition to his individual clinics and workshops\, he also directs the educational components of Centrum\, The Port Townsend Jazz Festival\, and the Vail Jazz Workshop. \n\n\n\nIt is John’s arrangement of the “Star Spangled Banner” that helped propel Whitney Houston in her 1990 performance at the Super Bowl (the recording went platinum). His recordings with the Clayton Brothers\, the Clayton-Hamilton Jazz Orchestra\, Milt Jackson\, Monty Alexander\, Count Basie and others are plentiful. John feels “I’ve been guided by a village of musicians who helped me understand the humility that goes along with playing music at the highest level you can. Ray Brown used to tell me to ‘Learn how to play the bass!!’ Just take care of the music and it will take care of you.” \n\n\n\nRobinson Family Visiting Jazz Artists\n\n\n\nA residency made possible by the Robinson Family Fund\, established by Ward Robinson (’19 PBC Jazz\, ’10 MPH) and Pamela Pittman\, is bringing two jazz luminaries to UNCG’s School of Music this year. Pianist Christian Sands and bassist John Clayton will come to Greensboro for residencies with students and concerts which will be open to the public. \n\n\n\nMiles Davis Jazz Studies Program\n\n\n\nThe Miles Davis Jazz Studies Program at UNCG is a unique and innovative undergraduate jazz program designed to emulate the traditional process of learning jazz\, through a combination of mentorship\, real-world playing experiences\, and a communal approach to learning. Although the program is housed in one of the largest music schools in the Southeast\, it is kept intentionally small\, resulting in an intensive and highly personalized learning environment. \n\n\n\n UNCG offers the following degree programs for students interested in studying Jazz: \n\n\n\n\nBachelor of Music (B.M.) – Performance\n\n\n\nPost-Baccalaureate Certificate in Jazz Studies\n\n\n\n\n\n\nTicketPriceAdult$12.00Seniors$9.00Students$6.00\n\n\n\n\nPurchase Tickets\n\n\n\n\n\nParking\n\n\n\n\n\n\nInstagram\n\nFacebook\n\nX\n\nYouTube
URL:https://vpa.uncg.edu/single-event/john-clayton-and-jazz-ensemble-i/
LOCATION:UNCG Auditorium\, 408 Tate Street\, Greensboro\, NC\, 27412\, United States
CATEGORIES:College of Visual and Performing Arts,School of Music
ATTACH;FMTTYPE=image/jpeg:https://vpa.uncg.edu/wp-content/uploads/2025/08/john-clayton-bass.jpg
END:VEVENT
BEGIN:VEVENT
DTSTART;TZID=America/New_York:20260424T193000
DTEND;TZID=America/New_York:20260424T220000
DTSTAMP:20260423T120707
CREATED:20250919T163929Z
LAST-MODIFIED:20260406T041421Z
UID:10003462-1777059000-1777068000@vpa.uncg.edu
SUMMARY:Lempicka
DESCRIPTION:Book\, Lyrics & Original Concept by Carson KreitzerBook & Music by Matt GouldDirected by Kim Shively \n\n\n\nDates:April 17 at 7:30 p.m.April 18 at 7:30 p.m.April 19 at 2 p.m.April 23 at 7:30 p.m.April 24 at 7:30 p.m.April 25 at 7:30 p.m.April 26 at 2 p.m. \n\n\n\nTickets: Call the UNCG Theatre Box Office at 336-334-4392 when classes are in session or click the button below to purchase tickets online. \n\n\n\nPURCHASE TICKETS \n\n\n\nAge Rating: PG-13Run Time: Approx. 2.5 hrs.Production Location: Pam and David Sprinkle Theatre (Brown Building)\, 402 Tate St\, Greensboro\, NC 27412 \n\n\n\nSummary: \n\n\n\nIn a world on the edge of chaos\, one woman paints her destiny. Lempicka is a sweeping\, sensual musical set in 1920s Paris\, where revolution\, art\, and desire collide. Fleeing the Russian Revolution\, Tamara de Lempicka claws her way from refugee to rising star of the Art Deco scene—bold\, brilliant\, and unstoppable. But when she falls into a dangerous\, all-consuming love with her magnetic muse Rafaela\, Tamara must choose between passion and power\, survival and self-expression. As fascism rises and the walls close in\, how much is she willing to risk for the life—and love—she craves?
URL:https://vpa.uncg.edu/single-event/lempicka/2026-04-24/
LOCATION:Pam and David Sprinkle Theatre\, 402 Tate Street\, Greensboro\, NC\, 27403\, United States
CATEGORIES:College of Visual and Performing Arts,College of Visual and Performing Arts,School of Theatre
ATTACH;FMTTYPE=image/jpeg:https://vpa.uncg.edu/wp-content/uploads/2025/09/SoT_lempicka_print-5-5x8-5_program.jpg
END:VEVENT
BEGIN:VEVENT
DTSTART;TZID=America/New_York:20260424T193000
DTEND;TZID=America/New_York:20260424T220000
DTSTAMP:20260423T120707
CREATED:20260306T162533Z
LAST-MODIFIED:20260306T162626Z
UID:10003770-1777059000-1777068000@vpa.uncg.edu
SUMMARY:BFA Thesis Concert
DESCRIPTION:A capstone concert featuring original works by BFA students\, marking the culmination of their undergraduate studies and artistic growth.  \n\n\n\nThe event will be held starting at 7:30pm on April 24 and 25. It will take place in Coleman Theatre (Coleman Building\, Room 306).  \n\n\n\nTickets are available for purchase in ADULT ($15)\, STUDENT ($7.50)\, SENIOR ($10)\, and CHILD ($10) price points.
URL:https://vpa.uncg.edu/single-event/bfa-thesis-concert-7/2026-04-24/
LOCATION:Coleman Theatre\, 1408 Walker Ave\, Greensboro\, North Carolina\, 27412\, United States
CATEGORIES:College of Visual and Performing Arts,School of Dance
ORGANIZER;CN="School of Dance":MAILTO:dance@uncg.edu
END:VEVENT
END:VCALENDAR