BEGIN:VCALENDAR
VERSION:2.0
PRODID:-//College of Visual and Performing Arts - ECPv6.15.20//NONSGML v1.0//EN
CALSCALE:GREGORIAN
METHOD:PUBLISH
X-WR-CALNAME:College of Visual and Performing Arts
X-ORIGINAL-URL:https://vpa.uncg.edu
X-WR-CALDESC:Events for College of Visual and Performing Arts
REFRESH-INTERVAL;VALUE=DURATION:PT1H
X-Robots-Tag:noindex
X-PUBLISHED-TTL:PT1H
BEGIN:VTIMEZONE
TZID:America/New_York
BEGIN:DAYLIGHT
TZOFFSETFROM:-0500
TZOFFSETTO:-0400
TZNAME:EDT
DTSTART:20250309T070000
END:DAYLIGHT
BEGIN:STANDARD
TZOFFSETFROM:-0400
TZOFFSETTO:-0500
TZNAME:EST
DTSTART:20251102T060000
END:STANDARD
BEGIN:DAYLIGHT
TZOFFSETFROM:-0500
TZOFFSETTO:-0400
TZNAME:EDT
DTSTART:20260308T070000
END:DAYLIGHT
BEGIN:STANDARD
TZOFFSETFROM:-0400
TZOFFSETTO:-0500
TZNAME:EST
DTSTART:20261101T060000
END:STANDARD
BEGIN:DAYLIGHT
TZOFFSETFROM:-0500
TZOFFSETTO:-0400
TZNAME:EDT
DTSTART:20270314T070000
END:DAYLIGHT
BEGIN:STANDARD
TZOFFSETFROM:-0400
TZOFFSETTO:-0500
TZNAME:EST
DTSTART:20271107T060000
END:STANDARD
END:VTIMEZONE
BEGIN:VEVENT
DTSTART;TZID=America/New_York:20260421T090000
DTEND;TZID=America/New_York:20260421T160000
DTSTAMP:20260419T171138
CREATED:20260324T124752Z
LAST-MODIFIED:20260324T140224Z
UID:10003829-1776762000-1776787200@vpa.uncg.edu
SUMMARY:New Frequencies
DESCRIPTION:New Frequencies presents a selection of works by Sandra Andrade\, Rodgers Dameron\, Blas Isasi\, Kasia Ozga\, Varun Saxena\, and Leilei Xia. Over the past three years the UNCG School of Art has welcomed these six artists as new members of its Studio Art faculty. This group exhibition highlights a dynamic range of practices across sculpture\, new media and design\, animation\, and interdisciplinary media\, offering insight into the creative research and artistic inquiry shaping the work of these recently appointed faculty members.This exhibition opens March 26 and runs weekdays until April 24. The opening reception is March 26 from 4-6pm. \n\n\n\nFaculty will give talks on their process and practice from 1-2pm in the Gatewood GalleryApril 1 – Rodgers Dameron\, Varun Saxena\, and Leilei XiaApril 2 – Sandra Andrade\, Blas Isasi\, and Kasia Ozga
URL:https://vpa.uncg.edu/single-event/new-frequencies/2026-04-21/
LOCATION:Gatewood Studio Arts Center\, 527 Highland Ave\, Greensboro\, NC 27412\, USA\, 527 Highland Ave\, Greensboro\, 27412\, United States
CATEGORIES:College of Visual and Performing Arts,College of Visual and Performing Arts,School of Art
ATTACH;FMTTYPE=image/png:https://vpa.uncg.edu/wp-content/uploads/2026/03/NF_1080x1350-1.png
ORGANIZER;CN="School of Art":MAILTO:uncgarts@uncg.edu
END:VEVENT
BEGIN:VEVENT
DTSTART;TZID=America/New_York:20260421T120000
DTEND;TZID=America/New_York:20260425T170000
DTSTAMP:20260419T171138
CREATED:20260323T124915Z
LAST-MODIFIED:20260323T124920Z
UID:10003804-1776772800-1777136400@vpa.uncg.edu
SUMMARY:MFA Thesis art exhibition: victoria mercado-lues
DESCRIPTION:Garden of Corporeal Fantasy\n\n\n\nMFA Thesis Exhibition\n\n\n\nby Victoria Mercado-Lues \n\n\n\n\n\n\n\nExhibition: April 21 – 25\, 2026\n\n\n\nReception: Friday\, April 24th\, 6-8p\n\n\n\nBrightly saturated and fantastical\, Garden of Corporeal Fantasy explores the meeting of nature and flesh in oil paintings and ceramics. With invented creatures and visceral biological imagery\, the works reframe the gaze towards the bodily through a lens of wonder — a less punitive lens than the centuries-long and still recurring traditions of bodies as commodified\, objectified\, or sinful.  \n\n\n\nThis exhibition addresses our discomfort surrounding the body by combining it with the godly imposing presence of the landscape\, like waterfalls and billowing clouds. In this combination\, the work is imbued with a devotional\, almost sacred quality\, borrowing visuals of the holy and filling it with the biological. The sticky\, hairy\, fleshy becomes something worth staring at with open fascination\, the same way we are in awe of exotic plants\, or deep-sea creatures\, illuminating the sublime inherent in the corporeal.  \n\n\n\nBy zooming in on the glistening\, wet thresholds\, the work blurs the boundary between interior and exterior anatomy. Tendrils and drips converge to give birth to strange life forms and new worlds that explore sensuality\, womanhood\, and the fantastic.  \n\n\n\nDocumenting a coming of age\, Garden of Corporeal Fantasy acknowledges the fullness of becoming a woman: the awareness of feeling both precious and strange\, once intimately known\, yet foreign to yourself. In creating these fantastical ecologies\, the work insists on its own terms for beauty\, redefined through tender curiosity.  \n\n\n\nMore About Victoria  \n\n\n\nVictoria Mercado-Lues (b. 2003) is a Mexican-American artist whose oil paintings\, ceramics\, and collage conjure vivid ecologies of invented creatures and fantastical flesh. Her work merges the biological with the devotional\, reframing the body as a site of wonder rather than shame. \n\n\n\nMercado-Lues received her BFA from the University of South Florida and her MFA from the University of North Carolina Greensboro\, where she was awarded a residency through GROW in partnership with Creative Greensboro. Her work has been exhibited nationally at the Carolyn M. Wilson Gallery\, International Museum of Surgical Science\, Proxy Design Gallery\, and the Sechrest Gallery\, among others.  \n\n\n\nLearn more at victoriamercadolues.wixsite.com/arts  | IG: @victoriamercadolues
URL:https://vpa.uncg.edu/single-event/mfa-thesis-art-exhibition-victoria-mercado-lues/
LOCATION:Greensboro Project Space\, 111 E February 1 Pl\, Greensboro\, NC 27406\, USA
CATEGORIES:College of Visual and Performing Arts,Greensboro Project Space,School of Art
ATTACH;FMTTYPE=image/png:https://vpa.uncg.edu/wp-content/uploads/2026/03/8.5-x-11.png
ORGANIZER;CN="Greensboro Project Space":MAILTO:greensboroprojectspace@gmail.com
END:VEVENT
BEGIN:VEVENT
DTSTART;TZID=America/New_York:20260421T130000
DTEND;TZID=America/New_York:20260421T143000
DTSTAMP:20260419T171138
CREATED:20260325T205301Z
LAST-MODIFIED:20260325T205615Z
UID:10003850-1776776400-1776781800@vpa.uncg.edu
SUMMARY:McKenzie Lofgren\, violin
DESCRIPTION:Event Details\n\n\n\n\nDownload Program\n\n\n\n\n\nParking\n\n\n\n\n\n\n\n\nThe importance of philanthropy has never been greater. Please consider a gift to the School of Music to support our mission and ensure the future of music at UNCG. \n\n\n\n\n\n\nbassoon\, music\, student recital\, studio recital\n\n\nInstagram\n\nFacebook\n\nX\n\nYouTube
URL:https://vpa.uncg.edu/single-event/mckenzie-lofgren-violin-2/
LOCATION:First Baptist Church\, 1000 W Friendly Ave\, Greensboro\, North Carolina\, 27401\, United States
CATEGORIES:College of Visual and Performing Arts,School of Music
ATTACH;FMTTYPE=image/jpeg:https://vpa.uncg.edu/wp-content/uploads/2025/09/student-recital-feature.jpg
END:VEVENT
BEGIN:VEVENT
DTSTART;TZID=America/New_York:20260421T173000
DTEND;TZID=America/New_York:20260421T190000
DTSTAMP:20260419T171138
CREATED:20260323T132521Z
LAST-MODIFIED:20260323T132525Z
UID:10003806-1776792600-1776798000@vpa.uncg.edu
SUMMARY:Grace Leonard\, violin
DESCRIPTION:Event Details\n\n\n\n\nDownload Program\n\n\n\n\n\nParking\n\n\n\n\n\n\n\n\nThe importance of philanthropy has never been greater. Please consider a gift to the School of Music to support our mission and ensure the future of music at UNCG. \n\n\n\n\n\n\nbassoon\, music\, student recital\, studio recital\n\n\nInstagram\n\nFacebook\n\nX\n\nYouTube
URL:https://vpa.uncg.edu/single-event/grace-leonard-violin/
LOCATION:Organ Hall\, 100 McIver St\, Greensboro\, 27412\, United States
CATEGORIES:College of Visual and Performing Arts,School of Music
ATTACH;FMTTYPE=image/jpeg:https://vpa.uncg.edu/wp-content/uploads/2025/09/student-recital-feature.jpg
END:VEVENT
BEGIN:VEVENT
DTSTART;TZID=America/New_York:20260421T173000
DTEND;TZID=America/New_York:20260421T190000
DTSTAMP:20260419T171138
CREATED:20260325T205055Z
LAST-MODIFIED:20260408T162707Z
UID:10003849-1776792600-1776798000@vpa.uncg.edu
SUMMARY:Elyse Monroe\, soprano
DESCRIPTION:Event Details\n\n\n\n\nDownload Program\n\n\n\n\n\nParking\n\n\n\n\n\n\n\n\nThe importance of philanthropy has never been greater. Please consider a gift to the School of Music to support our mission and ensure the future of music at UNCG. \n\n\n\n\n\n\nbassoon\, music\, student recital\, studio recital\n\n\nInstagram\n\nFacebook\n\nX\n\nYouTube
URL:https://vpa.uncg.edu/single-event/elyse-monroe-soprano/
LOCATION:Tew Recital Hall\, 100 McIver St\, Greensboro\, 27412\, United States
CATEGORIES:College of Visual and Performing Arts,School of Music
ATTACH;FMTTYPE=image/jpeg:https://vpa.uncg.edu/wp-content/uploads/2025/09/student-recital-feature.jpg
END:VEVENT
BEGIN:VEVENT
DTSTART;TZID=America/New_York:20260421T193000
DTEND;TZID=America/New_York:20260421T210000
DTSTAMP:20260419T171138
CREATED:20250529T181053Z
LAST-MODIFIED:20260408T162814Z
UID:10003296-1776799800-1776805200@vpa.uncg.edu
SUMMARY:Symphonic Band: American Salute
DESCRIPTION:Event Details\n\n\n\n\nDownload Program\n\n\n\n\n\nParking\n\n\n\n\n\n\n\n\nThe importance of philanthropy has never been greater. Please consider a gift to the School of Music to support our mission and ensure the future of music at UNCG. \n\n\n\n\nJoin Our Email List\n\n\n\n\n\n\n\nbassoon\, music\, student recital\, studio recital\n\n\nInstagram\n\nFacebook\n\nX\n\nYouTube\n\n\n\n\n\n\n\n\n\n\n\n\n\n\n\n\nJonathan Caldwell\, conductorJaden Brown\, graduate conductor \n\n\n\nProgram\n\n\n\nMORTON GOULDAmerican Salute (1943) \n\n\n\nELENA SPECHTUntitled Commission (2026)consortium premiere \n\n\n\nCHARLES IVESOld Home Days (1954) \n\n\n\nMARY LOU WILLIAMSHistory \n\n\n\nWILLIAM SCHUMANNew England Triptych (1956) \n\n\n\nBe Glad Then\, AmericaWhen Jesus WeptChester \n\n\n\n\nAbout the Program\n \n\n\n\nBack to Program \n\n\n\n\nAbout the Artists\n \n\n\n\nBack to Program \n\n\n\n\nUNCG Bands\nThe renowned UNCG Bands are dedicated to the performance\, study\, and cultivation of wind band music of the highest quality\, and are a serious and distinctive medium of musical expression. The UNCG Bands are considered to be among the very finest collegiate band programs in America based upon our active profile of excellence in our performances\, recordings\, tours and convention performances. \n\n\n\nThrough exemplary practices in organization\, training\, and presentation\, the UNCG Bands provide exceptional experiences for our members\, sharing outstanding performances throughout the year and enhancing the institutional spirit and character of UNCG. \n\n\n\nThe UNCG Bands seek to support music education in the state of North Carolina and in our region by providing leadership and sponsorship to secondary school band programs and other organizations. \n\n\n\n\nUNCG Bands\n\n\n\n\nBack to Program
URL:https://vpa.uncg.edu/single-event/symphonic-band-american-salute/
LOCATION:UNCG Auditorium\, 408 Tate Street\, Greensboro\, NC\, 27412\, United States
CATEGORIES:College of Visual and Performing Arts,School of Music
ATTACH;FMTTYPE=image/jpeg:https://vpa.uncg.edu/wp-content/uploads/2024/07/PIC24762-MUS_Wind_Ensemble_0639-3.jpg
END:VEVENT
BEGIN:VEVENT
DTSTART;TZID=America/New_York:20260421T193000
DTEND;TZID=America/New_York:20260421T210000
DTSTAMP:20260419T171138
CREATED:20260327T154533Z
LAST-MODIFIED:20260327T154654Z
UID:10003859-1776799800-1776805200@vpa.uncg.edu
SUMMARY:Samantha Anselmo\, soprano
DESCRIPTION:Event Details\n\n\n\n\nDownload Program\n\n\n\n\n\nParking\n\n\n\n\n\n\n\n\nThe importance of philanthropy has never been greater. Please consider a gift to the School of Music to support our mission and ensure the future of music at UNCG. \n\n\n\n\n\n\nbassoon\, music\, student recital\, studio recital\n\n\nInstagram\n\nFacebook\n\nX\n\nYouTube
URL:https://vpa.uncg.edu/single-event/samantha-anselmo-soprano-2/
LOCATION:Organ Hall\, 100 McIver St\, Greensboro\, 27412\, United States
CATEGORIES:College of Visual and Performing Arts,School of Music
ATTACH;FMTTYPE=image/jpeg:https://vpa.uncg.edu/wp-content/uploads/2025/09/student-recital-feature.jpg
END:VEVENT
END:VCALENDAR