BEGIN:VCALENDAR
VERSION:2.0
PRODID:-//College of Visual and Performing Arts - ECPv6.15.20//NONSGML v1.0//EN
CALSCALE:GREGORIAN
METHOD:PUBLISH
X-WR-CALNAME:College of Visual and Performing Arts
X-ORIGINAL-URL:https://vpa.uncg.edu
X-WR-CALDESC:Events for College of Visual and Performing Arts
REFRESH-INTERVAL;VALUE=DURATION:PT1H
X-Robots-Tag:noindex
X-PUBLISHED-TTL:PT1H
BEGIN:VTIMEZONE
TZID:America/New_York
BEGIN:DAYLIGHT
TZOFFSETFROM:-0500
TZOFFSETTO:-0400
TZNAME:EDT
DTSTART:20250309T070000
END:DAYLIGHT
BEGIN:STANDARD
TZOFFSETFROM:-0400
TZOFFSETTO:-0500
TZNAME:EST
DTSTART:20251102T060000
END:STANDARD
BEGIN:DAYLIGHT
TZOFFSETFROM:-0500
TZOFFSETTO:-0400
TZNAME:EDT
DTSTART:20260308T070000
END:DAYLIGHT
BEGIN:STANDARD
TZOFFSETFROM:-0400
TZOFFSETTO:-0500
TZNAME:EST
DTSTART:20261101T060000
END:STANDARD
BEGIN:DAYLIGHT
TZOFFSETFROM:-0500
TZOFFSETTO:-0400
TZNAME:EDT
DTSTART:20270314T070000
END:DAYLIGHT
BEGIN:STANDARD
TZOFFSETFROM:-0400
TZOFFSETTO:-0500
TZNAME:EST
DTSTART:20271107T060000
END:STANDARD
END:VTIMEZONE
BEGIN:VEVENT
DTSTART;TZID=America/New_York:20260217T120000
DTEND;TZID=America/New_York:20260228T170000
DTSTAMP:20260425T144032
CREATED:20260106T191922Z
LAST-MODIFIED:20260217T132902Z
UID:10003637-1771329600-1772298000@vpa.uncg.edu
SUMMARY:UNCG School of Art Faculty Exhibition
DESCRIPTION:UNCG School of Art Faculty Exhibition\n\n\n\n February 17 – 28\, 2026\n\n\n\n*Reception: Friday\, February 27th | 5-7P\n\n\n\n\n\n\n\n*The reception on February 27th is free\, but advance registration is strongly encouraged. Registration link here.  \n\n\n\nThe School of Art Faculty show is an exhibition that both reflects and celebrates the individual creative activity of the School of Art faculty.   \n\n\n\nFeaturing Artwork by\n\n\n\nTopher AlexanderMarian Taylor BrownHugh Condrey BryantRodgers DameronKarrington GardnerDan HaleHeather HolianTamra HuntBlas IsasiClaire IttnerNatasha LehnerJennifer Helen MeanleyLindsay MetivierKelley O’BrienKasia OzgaElizabeth PerrillMichelle PodgorskiRachele RileyKate RobinsonKendrick ShacklefordNill SmithMariam Aziza StephanBarbara Campbell ThomasChristopher ThomasKevin VanekEmily VoelkerLeilei XiaHeidi Zenisek
URL:https://vpa.uncg.edu/single-event/uncg-school-of-art-faculty-exhibition/
LOCATION:Greensboro Project Space\, 111 E February 1 Pl\, Greensboro\, NC 27406\, USA
CATEGORIES:College of Visual and Performing Arts,Greensboro Project Space,School of Art
ATTACH;FMTTYPE=image/png:https://vpa.uncg.edu/wp-content/uploads/2026/01/Faculty-Exhibition-2026_8.5x11-scaled.png
ORGANIZER;CN="Greensboro Project Space":MAILTO:greensboroprojectspace@gmail.com
END:VEVENT
BEGIN:VEVENT
DTSTART;TZID=America/New_York:20260220T090000
DTEND;TZID=America/New_York:20260220T160000
DTSTAMP:20260425T144032
CREATED:20260213T191947Z
LAST-MODIFIED:20260213T193310Z
UID:10003708-1771578000-1771603200@vpa.uncg.edu
SUMMARY:The Message
DESCRIPTION:Join the School of Art at UNCG as we welcome Steven M. Cozart to the Gatewood Gallery. This exhibition will be open February 19 – March 20th with a Reception and Artist Talk on February 19. \n\n\n\nSteven M. Cozart is a highly accomplished artist-scholar and documentarian whose passion for Painting and drawing endures despite his colorblindness. His body of figurative work is deeply rooted in his personal experiences and introspections\, with a thematic focus on race and identity in Black America. Through thoughtful and deliberate use of symbolic objects in his imagery\, Cozart addresses the complexities and nuances of stereotypes affecting black men and women\, especially as they exist within the black community itself. \n\n\n\nTo read more about Steven M. Cozart – https://www.stevenmcozart.com/
URL:https://vpa.uncg.edu/single-event/the-message/2026-02-20/
LOCATION:Gatewood Studio Arts Center\, 527 Highland Ave\, Greensboro\, NC 27412\, USA\, 527 Highland Ave\, Greensboro\, 27412\, United States
CATEGORIES:College of Visual and Performing Arts,School of Art
ATTACH;FMTTYPE=image/jpeg:https://vpa.uncg.edu/wp-content/uploads/2026/02/SMC-Tabloid-2-scaled.jpg
END:VEVENT
BEGIN:VEVENT
DTSTART;TZID=America/New_York:20260220T193000
DTEND;TZID=America/New_York:20260220T220000
DTSTAMP:20260425T144032
CREATED:20250919T162337Z
LAST-MODIFIED:20260131T175750Z
UID:10003452-1771615800-1771624800@vpa.uncg.edu
SUMMARY:Frankenstein
DESCRIPTION:Adapted by Nick DearBased on the novel by Mary ShelleyDirected by Jim Wren \n\n\n\nDates:February 20 at 7:30 p.m.February 21 at 2 p.m. & 7:30 p.m.February 22 at 2 p.m. \n\n\n\nTickets: Call the UNCG Theatre Box Office at 336-334-4392 when classes are in session or click the button below to purchase tickets online. \n\n\n\nPurchase Tickets \n\n\n\nAge Rating: PG-13Run Time: Approx. 2.5 hrs.Production Location: UNCG Auditorium\, 408 Tate St\, Greensboro\, NC 27403 \n\n\n\nSummary: \n\n\n\nNick Dear’s electrifying adaptation of Mary Shelley’s Frankenstein retells the classic tale through the eyes of the Creature—a being brought to life by the brilliant but tormented Victor Frankenstein. Abandoned at birth and shunned by all\, the Creature searches for love\, only to find cruelty. As he learns language\, empathy\, and rage\, his desire for belonging turns into a thirst for vengeance. What begins as a scientific triumph spirals into a brutal battle between creator and creation—bound by horror\, hatred\, and an inescapable fate. \n\n\n\nUNCG School of Theatre’s license to present Nick Dear’s version of FRANKENSTEIN from the novel by Mary Shelley is granted by Rosica Colin Limited\, London.
URL:https://vpa.uncg.edu/single-event/frankenstein/2026-02-20/
LOCATION:UNCG Auditorium\, 408 Tate St\, Greensboro\, NC 27403\, USA\, 408 Tate St\, NC\, United States
CATEGORIES:College of Visual and Performing Arts,College of Visual and Performing Arts,School of Theatre
ATTACH;FMTTYPE=image/jpeg:https://vpa.uncg.edu/wp-content/uploads/2025/09/SoT_frankenstein_print-5-5x8-5-program.jpg
END:VEVENT
BEGIN:VEVENT
DTSTART;TZID=America/New_York:20260220T193000
DTEND;TZID=America/New_York:20260220T223000
DTSTAMP:20260425T144032
CREATED:20260130T144647Z
LAST-MODIFIED:20260130T182321Z
UID:10003685-1771615800-1771626600@vpa.uncg.edu
SUMMARY:Movers and Makers
DESCRIPTION:Please join us for Movers and Makers Showcase presented by Prime Movers. \n\n\n\nDoors open at 7:00pm\, show will start promptly at 7:30pm. If you arrive late to the show you will only be allowed entrance between pieces. \n\n\n\nTickets for sale via Etix.  \n\n\n\n\nPrices:\n\n\n\nAdult: $10.68 \n\n\n\nStudent: $5.34 \n\n\n\nSenior: $7.47 \n\n\n\n\n\nLimit 10 tickets per order. \n\n\n\n\nReserve Your Ticket
URL:https://vpa.uncg.edu/single-event/movers-and-makers/2026-02-20/
LOCATION:Dance Theatre\, 1408 Walker Avenue\, Greensboro\, NC\, 27412\, United States
CATEGORIES:School of Dance
ORGANIZER;CN="School of Dance":MAILTO:dance@uncg.edu
END:VEVENT
END:VCALENDAR