BEGIN:VCALENDAR
VERSION:2.0
PRODID:-//College of Visual and Performing Arts - ECPv6.15.20//NONSGML v1.0//EN
CALSCALE:GREGORIAN
METHOD:PUBLISH
X-WR-CALNAME:College of Visual and Performing Arts
X-ORIGINAL-URL:https://vpa.uncg.edu
X-WR-CALDESC:Events for College of Visual and Performing Arts
REFRESH-INTERVAL;VALUE=DURATION:PT1H
X-Robots-Tag:noindex
X-PUBLISHED-TTL:PT1H
BEGIN:VTIMEZONE
TZID:America/New_York
BEGIN:DAYLIGHT
TZOFFSETFROM:-0500
TZOFFSETTO:-0400
TZNAME:EDT
DTSTART:20240310T070000
END:DAYLIGHT
BEGIN:STANDARD
TZOFFSETFROM:-0400
TZOFFSETTO:-0500
TZNAME:EST
DTSTART:20241103T060000
END:STANDARD
BEGIN:DAYLIGHT
TZOFFSETFROM:-0500
TZOFFSETTO:-0400
TZNAME:EDT
DTSTART:20250309T070000
END:DAYLIGHT
BEGIN:STANDARD
TZOFFSETFROM:-0400
TZOFFSETTO:-0500
TZNAME:EST
DTSTART:20251102T060000
END:STANDARD
BEGIN:DAYLIGHT
TZOFFSETFROM:-0500
TZOFFSETTO:-0400
TZNAME:EDT
DTSTART:20260308T070000
END:DAYLIGHT
BEGIN:STANDARD
TZOFFSETFROM:-0400
TZOFFSETTO:-0500
TZNAME:EST
DTSTART:20261101T060000
END:STANDARD
END:VTIMEZONE
BEGIN:VEVENT
DTSTART;TZID=America/New_York:20251111T120000
DTEND;TZID=America/New_York:20251122T170000
DTSTAMP:20260424T040817
CREATED:20251005T215529Z
LAST-MODIFIED:20251030T123526Z
UID:10003519-1762862400-1763830800@vpa.uncg.edu
SUMMARY:un hilo a veces rio [a thread sometimes river] art exhibition
DESCRIPTION:un hilo a veces rio\n\n\n\n[a thread sometimes river]\n\n\n\nSolo Exhibition by Vida Zamora\n\n\n\n\n\n\n\nNovember 11 – 22\, 2025\n\n\n\nReception: Friday\, Nov 21st | 6-8p\n\n\n\n \n\n\n\nMore About un hilo a ceces río [a thread sometimes river] \n\n\n\nun hilo a veces río [a thread sometimes river] is a collective\, image based sculptural composition that weaves time\, affect\, and world-making. In its assembly of “images\,” memory is not articulated through description nor representation\, but as a felt and active force in all its porosity–extending itself behind\, beyond and within singularity into the immanence of collectivity writ-large. The collaborators of this piece gathered\, made\, and worlded-with each other. In this act of sharing\, the life that emanated from their time together has been carefully and intentionally assembled into a map that leads nowhere but to the act of remembering itself: a latent potentiality that refuses to be defined and that inaugurates affect in an outward (shared) and inward (opaque) motion. Vida co-orchestrates–with Petra\, Patricia\, Lucy\, Martha\, and with the assistance of Anna\, Margaret\, Meijuan\, Sophie\, and Jessica–an piece that does not want to materialize\, but that finds a home in experience itself.  \n\n\n\nMore About Vida Zamora \n\n\n\nVida Zamora [b.1998; Puebla] is a transdisciplinary artist in constant errancy. She graduated from MICA [MD] with a BFA\, and was a UnionDocs [NY] Collaborative Studio Fellow. After graduating\, she dealt with immigration and gender affirming care\, yet recently gained access to a studio setting to continue her practice. Her work has been exhibited in programs at DIFFUSION [Canada]\, Millennium Film Workshop [NY]\, UnionDocs [NY]\, FISURA [Mexico]\, Badn?m [India]\, Cinema Parallels [Bosnia]\, and perfect lovers [NC] by curators such as the Re:assemblage collective\, Adriana Trujillo\, Michellè st. Michel\, Dylan Angel and Victoria Bouloubasis. \n\n\n\nTo learn more visit  vidazamora.art or follow them on Instagram: @vdzm__ \n\n\n\n \n\n\n\nGreensboro Project Space Open Public Hours \n\n\n\nTuesday-Friday\, 12-5p \n\n\n\nSaturday\, 2-5p
URL:https://vpa.uncg.edu/single-event/un-hilo-a-ceces-rio-a-thread-sometimes-river-art-exhibition/
LOCATION:Greensboro Project Space\, 111 E February 1 Pl\, Greensboro\, NC 27406\, USA
CATEGORIES:College of Visual and Performing Arts,Greensboro Project Space,School of Art
ATTACH;FMTTYPE=image/jpeg:https://vpa.uncg.edu/wp-content/uploads/2025/10/un-hilo-scaled.jpg
ORGANIZER;CN="Greensboro Project Space":MAILTO:greensboroprojectspace@gmail.com
END:VEVENT
BEGIN:VEVENT
DTSTART;TZID=America/New_York:20251111T120000
DTEND;TZID=America/New_York:20251122T170000
DTSTAMP:20260424T040817
CREATED:20251013T124109Z
LAST-MODIFIED:20251013T124114Z
UID:10003523-1762862400-1763830800@vpa.uncg.edu
SUMMARY:But It Was Something About Living art exhibition
DESCRIPTION:But It Was Something About Living\n\n\n\nA Collaborative Installation\n\n\n\nIsabella Gamez\, Maya Rampel\, Marin Carr-Quimet\, Fig Hendrick\n\n\n\n \n\n\n\n\n\n\n\nNovember 11 – 22\, 2025\n\n\n\nReception: Friday\, Nov 21st | 6-8P\n\n\n\nMore About But It Was Something About Living \n\n\n\nThe collaborative installation\, But It Was Something About Living\, explores the bodily process of digesting grief and how this innately personal experience can become communal. The work is an ongoing conversation between the collaborating artists and a practice in coalition building. The work explores parallels between digestion and processing\, between the bodily and the communal\, and between material and emotional costs. The installation consists of relics of community gatherings\, shared practices\, and of exercises in building and brainstorming where we should go from here. \n\n\n\nMore About the Artists \n\n\n\nIsabella Gamez is a printmaker and painter floating between North Carolina and Connecticut. Her work focuses on disease\, its relationship with the body\, and influences from public health.  \n\n\n\nLearn more about Isabella here \n\n\n\nMaya Rampel is a multimedia visual artist and designer based in North Carolina. Their practice centers on fluidity between mediums and the recombination of familiar elements into new forms. \n\n\n\nLearn more about Maya here \n\n\n\nMarin Carr-Quimet (they/he/she) works and lives between Asheville\, NC and Chapel Hill\, NC. They received their BFA from the University of North Carolina at Chapel Hill in 2024\, and like to focus on collective and collaborative work. Their work is heavily based in material and the built environment.  \n\n\n\nLearn more about Marin here or follow them on IG@marin.c.q \n\n\n\nFig Hendrick is a mixed-media artist based in North Carolina. He approaches his work through the themes of death\, consciousness\, and hope. \n\n\n\n \n\n\n\nGreensboro Project Space Open Public Hours  \n\n\n\nTuesday-Friday\, 12-5p \n\n\n\nSaturday\, 2-5p
URL:https://vpa.uncg.edu/single-event/but-it-was-something-about-living-art-exhibition/
LOCATION:Greensboro Project Space\, 111 E February 1 Pl\, Greensboro\, NC 27406\, USA
CATEGORIES:College of Visual and Performing Arts,Greensboro Project Space,School of Art
ATTACH;FMTTYPE=image/jpeg:https://vpa.uncg.edu/wp-content/uploads/2025/10/Flyer-1.jpeg
ORGANIZER;CN="Greensboro Project Space":MAILTO:greensboroprojectspace@gmail.com
END:VEVENT
BEGIN:VEVENT
DTSTART;TZID=America/New_York:20251115T153000
DTEND;TZID=America/New_York:20251115T173000
DTSTAMP:20260424T040817
CREATED:20251021T192052Z
LAST-MODIFIED:20251110T235431Z
UID:10003545-1763220600-1763227800@vpa.uncg.edu
SUMMARY:Opera Theatre presents 'El Gato con Botas' and 'El Grumete'
DESCRIPTION:Step into the classic fairy tale\, “Puss in Boots\,” with the UNCG Opera Theatre. Guest stage director and UNCG alum Jourdan Laine Howell brings us a wonderful setting of a familiar story composed by Xavier Montsalvatge. The evening begins with a short love triangle in “The Cabin Boy” written by Emilio Arrieta\, reminiscent of Donizetti’s music. \n\n\n\nBoth operas are sung in Spanish with English supertitles and accessible for all ages. \n\n\n\n\n\nTicketPriceAdult$10Student$5\n\n\n\n\n\n\n\n\nEvent Details\n\n\n\n\nPurchase Tickets\n\n\n\n\n\nDownload Program\n\n\n\n\n\nParking\n\n\n\n\n\n\n\n\nThe importance of philanthropy has never been greater. Please consider a gift to the School of Music to support our mission and ensure the future of music at UNCG. \n\n\n\n\n\n\n\n\n\nInstagram\n\nFacebook\n\nX\n\nYouTube
URL:https://vpa.uncg.edu/single-event/opera-theatre-presents-el-gato-con-botas-and-el-grumete-2/
LOCATION:UNCG Auditorium\, 408 Tate Street\, Greensboro\, NC\, 27412\, United States
CATEGORIES:College of Visual and Performing Arts,School of Music
ATTACH;FMTTYPE=image/jpeg:https://vpa.uncg.edu/wp-content/uploads/2025/10/opera-feature-fall-2025.jpg
END:VEVENT
BEGIN:VEVENT
DTSTART;TZID=America/New_York:20251115T193000
DTEND;TZID=America/New_York:20251115T210000
DTSTAMP:20260424T040817
CREATED:20251013T192004Z
LAST-MODIFIED:20251014T004620Z
UID:10003524-1763235000-1763240400@vpa.uncg.edu
SUMMARY:Jorge Variego\, clarinet and composer
DESCRIPTION:withSteve Landis\, Adam Ricci and Alejandro Rutty  \n\n\n\nmusic byJorge Variego and Alejandro Rutty \n\n\n\n\n\n\n\n\n\n\n\nJorge Variego was born in Rosario\, Argentina. He is a former Fulbright Scholar and is currently Assistant Professor of Music and Technology at the University of Tennessee\, Knoxville and is the director of the composition program at the Sewanee Summer Music Festival. His music can be heard in the Parma\, Albany Records\, CMMAS\, Centaur and Naxos libraries. In 2018 his book on algorithmic composition was released by the National University of Quilmes\, in Argentina. During that same year he received the support of the Swedish Arts Grants Committee to be resident composer at the Visby Centre for Composers and was guest lecturer at the Universidad Autónoma de Madrid\, in Spain. Among his recent research endeavors\, his book “Composing with Constraints” was published by Oxford University Press in 2021. In 2023 he was the guest in many festivals\, including the inaugural Festival de Música Algorítmica y Modular hosted by the Universidad Nacional de Musica de Perú\, in Lima. In the 23-24 season\, his music was performed by the Oak Ridge Symphony\, the Bryan Symphony and the Knoxville Symphony. \n\n\n\nVariego is the founder director of the Domino Ensemble a non-profit organization dedicated to the promotion\, commission\, and performance of new music with improvisation. The group released “Purple Ego” (Centaur – 2019) and “Recompensa” (Centaur – 2023) among other recordings. In 2023 the ensemble performed at the Big Ears festival in collaboration with British author Geoff Dyer and in 2024 presented “Recompensa” at the ShapeShifter Lab in Brooklyn\, NY. \n\n\n\nHe is also the founder director of the UT Electroacoustic Ensemble\, a student group dedicated to free improvisation with electronic media and is the Treasurer of ATMI and a member of the Society of Composers National Council. \n\n\n\n\n\n\n\nThis concert is partially funded by the Robinson Family Fund in PopTech and Music Composition. \n\n\n\n\n\n\nEvent Details\n\n\n\n\nDownload Program\n\n\n\n\n\nParking\n\n\n\n\n\n\n\n\nThe importance of philanthropy has never been greater. Please consider a gift to the School of Music to support our mission and ensure the future of music at UNCG. \n\n\n\n\n\n\n\n\n\nInstagram\n\nFacebook\n\nX\n\nYouTube
URL:https://vpa.uncg.edu/single-event/jorge-variego-clarinet-and-composer/
LOCATION:Organ Hall\, 100 McIver St\, Greensboro\, 27412\, United States
CATEGORIES:College of Visual and Performing Arts,School of Music
ATTACH;FMTTYPE=image/jpeg:https://vpa.uncg.edu/wp-content/uploads/2025/09/guest-artist-recital-feature.jpg
END:VEVENT
BEGIN:VEVENT
DTSTART;TZID=America/New_York:20251115T193000
DTEND;TZID=America/New_York:20251115T210000
DTSTAMP:20260424T040817
CREATED:20251016T172323Z
LAST-MODIFIED:20251107T211933Z
UID:10003530-1763235000-1763240400@vpa.uncg.edu
SUMMARY:Devon Shifflett\, harpsichord
DESCRIPTION:https://youtube.com/live/6SidEcyn1uw?feature=share\n\n\n\n\n\n\n\nEvent Details\n\n\n\n\nDownload Program\n\n\n\n\n\nParking\n\n\n\n\n\n\n\n\nThe importance of philanthropy has never been greater. Please consider a gift to the School of Music to support our mission and ensure the future of music at UNCG. \n\n\n\n\n\n\n\n\n\nInstagram\n\nFacebook\n\nX\n\nYouTube
URL:https://vpa.uncg.edu/single-event/devon-shifflett-harpsichord/
LOCATION:Tew Recital Hall\, 100 McIver St\, Greensboro\, 27412\, United States
CATEGORIES:College of Visual and Performing Arts,School of Music
ATTACH;FMTTYPE=image/jpeg:https://vpa.uncg.edu/wp-content/uploads/2025/09/student-recital-feature.jpg
END:VEVENT
END:VCALENDAR