BEGIN:VCALENDAR
VERSION:2.0
PRODID:-//College of Visual and Performing Arts - ECPv6.15.20//NONSGML v1.0//EN
CALSCALE:GREGORIAN
METHOD:PUBLISH
X-WR-CALNAME:College of Visual and Performing Arts
X-ORIGINAL-URL:https://vpa.uncg.edu
X-WR-CALDESC:Events for College of Visual and Performing Arts
REFRESH-INTERVAL;VALUE=DURATION:PT1H
X-Robots-Tag:noindex
X-PUBLISHED-TTL:PT1H
BEGIN:VTIMEZONE
TZID:America/New_York
BEGIN:DAYLIGHT
TZOFFSETFROM:-0500
TZOFFSETTO:-0400
TZNAME:EDT
DTSTART:20240310T070000
END:DAYLIGHT
BEGIN:STANDARD
TZOFFSETFROM:-0400
TZOFFSETTO:-0500
TZNAME:EST
DTSTART:20241103T060000
END:STANDARD
BEGIN:DAYLIGHT
TZOFFSETFROM:-0500
TZOFFSETTO:-0400
TZNAME:EDT
DTSTART:20250309T070000
END:DAYLIGHT
BEGIN:STANDARD
TZOFFSETFROM:-0400
TZOFFSETTO:-0500
TZNAME:EST
DTSTART:20251102T060000
END:STANDARD
BEGIN:DAYLIGHT
TZOFFSETFROM:-0500
TZOFFSETTO:-0400
TZNAME:EDT
DTSTART:20260308T070000
END:DAYLIGHT
BEGIN:STANDARD
TZOFFSETFROM:-0400
TZOFFSETTO:-0500
TZNAME:EST
DTSTART:20261101T060000
END:STANDARD
END:VTIMEZONE
BEGIN:VEVENT
DTSTART;TZID=America/New_York:20251014T120000
DTEND;TZID=America/New_York:20251025T170000
DTSTAMP:20260424T220047
CREATED:20250929T033320Z
LAST-MODIFIED:20250929T033325Z
UID:10003470-1760443200-1761411600@vpa.uncg.edu
SUMMARY:The Den Community art Exhibition 
DESCRIPTION:[ ] @ GPS\n\n\n\nThe Den Community Exhibition\n\n\n\nCurated by Jalani Maxwell\, Dismantled Supply Co.\n\n\n\n\n\n\n\n October 14 – 25\, 2025\n\n\n\nReception: Friday\, October 17th | 6-8P\n\n\n\n \n\n\n\nAdditional Events:\n\n\n\nLoafs and Loafers by Kyle Scott\, Oct 16th | 6-9PM\n\n\n\nSyn[ ]cate Basement Show by Dom Savant\, Oct 22nd | 6-9PM\n\n\n\n[ ] Artist Forum\, Oct 25th | 3-4:30PM\n\n\n\nFeatured Community Artists\n\n\n\nNailah BrewerLyric BrooksDarius CantyAminah CoppageJakai DickersonDawoud EvansMyles GravesKijani GrinageCain JohnsonTristen JonesMalcolm KingJalani MaxwellA’Daria MoffettRaynette NahDemarjae PowellKeir RichardIsaiah SoutherlandAmari Stimpson-Hatcher\,Jordan X \n\n\n\nMore About [ ] @ GPS \n\n\n\nSick of fighting to be seen? \n\n\n\nMaybe [ ] is the place for you. \n\n\n\nDen\, more commonly referred to as [ ] \, is a grassroots organization founded in Greensboro\, NC in 2024. Functioning to offer minority and youth artist with opportunities for professional artistic development\, [ ] actively engages with a developing arts scene through a variety of interventions\, workshops and activities. This exhibition serves as a culmination of our efforts thus far and a glimpse into the world [ ] is cultivating. \n\n\n\nIt is just as much our world\, as it is yours; tell us what you see. \n\n\n\nSo\, how about it [ ] ? You in? \n\n\n\nCuratorial Statement \n\n\n\nStories untold often just need space to be heard\, felt\, seen and more importantly\, experienced. Making space is taking space. “Third spaces” are the kind DSCo holds conversation in. These exist as syncretic hubs\, embracing a variety of identities and fostering interest. Championing intersectionality\, [ ] gives space to a community with a ring of its own. \n\n\n\nDismantled Supply Co. presents to you\, [ ] . \n\n\n\n \n\n\n\nGreensboro Project Space Weekly Gallery Hours: \n\n\n\nTuesday – Friday\, 12 -5 PM \n\n\n\nSaturday\, 2-5PM
URL:https://vpa.uncg.edu/single-event/the-den-community-art-exhibition/
LOCATION:Greensboro Project Space\, 111 E February 1 Pl\, Greensboro\, NC 27406\, USA
CATEGORIES:College of Visual and Performing Arts,Greensboro Project Space,School of Art
ATTACH;FMTTYPE=image/jpeg:https://vpa.uncg.edu/wp-content/uploads/2025/09/GPSflier85x11-1-scaled.jpg
ORGANIZER;CN="Greensboro Project Space":MAILTO:greensboroprojectspace@gmail.com
END:VEVENT
BEGIN:VEVENT
DTSTART;TZID=America/New_York:20251025T193000
DTEND;TZID=America/New_York:20251025T193000
DTSTAMP:20260424T220047
CREATED:20250821T153212Z
LAST-MODIFIED:20250821T153214Z
UID:10003366-1761420600-1761420600@vpa.uncg.edu
SUMMARY:Prime Movers Concert
DESCRIPTION:The student group Prime Movers will host their annual Concert featuring adjudicated undergraduate student work.   \n\n\n\nThe event takes place at 7:30pm in Coleman Theatre (306)
URL:https://vpa.uncg.edu/single-event/prime-movers-concert-5/
LOCATION:Coleman Theatre\, 1408 Walker Ave\, Greensboro\, North Carolina\, 27412\, United States
CATEGORIES:School of Dance
ORGANIZER;CN="School of Dance":MAILTO:dance@uncg.edu
END:VEVENT
BEGIN:VEVENT
DTSTART;TZID=America/New_York:20251025T193000
DTEND;TZID=America/New_York:20251025T210000
DTSTAMP:20260424T220047
CREATED:20250529T200035Z
LAST-MODIFIED:20250529T200038Z
UID:10003297-1761420600-1761426000@vpa.uncg.edu
SUMMARY:Collage
DESCRIPTION:The UNCG School of Music is proud to present our 18th annual performance of Collage at 7:30 PM on October 25\, 2025! We are excited to welcome audiences back to UNCG Auditorium for our most exciting event of the year! \n\n\n\nCollage is captivating and totally unique\, featuring an incredible range of performers presenting one riveting work after another with special lighting. Join School of Music students and many of our world-class faculty members for this non-stop evening of amazing performances. It’s not to be missed! \n\n\n\nAll ticket proceeds benefit the School of Music Collage Scholarship Fund. \n\n\n\nSectionAdultsSeniorsStudentsSection Afront orchestra\, mezzanine$27$22$17Section Bmiddle and rear orchestra\, lower balcony$20$16$12Section Cupper balcony$15$11$8\n\n\n\n\nPurchase Tickets
URL:https://vpa.uncg.edu/single-event/collage-6/
LOCATION:UNCG Auditorium\, 408 Tate Street\, Greensboro\, NC\, 27412\, United States
CATEGORIES:College of Visual and Performing Arts,School of Music,UCLS
ATTACH;FMTTYPE=image/jpeg:https://vpa.uncg.edu/wp-content/uploads/2024/06/Possible-for-Current-Students-Rectangle.jpg
END:VEVENT
END:VCALENDAR