BEGIN:VCALENDAR
VERSION:2.0
PRODID:-//College of Visual and Performing Arts - ECPv6.15.20//NONSGML v1.0//EN
CALSCALE:GREGORIAN
METHOD:PUBLISH
X-WR-CALNAME:College of Visual and Performing Arts
X-ORIGINAL-URL:https://vpa.uncg.edu
X-WR-CALDESC:Events for College of Visual and Performing Arts
REFRESH-INTERVAL;VALUE=DURATION:PT1H
X-Robots-Tag:noindex
X-PUBLISHED-TTL:PT1H
BEGIN:VTIMEZONE
TZID:America/New_York
BEGIN:DAYLIGHT
TZOFFSETFROM:-0500
TZOFFSETTO:-0400
TZNAME:EDT
DTSTART:20240310T070000
END:DAYLIGHT
BEGIN:STANDARD
TZOFFSETFROM:-0400
TZOFFSETTO:-0500
TZNAME:EST
DTSTART:20241103T060000
END:STANDARD
BEGIN:DAYLIGHT
TZOFFSETFROM:-0500
TZOFFSETTO:-0400
TZNAME:EDT
DTSTART:20250309T070000
END:DAYLIGHT
BEGIN:STANDARD
TZOFFSETFROM:-0400
TZOFFSETTO:-0500
TZNAME:EST
DTSTART:20251102T060000
END:STANDARD
BEGIN:DAYLIGHT
TZOFFSETFROM:-0500
TZOFFSETTO:-0400
TZNAME:EDT
DTSTART:20260308T070000
END:DAYLIGHT
BEGIN:STANDARD
TZOFFSETFROM:-0400
TZOFFSETTO:-0500
TZNAME:EST
DTSTART:20261101T060000
END:STANDARD
END:VTIMEZONE
BEGIN:VEVENT
DTSTART;TZID=America/New_York:20250926T193000
DTEND;TZID=America/New_York:20250926T213000
DTSTAMP:20260422T201902
CREATED:20250810T213934Z
LAST-MODIFIED:20250922T184830Z
UID:10003341-1758915000-1758922200@vpa.uncg.edu
SUMMARY:Aaron Goldberg
DESCRIPTION:featuring Garrett Arellano\, Chad Eby\, Brevan Hampden\, and Thomas Heflin\n\n\n\n\n\n\n\n\n\n\nhttps://youtube.com/live/n8l7Cs68C00?feature=share\n\n\n\n\nThe Miles Davis Jazz Studies Program at UNCG is a unique and innovative undergraduate jazz program designed to emulate the traditional process of learning jazz\, through a combination of mentorship\, real-world playing experiences\, and a communal approach to learning. Although the program is housed in one of the largest music schools in the Southeast\, it is kept intentionally small\, resulting in an intensive and highly personalized learning environment. \n\n\n\n UNCG offers the following degree programs for students interested in studying Jazz: \n\n\n\n\nBachelor of Music (B.M.) – Performance\n\n\n\nPost-Baccalaureate Certificate in Jazz Studies\n\n\n\n\n\n\n\nParking\n\n\n\n\n\n\n\n\nThe importance of philanthropy has never been greater. Please consider a gift to the School of Music to support our mission and ensure the future of music at UNCG. \n\n\n\n\n\nInstagram\n\nFacebook\n\nX\n\nYouTube
URL:https://vpa.uncg.edu/single-event/aaron-goldberg/
LOCATION:Tew Recital Hall\, 100 McIver St\, Greensboro\, 27412\, United States
CATEGORIES:College of Visual and Performing Arts,School of Music
ATTACH;FMTTYPE=image/jpeg:https://vpa.uncg.edu/wp-content/uploads/2025/08/aaron-goldberg-feature.jpg
END:VEVENT
END:VCALENDAR