BEGIN:VCALENDAR
VERSION:2.0
PRODID:-//College of Visual and Performing Arts - ECPv6.15.20//NONSGML v1.0//EN
CALSCALE:GREGORIAN
METHOD:PUBLISH
X-WR-CALNAME:College of Visual and Performing Arts
X-ORIGINAL-URL:https://vpa.uncg.edu
X-WR-CALDESC:Events for College of Visual and Performing Arts
REFRESH-INTERVAL;VALUE=DURATION:PT1H
X-Robots-Tag:noindex
X-PUBLISHED-TTL:PT1H
BEGIN:VTIMEZONE
TZID:America/New_York
BEGIN:DAYLIGHT
TZOFFSETFROM:-0500
TZOFFSETTO:-0400
TZNAME:EDT
DTSTART:20240310T070000
END:DAYLIGHT
BEGIN:STANDARD
TZOFFSETFROM:-0400
TZOFFSETTO:-0500
TZNAME:EST
DTSTART:20241103T060000
END:STANDARD
BEGIN:DAYLIGHT
TZOFFSETFROM:-0500
TZOFFSETTO:-0400
TZNAME:EDT
DTSTART:20250309T070000
END:DAYLIGHT
BEGIN:STANDARD
TZOFFSETFROM:-0400
TZOFFSETTO:-0500
TZNAME:EST
DTSTART:20251102T060000
END:STANDARD
BEGIN:DAYLIGHT
TZOFFSETFROM:-0500
TZOFFSETTO:-0400
TZNAME:EDT
DTSTART:20260308T070000
END:DAYLIGHT
BEGIN:STANDARD
TZOFFSETFROM:-0400
TZOFFSETTO:-0500
TZNAME:EST
DTSTART:20261101T060000
END:STANDARD
END:VTIMEZONE
BEGIN:VEVENT
DTSTART;TZID=America/New_York:20250922T193000
DTEND;TZID=America/New_York:20250922T210000
DTSTAMP:20260424T175538
CREATED:20250910T203930Z
LAST-MODIFIED:20250922T182807Z
UID:10003396-1758569400-1758574800@vpa.uncg.edu
SUMMARY:Adam Frey\, euphonium
DESCRIPTION:https://youtube.com/live/Y834VVlhA80?feature=share\n\n\n\n\n\n\n\n\nAdam Frey travels the globe sharing his talents as a performer and advocate for live music. Adam has soloed with orchestras and bands the world over\, including the world famous Boston Pops\, Cheju Symphony Orchestra (South Korea)\, US Army Orchestra (Washington DC)\, Harvard Pops (MA)\, Fort Collins (CO)\, Indian Hill (MA)\, the Vaasa Symphony Orchestra (Finland)\, Atlanta Philharmonic (GA)\, Camerata Eleutheria (Argentina)\, Cascade (WA)\, Greensboro (NC)\, Clemson (SC)\, LaGrange (GA)\, Minot (ND)\, Bellevue Philharmonic (WA)\, and Northeastern (MA) Symphony Orchestras.  He also performs regularly with wind bands and brass bands that have included Soli Brass in Holland\, Point of Ayr in Wales\, the National Youth Brass Band of Switzerland and wind bands from Singapore\, Thailand\, Brazil\, South Korea\, Guatemala\, the Dominican Republic\, Columbia\, Peru\, Australia\, Russia\, Finland\, China\, Germany\, Hong Kong\, and the United States. \n\n\n\nAdam has been guest soloist at festivals around the globe\, including four times at the Midwest Clinic (USA)\, the WASBE Convention (Singapore)\, Melbourne International Festival of Brass (Australia)\, Trombonanza (Argentina)\, Carlos Gomez Festival (Brazil)\, Jeju International Wind Festival (South Korea)\, Asia Pacific Band Directors Conference (South Korea)\, Westby Low Brass Workshop (Norway)\, Peru Low Brass Festival (Peru)\, Colombia Festubal (Colombia)\, Tubmania (Thailand)\, and Orquesta Latinoamericana de Vientos (Colombia) to name a few.  \n\n\n\nA native of Atlanta\, Georgia\, Adam Frey received his musical training at the University of Georgia\, the Royal Northern College of Music\, and the University of Salford. As a major ambassador of the euphonium\, Adam has more than one hundred and twenty works that have been composed or specifically arranged for him.  Most are published by Euphonium.com Publications\, Pinnacle Brass Publications\, and Absolute Brass.com.  \n\n\n\nFor 17 years\, Adam has hosted the International Euphonium Tuba (IET) Festival at Emory University. This event each June hosts more than 175 students and teachers from around the world in a week of playing\, learning\, and inspiration.  Participants range from high school and college students to adult amateurs.  More details at:  www.IETFestival.com \n\n\n\nAdam Frey is also Associate Professor at the University of North Georgia. His website\, www.euphonium.com\, contains sound files\, performance schedules\, photos from his world travels\, and his recordings and publications.  \n\n\n\nAdam Frey is a Yamaha Performing Artist and Guest Clinician. \n\n\n\n\n\n\nDownload Program\n\n\n\n\n\nParking\n\n\n\n\n\n\n\n\nThe importance of philanthropy has never been greater. Please consider a gift to the School of Music to support our mission and ensure the future of music at UNCG. \n\n\n\n\n\nInstagram\n\nFacebook\n\nX\n\nYouTube
URL:https://vpa.uncg.edu/single-event/adam-frey-euphonium-2/
LOCATION:Tew Recital Hall\, 100 McIver St\, Greensboro\, 27412\, United States
CATEGORIES:College of Visual and Performing Arts,School of Music
ATTACH;FMTTYPE=image/jpeg:https://vpa.uncg.edu/wp-content/uploads/2025/02/adam-frey.jpeg
END:VEVENT
END:VCALENDAR