BEGIN:VCALENDAR
VERSION:2.0
PRODID:-//College of Visual and Performing Arts - ECPv6.15.20//NONSGML v1.0//EN
CALSCALE:GREGORIAN
METHOD:PUBLISH
X-ORIGINAL-URL:https://vpa.uncg.edu
X-WR-CALDESC:Events for College of Visual and Performing Arts
REFRESH-INTERVAL;VALUE=DURATION:PT1H
X-Robots-Tag:noindex
X-PUBLISHED-TTL:PT1H
BEGIN:VTIMEZONE
TZID:America/New_York
BEGIN:DAYLIGHT
TZOFFSETFROM:-0500
TZOFFSETTO:-0400
TZNAME:EDT
DTSTART:20240310T070000
END:DAYLIGHT
BEGIN:STANDARD
TZOFFSETFROM:-0400
TZOFFSETTO:-0500
TZNAME:EST
DTSTART:20241103T060000
END:STANDARD
BEGIN:DAYLIGHT
TZOFFSETFROM:-0500
TZOFFSETTO:-0400
TZNAME:EDT
DTSTART:20250309T070000
END:DAYLIGHT
BEGIN:STANDARD
TZOFFSETFROM:-0400
TZOFFSETTO:-0500
TZNAME:EST
DTSTART:20251102T060000
END:STANDARD
BEGIN:DAYLIGHT
TZOFFSETFROM:-0500
TZOFFSETTO:-0400
TZNAME:EDT
DTSTART:20260308T070000
END:DAYLIGHT
BEGIN:STANDARD
TZOFFSETFROM:-0400
TZOFFSETTO:-0500
TZNAME:EST
DTSTART:20261101T060000
END:STANDARD
END:VTIMEZONE
BEGIN:VEVENT
DTSTART;TZID=America/New_York:20250908T033000
DTEND;TZID=America/New_York:20250908T160000
DTSTAMP:20260419T100527
CREATED:20250911T181844Z
LAST-MODIFIED:20250911T181848Z
UID:10003420-1757302200-1757347200@vpa.uncg.edu
SUMMARY:A Decade of Darkness
DESCRIPTION:Photographer MJ Sharp is a documentary artist based in Durham\, North Carolina. She was a visiting Fulbright Scholar at the University of Exeter\, UK\, for the 2021/2022 academic year pursuing the art/science collaboration Our Disappearing Darkness and Recreating True Night  with nocturnal ecologist Dr. Kevin Gaston.  \n\n\n\nTo learn more about MJ Sharp visit: https://mjsharp.com/
URL:https://vpa.uncg.edu/single-event/a-decade-of-darkness/2025-09-08/
LOCATION:Gatewood Studio Arts Center\, 527 Highland Ave\, Greensboro\, NC 27412\, USA\, 527 Highland Ave\, Greensboro\, 27412\, United States
CATEGORIES:College of Visual and Performing Arts,School of Art
END:VEVENT
END:VCALENDAR