BEGIN:VCALENDAR
VERSION:2.0
PRODID:-//College of Visual and Performing Arts - ECPv6.15.20//NONSGML v1.0//EN
CALSCALE:GREGORIAN
METHOD:PUBLISH
X-WR-CALNAME:College of Visual and Performing Arts
X-ORIGINAL-URL:https://vpa.uncg.edu
X-WR-CALDESC:Events for College of Visual and Performing Arts
REFRESH-INTERVAL;VALUE=DURATION:PT1H
X-Robots-Tag:noindex
X-PUBLISHED-TTL:PT1H
BEGIN:VTIMEZONE
TZID:America/New_York
BEGIN:DAYLIGHT
TZOFFSETFROM:-0500
TZOFFSETTO:-0400
TZNAME:EDT
DTSTART:20240310T070000
END:DAYLIGHT
BEGIN:STANDARD
TZOFFSETFROM:-0400
TZOFFSETTO:-0500
TZNAME:EST
DTSTART:20241103T060000
END:STANDARD
BEGIN:DAYLIGHT
TZOFFSETFROM:-0500
TZOFFSETTO:-0400
TZNAME:EDT
DTSTART:20250309T070000
END:DAYLIGHT
BEGIN:STANDARD
TZOFFSETFROM:-0400
TZOFFSETTO:-0500
TZNAME:EST
DTSTART:20251102T060000
END:STANDARD
BEGIN:DAYLIGHT
TZOFFSETFROM:-0500
TZOFFSETTO:-0400
TZNAME:EDT
DTSTART:20260308T070000
END:DAYLIGHT
BEGIN:STANDARD
TZOFFSETFROM:-0400
TZOFFSETTO:-0500
TZNAME:EST
DTSTART:20261101T060000
END:STANDARD
END:VTIMEZONE
BEGIN:VEVENT
DTSTART;TZID=America/New_York:20250804T120000
DTEND;TZID=America/New_York:20250816T170000
DTSTAMP:20260420T012311
CREATED:20250801T020031Z
LAST-MODIFIED:20250801T020034Z
UID:10003332-1754308800-1755363600@vpa.uncg.edu
SUMMARY:Summer Studios: Arts on Site! The GPS Student Artist Residency Program
DESCRIPTION:Summer Studios: Arts on Site! \n\n\n\nThe GPS Student Residency Program\n\n\n\nAugust Artists-in-Residence: mckenna jones\, Melanie St Clair\, Remus Steward\, knia Williamson\,\n\n\n\nAugust Cohort | August 4 – 16\, 2025\n\n\n\nPublic Open Studio Hours:\n\n\n\nAug 11th | 12-3p\n\n\n\nAug 13th | 2-5p\n\n\n\nAug 15th | 6-8p\, Celebratory Reception \n\n\n\n \n\n\n\nGreensboro Project Space is pleased to present its 3rd Annual Summer Studios: Arts on Site! student residency program. This residency program will assist in educating students that GPS can also act as makerspace\, where they can play\, experiment\, take creative risks\, and develop their artistic voice. \n\n\n\nDesigned to support UNCG undergraduate student artists (BA + BFA) striving to develop\, adapt\, and/or reinvent their creative process and to promote artistic growth and development\, artists are afforded two-weeks of uninterrupted research and development\, coupled with financial support and public presentational platforms to share their creative work. The residency’s mission is to be an adaptive space to build a sustaining art community for our UNCG students so their creativity and connection to the Greensboro community thrives.  \n\n\n\n\n\n\n\nAugust Cohort \n\n\n\nMcKenna Jones (BFA Art History\, minor Art Administration) plans to investigate the relationship between gender\, body image issues\, and chronic illness. Drawing from personal\, first-hand experience\, they want to illustrate these frustrations associated with these issues and analyze the reasons why these issues are connected to each other through their artwork. \n\n\n\nMelanie St Clair (BFA Printmaking and Drawing) is heavily inspired by paintings of Kusozu\, the nine stages of death\, created in the Edo period of Japan by Buddhist artists. She wants to create imagery reminding us of decay through the use of bones\, old photos\, graves\, rot\, flowers and love. This will include incorporating photography and digital collage to depict the cycle of decay. These images will be created via cyanotypes and photosensitive emulsions in order to utilize sunlight to shed warmth on such a complicated topic. They will be printed onto recycled paper that will be made in the studio. \n\n\n\nRemus Steward (BFA Sculpture and Ceramics) intends to develop an installation with optional participation based on sense and memory. They plan to experiment with soft sculpture\, sound and video\, tactile and wearable elements. During the Open Artist Studio Hours and Informal Closing Celebration\, they plan to give the audience the choice of participating in open and short performance-led engagements with the physical and auditory materials they produce. A main objective is to craft and engage with physical objects that will aid in the explorative process\, also acting as manifestations of memory in the real world. Memories can be triggered in a variety of ways\, and frequently have ties to specific scents\, places\, or media. By using physical sensory objects\, audio\, and projected video they will be creating an environment in which to explore these associations. \n\n\n\nKnia Williamson (BFA Sculpture and Ceramics) intends on creating flower vessels inspired by her previous work\, Entomophily\, a simple form accentuated with floral designs. She specifically wants insight into how material impacts the aesthetic and perception of her work. This will be done with the objective of investigating how the form evolves in size\, shape\, and style. She proposes using a variety of materials that extend beyond her current use of earthenware clay\, experimenting with plaster\, fabric\, and air-dry clay to allow for discovery of how the materials impact the perception of the vessels. This exploration will allow her to assess if the new materials elevate or challenge the success of her original design.
URL:https://vpa.uncg.edu/single-event/summer-studios-arts-on-site-the-gps-student-artist-residency-program-2/
LOCATION:Greensboro Project Space\, 111 E February 1 Pl\, Greensboro\, NC 27406\, USA
CATEGORIES:College of Visual and Performing Arts,Greensboro Project Space,School of Art
ATTACH;FMTTYPE=image/png:https://vpa.uncg.edu/wp-content/uploads/2025/07/Summer-Studios-Residency-Cohorts-2025.png
END:VEVENT
END:VCALENDAR