BEGIN:VCALENDAR
VERSION:2.0
PRODID:-//College of Visual and Performing Arts - ECPv6.15.20//NONSGML v1.0//EN
CALSCALE:GREGORIAN
METHOD:PUBLISH
X-WR-CALNAME:College of Visual and Performing Arts
X-ORIGINAL-URL:https://vpa.uncg.edu
X-WR-CALDESC:Events for College of Visual and Performing Arts
REFRESH-INTERVAL;VALUE=DURATION:PT1H
X-Robots-Tag:noindex
X-PUBLISHED-TTL:PT1H
BEGIN:VTIMEZONE
TZID:America/New_York
BEGIN:DAYLIGHT
TZOFFSETFROM:-0500
TZOFFSETTO:-0400
TZNAME:EDT
DTSTART:20230312T070000
END:DAYLIGHT
BEGIN:STANDARD
TZOFFSETFROM:-0400
TZOFFSETTO:-0500
TZNAME:EST
DTSTART:20231105T060000
END:STANDARD
BEGIN:DAYLIGHT
TZOFFSETFROM:-0500
TZOFFSETTO:-0400
TZNAME:EDT
DTSTART:20240310T070000
END:DAYLIGHT
BEGIN:STANDARD
TZOFFSETFROM:-0400
TZOFFSETTO:-0500
TZNAME:EST
DTSTART:20241103T060000
END:STANDARD
BEGIN:DAYLIGHT
TZOFFSETFROM:-0500
TZOFFSETTO:-0400
TZNAME:EDT
DTSTART:20250309T070000
END:DAYLIGHT
BEGIN:STANDARD
TZOFFSETFROM:-0400
TZOFFSETTO:-0500
TZNAME:EST
DTSTART:20251102T060000
END:STANDARD
END:VTIMEZONE
BEGIN:VEVENT
DTSTART;TZID=America/New_York:20241126T173000
DTEND;TZID=America/New_York:20241126T190000
DTSTAMP:20260422T001236
CREATED:20241104T211050Z
LAST-MODIFIED:20241113T190246Z
UID:10002016-1732642200-1732647600@vpa.uncg.edu
SUMMARY:Yifan Shen\, piano
DESCRIPTION:https://youtube.com/live/lmUcDGJ3h5k?feature=share\n\n\n\n\n\nDownload Program
URL:https://vpa.uncg.edu/single-event/yifan-shen-piano/
LOCATION:Tew Recital Hall\, 100 McIver St\, Greensboro\, 27412\, United States
CATEGORIES:School of Music
END:VEVENT
BEGIN:VEVENT
DTSTART;TZID=America/New_York:20241126T193000
DTEND;TZID=America/New_York:20241126T210000
DTSTAMP:20260422T001236
CREATED:20241104T211905Z
LAST-MODIFIED:20241104T211907Z
UID:10002017-1732649400-1732654800@vpa.uncg.edu
SUMMARY:Enshi Li\, violin
DESCRIPTION:https://youtube.com/live/0Teh_KKaYl8?feature=share\n\n\n\n\n\nDownload Program
URL:https://vpa.uncg.edu/single-event/enshi-li-violin/
LOCATION:Tew Recital Hall\, 100 McIver St\, Greensboro\, 27412\, United States
CATEGORIES:School of Music
END:VEVENT
END:VCALENDAR