BEGIN:VCALENDAR
VERSION:2.0
PRODID:-//College of Visual and Performing Arts - ECPv6.15.20//NONSGML v1.0//EN
CALSCALE:GREGORIAN
METHOD:PUBLISH
X-WR-CALNAME:College of Visual and Performing Arts
X-ORIGINAL-URL:https://vpa.uncg.edu
X-WR-CALDESC:Events for College of Visual and Performing Arts
REFRESH-INTERVAL;VALUE=DURATION:PT1H
X-Robots-Tag:noindex
X-PUBLISHED-TTL:PT1H
BEGIN:VTIMEZONE
TZID:America/New_York
BEGIN:DAYLIGHT
TZOFFSETFROM:-0500
TZOFFSETTO:-0400
TZNAME:EDT
DTSTART:20230312T070000
END:DAYLIGHT
BEGIN:STANDARD
TZOFFSETFROM:-0400
TZOFFSETTO:-0500
TZNAME:EST
DTSTART:20231105T060000
END:STANDARD
BEGIN:DAYLIGHT
TZOFFSETFROM:-0500
TZOFFSETTO:-0400
TZNAME:EDT
DTSTART:20240310T070000
END:DAYLIGHT
BEGIN:STANDARD
TZOFFSETFROM:-0400
TZOFFSETTO:-0500
TZNAME:EST
DTSTART:20241103T060000
END:STANDARD
BEGIN:DAYLIGHT
TZOFFSETFROM:-0500
TZOFFSETTO:-0400
TZNAME:EDT
DTSTART:20250309T070000
END:DAYLIGHT
BEGIN:STANDARD
TZOFFSETFROM:-0400
TZOFFSETTO:-0500
TZNAME:EST
DTSTART:20251102T060000
END:STANDARD
END:VTIMEZONE
BEGIN:VEVENT
DTSTART;TZID=America/New_York:20240903T120000
DTEND;TZID=America/New_York:20240907T200000
DTSTAMP:20260419T125306
CREATED:20240902T033041Z
LAST-MODIFIED:20240902T033554Z
UID:10001152-1725364800-1725739200@vpa.uncg.edu
SUMMARY:BIG PRINT: Steamroller Block Party Art Exhibition
DESCRIPTION:UNCG BIG PRINT: \n\n\n\nSteamroller Block Party  \n\n\n\n\nExhibition by UNCG Students\, Faculty\, and Printmaking Community \n\n\n\n \n\n\n\nSeptember 3 – 7\, 2024\n\n\n\nReception: Wednesday September 4th | 5-7p\n\n\n\n \n\n\n\nMore About UNCG BIG PRINT  \n\n\n\nAt the first annual UNCG Steamroller Big Block Prints event\, a team of printmaking students and faculty from around North Carolina joined together to help print giant 4’x6′ relief carved woodblocks\, using a steamroller as our portable printing press! These large format prints require a community to make it all happen! \n\n\n\nRelief printing is a process where the carved areas of a woodblock become negative space and the remaining ‘raised’ areas are inked and printed onto paper or fabric – it is the oldest method in printmaking.  \n\n\n\n \n\n\n\nContributing Artists\n\n\n\nTopher Alexander \n\n\n\nChristopher Thomas \n\n\n\nDerek Toomes \n\n\n\n Ben Billingsley (Cape Fear Community College) \n\n\n\nAnnabelle Puttbach (Cape Fear Community College) \n\n\n\nRowan Cabarrus Community College \n\n\n\n& UNCG “Print 2” Students (Spring 2024): \n\n\n\nAmya Harrison \n\n\n\nBrandon Cureton \n\n\n\nLucio Palmer \n\n\n\nChloe Jeffers \n\n\n\nCynthia Pena Galdamez \n\n\n\nEmily Ferrell \n\n\n\nGuila Evangelista \n\n\n\nHayden Robinson \n\n\n\nJenni Garcia \n\n\n\nKaylynn Koontz \n\n\n\nLaura Hernandez \n\n\n\nMadison Miller \n\n\n\nMarie McGuffey \n\n\n\nMargo Ha \n\n\n\nPeyton Rollins \n\n\n\nConstantine Schuster \n\n\n\nSupreet Kaur \n\n\n\nZaria Watson-Bousfield \n\n\n\nAdia Carter \n\n\n\nAlexis Vang \n\n\n\nAmiah Jones \n\n\n\nJudith Briand \n\n\n\nLaiba Siddique \n\n\n\nLuz Borrayo \n\n\n\nMay Aye \n\n\n\nSofia Aguilar \n\n\n\nTrinity Donnelly \n\n\n\nZaire Miles-Moultrie \n\n\n\n\n \n\n\n\nGreensboro Project Space Weekly Gallery Hours: \n\n\n\nTuesday – Thursday\, 12 -5 PM \n\n\n\nFriday\, 12-8PM \n\n\n\nSaturday\, 2-8PM
URL:https://vpa.uncg.edu/single-event/big-print-steamroller-block-party-art-exhibition/
CATEGORIES:College of Visual and Performing Arts,Greensboro Project Space,School of Art
ATTACH;FMTTYPE=image/jpeg:https://vpa.uncg.edu/wp-content/uploads/2024/09/Big-Block-Print-Show_8.5x11_Sept-24-scaled.jpg
ORGANIZER;CN="Greensboro Project Space":MAILTO:greensboroprojectspace@gmail.com
END:VEVENT
END:VCALENDAR