BEGIN:VCALENDAR
VERSION:2.0
PRODID:-//College of Visual and Performing Arts - ECPv6.15.20//NONSGML v1.0//EN
CALSCALE:GREGORIAN
METHOD:PUBLISH
X-WR-CALNAME:College of Visual and Performing Arts
X-ORIGINAL-URL:https://vpa.uncg.edu
X-WR-CALDESC:Events for College of Visual and Performing Arts
REFRESH-INTERVAL;VALUE=DURATION:PT1H
X-Robots-Tag:noindex
X-PUBLISHED-TTL:PT1H
BEGIN:VTIMEZONE
TZID:America/New_York
BEGIN:DAYLIGHT
TZOFFSETFROM:-0500
TZOFFSETTO:-0400
TZNAME:EDT
DTSTART:20230312T070000
END:DAYLIGHT
BEGIN:STANDARD
TZOFFSETFROM:-0400
TZOFFSETTO:-0500
TZNAME:EST
DTSTART:20231105T060000
END:STANDARD
BEGIN:DAYLIGHT
TZOFFSETFROM:-0500
TZOFFSETTO:-0400
TZNAME:EDT
DTSTART:20240310T070000
END:DAYLIGHT
BEGIN:STANDARD
TZOFFSETFROM:-0400
TZOFFSETTO:-0500
TZNAME:EST
DTSTART:20241103T060000
END:STANDARD
BEGIN:DAYLIGHT
TZOFFSETFROM:-0500
TZOFFSETTO:-0400
TZNAME:EDT
DTSTART:20250309T070000
END:DAYLIGHT
BEGIN:STANDARD
TZOFFSETFROM:-0400
TZOFFSETTO:-0500
TZNAME:EST
DTSTART:20251102T060000
END:STANDARD
END:VTIMEZONE
BEGIN:VEVENT
DTSTART;TZID=America/New_York:20240418T193000
DTEND;TZID=America/New_York:20240418T210000
DTSTAMP:20260423T184941
CREATED:20240130T165049Z
LAST-MODIFIED:20240627T120823Z
UID:10001064-1713468600-1713474000@vpa.uncg.edu
SUMMARY:Wind Ensemble • Courtney Miller\, oboe
DESCRIPTION:DOWNLOAD PROGRAMPROGRAM NOTES AND BIOS\nJonathan Caldwell\, conductor\nCourtney Miller\, oboe\nDustin Barr\, guest conductor\nKristin Arp\, graduate conductor \n\nSCHUMAN\nChester \nCONTRERAS\nMariachitlán \nZARE\nOcean of Undiscovered Truth (consortium premiere) \nBALLARD\nDances of the Nighthawk Keetowah \nSHOSTAKOVICH\nFolk Dances \n  \n \n\nThe importance of philanthropy has never been greater. Please consider a gift to the School of Music to support our mission and ensure the future of music at UNCG. \n   \n\n\n\n\n \nDr. Courtney Miller is the oboe professor at UNC Greensboro where she teaches oboe\, chamber music\, and reed classes. Prior to her position at the UNCG\, she served on faculty at the University of Iowa\, Boston College in Massachusetts\, and Ashland University in Ohio. During the summers Dr. Miller performs and teaches at Lutheran Summer Music in Indiana and the UNCG Summer Music Camp.  \nA highly regarded performer and pedagogue\, Dr. Miller tours as a soloist\, chamber musician\, and teacher throughout the United States\, Europe\, Asia\, and South America. An experienced orchestral musician\, Miller has performed in many orchestras up-and-down the east coast of the United States from the Jacksonville Symphony in Florida to the Portland Symphony in Maine. She now performs regularly with Orchestra Iowa\, the Quad City Symphony Orchestra\, Waterloo-Cedar Falls Symphony\, and the Dubuque Symphony Orchestra. \nDr. Miller is a versatile artist devoted to performing established repertoire as well as new compositions and lesser-known works. Her 2019 album Portuguese Perspectives introduces a collection of world-premiere recordings for the oboe by Portuguese composers and includes several new commissions by Miller. This album and her 2015 release Modern Fairy Tales are readily available on iTunes\, Amazon\, and Spotify. American Record Guide praises her “seamless consistency in the various registers of the oboe…and sensitive phrasing and articulation.” Fanfare Magazine hails Courtney Miller as “a performer of considerable skill\, with an unfailingly lovely sound\, abundant technical ability\, and a special gift for turning notes into poetry.”   \nIn addition to collaborations within the field of music\, Dr Miller has a flair for interdisciplinary work. She has collaborated with hip-hop dancer Ernest “EKnock” Phillips; belly-dancer Janelle Issis; and most recently choreographer and dancer Kristin Marrs at University of Iowa. Since 2016\, Marrs and Miller have performed in many concerts featuring oboe and dancer and have toured together throughout the United States. Perhaps her most daring collaboration yet is Psionic\, which explores interactive movement data between oboist and computer through a live stream of EEG data with composer Christopher Jette; printmaker Terry Conrad; and digital media designer Daniel Fine.  \nDr. Miller has authored scholarly articles pertaining to the English horn’s role in the orchestra and Charles Loeffler’s Deux Rhapsodies for oboe\, viola and piano published respectively in the Double Reed Journal and the Journal of the American Viola Society. She has also presented recitals and papers at the College Music Society’s Northeast Regional Conference. Dr. Miller performs recitals regularly at the International Double Reed Society’s annual conferences. In 2017 she was a featured artist at the first international conference of the Associação Brasileira de Palhetas Duplas (Brazilian Double Reed Society or ABPD). \nCourtney Miller has a Doctor of Musical Arts from Boston University\, a Master of Music from Cleveland Institute of Music\, and a Bachelor of Music from Florida State University. Her primary teachers include John Ferrillo\, John Mack\, and Eric Ohlsson.  \nDr. Miller serves as 1st Vice President of the Midwest Double Reed Society and is a member of the International Double Reed Society\, the College Music Society\, and Sigma Alpha Iota. Courtney Miller is a Lorée Artist.
URL:https://vpa.uncg.edu/single-event/wind-ensemble-courtney-miller-oboe/
LOCATION:UNCG Auditorium\, 408 Tate Street\, Greensboro\, NC\, 27412\, United States
CATEGORIES:CVPA Live!,School of Music
ATTACH;FMTTYPE=image/jpeg:https://vpa.uncg.edu/wp-content/uploads/2024/01/wind-ensemble-header-1lZH0v.tmp_.jpg
ORGANIZER;CN="UNCG Auditorium-1-CVPA &#8211%3B Master (2000)":MAILTO:uncg.edu_3736303334383835333332@resource.calendar.google.com
END:VEVENT
END:VCALENDAR