BEGIN:VCALENDAR
VERSION:2.0
PRODID:-//College of Visual and Performing Arts - ECPv6.15.20//NONSGML v1.0//EN
CALSCALE:GREGORIAN
METHOD:PUBLISH
X-WR-CALNAME:College of Visual and Performing Arts
X-ORIGINAL-URL:https://vpa.uncg.edu
X-WR-CALDESC:Events for College of Visual and Performing Arts
REFRESH-INTERVAL;VALUE=DURATION:PT1H
X-Robots-Tag:noindex
X-PUBLISHED-TTL:PT1H
BEGIN:VTIMEZONE
TZID:America/New_York
BEGIN:DAYLIGHT
TZOFFSETFROM:-0500
TZOFFSETTO:-0400
TZNAME:EDT
DTSTART:20230312T070000
END:DAYLIGHT
BEGIN:STANDARD
TZOFFSETFROM:-0400
TZOFFSETTO:-0500
TZNAME:EST
DTSTART:20231105T060000
END:STANDARD
BEGIN:DAYLIGHT
TZOFFSETFROM:-0500
TZOFFSETTO:-0400
TZNAME:EDT
DTSTART:20240310T070000
END:DAYLIGHT
BEGIN:STANDARD
TZOFFSETFROM:-0400
TZOFFSETTO:-0500
TZNAME:EST
DTSTART:20241103T060000
END:STANDARD
BEGIN:DAYLIGHT
TZOFFSETFROM:-0500
TZOFFSETTO:-0400
TZNAME:EDT
DTSTART:20250309T070000
END:DAYLIGHT
BEGIN:STANDARD
TZOFFSETFROM:-0400
TZOFFSETTO:-0500
TZNAME:EST
DTSTART:20251102T060000
END:STANDARD
END:VTIMEZONE
BEGIN:VEVENT
DTSTART;TZID=America/New_York:20240221T090000
DTEND;TZID=America/New_York:20240221T160000
DTSTAMP:20260420T143847
CREATED:20240130T164859Z
LAST-MODIFIED:20240130T164859Z
UID:10000965-1708506000-1708531200@vpa.uncg.edu
SUMMARY:The Gatewood Gallery Presents: Elizabeth Stone – I Remember
DESCRIPTION:February 7 – March 15\, 2024\nElizabeth Stone: I Remember\nA multi-generational community based project.\nOpening Reception Feb. 7 @ 4pm with Artist Talk
URL:https://vpa.uncg.edu/single-event/the-gatewood-gallery-presents-elizabeth-stone-i-remember-11/
LOCATION:Gatewood Studio Arts Center\, 527 Highland Ave\, Greensboro\, NC 27412\, USA\, 527 Highland Ave\, Greensboro\, 27412\, United States
CATEGORIES:College of Visual and Performing Arts,School of Art
END:VEVENT
BEGIN:VEVENT
DTSTART;TZID=America/New_York:20240221T193000
DTEND;TZID=America/New_York:20240221T210000
DTSTAMP:20260420T143847
CREATED:20240130T164911Z
LAST-MODIFIED:20240130T164911Z
UID:10001003-1708543800-1708549200@vpa.uncg.edu
SUMMARY:New Music Quartet • Guest Artist Recital
DESCRIPTION:DOWNLOAD PROGRAM\n  \n \n\nThe importance of philanthropy has never been greater. Please consider a gift to the School of Music to support our mission and ensure the future of music at UNCG.
URL:https://vpa.uncg.edu/single-event/new-music-quartet-guest-artist-recital/
LOCATION:Tew Recital Hall\, 100 McIver St\, Greensboro\, 27412\, United States
CATEGORIES:College of Visual and Performing Arts,School of Music
ORGANIZER;CN="Music Bldg-1-CVPA &#8211%3B Recital Hall (350)":MAILTO:uncg.edu_38393931303333362d313837@resource.calendar.google.com
END:VEVENT
END:VCALENDAR